BEGIN:VCALENDAR
VERSION:2.0
PRODID:-//Denní medievista - ECPv6.15.20//NONSGML v1.0//EN
CALSCALE:GREGORIAN
METHOD:PUBLISH
X-ORIGINAL-URL:https://medievista.cz
X-WR-CALDESC:Akce na Denní medievista
REFRESH-INTERVAL;VALUE=DURATION:PT1H
X-Robots-Tag:noindex
X-PUBLISHED-TTL:PT1H
BEGIN:VTIMEZONE
TZID:Europe/Prague
BEGIN:DAYLIGHT
TZOFFSETFROM:+0100
TZOFFSETTO:+0200
TZNAME:CEST
DTSTART:20210328T010000
END:DAYLIGHT
BEGIN:STANDARD
TZOFFSETFROM:+0200
TZOFFSETTO:+0100
TZNAME:CET
DTSTART:20211031T010000
END:STANDARD
BEGIN:DAYLIGHT
TZOFFSETFROM:+0100
TZOFFSETTO:+0200
TZNAME:CEST
DTSTART:20220327T010000
END:DAYLIGHT
BEGIN:STANDARD
TZOFFSETFROM:+0200
TZOFFSETTO:+0100
TZNAME:CET
DTSTART:20221030T010000
END:STANDARD
BEGIN:DAYLIGHT
TZOFFSETFROM:+0100
TZOFFSETTO:+0200
TZNAME:CEST
DTSTART:20230326T010000
END:DAYLIGHT
BEGIN:STANDARD
TZOFFSETFROM:+0200
TZOFFSETTO:+0100
TZNAME:CET
DTSTART:20231029T010000
END:STANDARD
END:VTIMEZONE
BEGIN:VEVENT
DTSTART;TZID=Europe/Prague:20220430T080000
DTEND;TZID=Europe/Prague:20220430T170000
DTSTAMP:20260426T014421
CREATED:20220223T185342Z
LAST-MODIFIED:20220223T185342Z
UID:10001607-1651305600-1651338000@medievista.cz
SUMMARY:CfP: Dějiny starého hornictví a hutnictví od pravěku do novověku
DESCRIPTION:Muzeum Vysočiny Jihlava\, p. o. a partneři si vás dovolují pozvat na mezinárodní konferenci Stříbrná Jihlava 2022\, která se uskuteční ve dnech 29. 9. – 1. 10. 2022 (čtvrtek až sobota) v kongresovém sále budovy B Krajského úřadu Kraje Vysočina\, Žižkova ul. č. 57\, Jihlava. \nZáštitu konferenci udělil hejtman Kraje Vysočina Vítězslav Schrek \nTéma konference: \nDějiny starého hornictví a hutnictví od pravěku do novověku \nNa konferenci budou přijímány příspěvky těchto tematických okruhů: \n\nhistorie báňských regionů v Evropě\nmontánní archeologie\nprůzkum\, zaměřování a mapování historických dolů (do 18. století)\, virtuální modelování montánních památek\ngeologie – mineralogie s vazbou na těžbu nerostných surovin\nnumizmatika s vazbou na těžbu nerostných surovin\nochrana montánních památek – památková péče\nprezentace montánních památek – expozice\n\nJazyky konference: angličtina – čeština – slovenština \nKontakt: \nSylva Pospíchalová\nMuzeum Vysočiny Jihlava\, p. o.\nMasarykovo náměstí 55\n586 01 Jihlava\nstribrnajihlava@muzeum.ji.cz \nPřihlášky včetně abstraktu posílejte na adresu: stribrnajihlava@muzeum.ji.cz do 30. 4. 2022 nebo poštou na adresu: Muzeum Vysočiny Jihlava\, p. o. Sylva Pospíchalová Masarykovo náměstí 55 586 01 Jihlava \nÚčastnický poplatek na zajištění občerstvení a dopravy 500\,- Kč (studenti a důchodci 200\,- Kč) bude vybírán při prezenci.
URL:https://medievista.cz/akce/cfp-dejiny-stareho-hornictvi-a-hutnictvi-od-praveku-do-novoveku/
LOCATION:Jihlava\, Jihlava
CATEGORIES:Call for papers,Vše
END:VEVENT
BEGIN:VEVENT
DTSTART;TZID=Europe/Prague:20220430T080000
DTEND;TZID=Europe/Prague:20220430T170000
DTSTAMP:20260426T014421
CREATED:20220223T203256Z
LAST-MODIFIED:20220223T203256Z
UID:10001608-1651305600-1651338000@medievista.cz
SUMMARY:CfP: Construction and Reconstruction in Medieval Urban Europe
DESCRIPTION:
URL:https://medievista.cz/akce/cfp-construction-and-reconstruction-in-medieval-urban-europe/
LOCATION:Castelo de Vide\, Castelo de Vide\, Portugalsko
CATEGORIES:Call for papers,Vše
ATTACH;FMTTYPE=image/jpeg:https://medievista.cz/wp-content/uploads/2022/02/Call_Jornadas2022_EN.jpg
END:VEVENT
BEGIN:VEVENT
DTSTART;TZID=Europe/Prague:20220430T080000
DTEND;TZID=Europe/Prague:20220430T170000
DTSTAMP:20260426T014421
CREATED:20220418T154801Z
LAST-MODIFIED:20220418T154844Z
UID:10001620-1651305600-1651338000@medievista.cz
SUMMARY:CfA: September Summer School in Medieval Studies
DESCRIPTION:Crisis & Transition in Late Medieval Central Europe: Politics – Religion – Environment\nThe organizers invite Ph.D. students to apply for a five-day September School in Medieval Studies that will explore the phenomenon of the so-called „Crisis of the Late Middle Ages“ in a Central European context from the perspective of political\, environmental\, and religious history. \nSociety tends to be sensitive to indications of crisis at a time when the political situation is shaken and a general sense of insecurity spreads. This is also true for the so-called crisis of the Late Middle Ages. The September School on „Crisis & Transition in Late Medieval Central Europe“ suggests analysing the correlation between the perception of crisis by individuals and social groups\, objective economic (crop failures\, dearth\, famine)\, biological (epidemics)\, and environmental indicators (extreme weather events\, climatic change)\, and the ‚public‘ discourse in which the situation is reflected. In this way\, the Summer School attempts to replace a separate consideration of these aspects\, which has long characterized Central European research on the crisis of the late Middle Ages\, with an integrative approach that assumes an interlocking of political\, religious\, and economic spheres and their interaction with natural conditions. \nThis intensive five-day course for Ph.D. students in medieval studies will introduce the participants to the topic through working with sources and discussing the relevant historiography from all three mentioned fields of research on politics\, religious and environmental phenomena. Our participants will learn about the existing approaches to the late medieval crisis. Based on their own reading and interpretation of the sources\, followed by joint discussion\, they will gain a deeper understanding of the methodological possibilities of investigating socio-political\, cultural\, and environmental phenomena of the Late Middle Ages. \n\nELIGIBILITY\nThe participants should be Ph.D. students working on the Middle Ages or interested in topics and methods of medieval studies. The language of the school is English (knowledge of Latin\, German and Czech is welcome but not necessary). \nPROGRAMME\nThe 5-day programme includes three input lectures from the organizers\, collaborative work with primary sources\, discussions based on reading of research literature\, a medieval walking tour in Prague\, and a one-day field trip to Erfurt. \nCOSTS\nThe school is free of charge. The organising institutions will cover accommodation in Prague and Leipzig and the transfer in between. We are aiming for a moderate reimbursement of travel expenses to Prague and from Leipzig. \nApplicants should send an abstract of their thesis and a short CV to martin.bauch@leibniz-gwzo.de and soukup@flu.cas.cz\nThe deadline for applications is 30 April 2022. Selection and response before 1 June 2022.
URL:https://medievista.cz/akce/september-summer-school-in-medieval-studies/
LOCATION:Akademické konferenční centrum\, Husova 4a\, Praha\, 11000\, Česká republika
CATEGORIES:Call for papers,Vše
ORGANIZER;CN="Centrum medievistick%C3%BDch studi%C3%AD":MAILTO:cms@flu.cas.cz
GEO:50.0844845;14.4183246
X-APPLE-STRUCTURED-LOCATION;VALUE=URI;X-ADDRESS=Akademické konferenční centrum Husova 4a Praha 11000 Česká republika;X-APPLE-RADIUS=500;X-TITLE=Husova 4a:geo:14.4183246,50.0844845
END:VEVENT
END:VCALENDAR