BEGIN:VCALENDAR
VERSION:2.0
PRODID:-//Denní medievista - ECPv6.15.20//NONSGML v1.0//EN
CALSCALE:GREGORIAN
METHOD:PUBLISH
X-ORIGINAL-URL:https://medievista.cz
X-WR-CALDESC:Akce na Denní medievista
REFRESH-INTERVAL;VALUE=DURATION:PT1H
X-Robots-Tag:noindex
X-PUBLISHED-TTL:PT1H
BEGIN:VTIMEZONE
TZID:Europe/Prague
BEGIN:DAYLIGHT
TZOFFSETFROM:+0100
TZOFFSETTO:+0200
TZNAME:CEST
DTSTART:20210328T010000
END:DAYLIGHT
BEGIN:STANDARD
TZOFFSETFROM:+0200
TZOFFSETTO:+0100
TZNAME:CET
DTSTART:20211031T010000
END:STANDARD
BEGIN:DAYLIGHT
TZOFFSETFROM:+0100
TZOFFSETTO:+0200
TZNAME:CEST
DTSTART:20220327T010000
END:DAYLIGHT
BEGIN:STANDARD
TZOFFSETFROM:+0200
TZOFFSETTO:+0100
TZNAME:CET
DTSTART:20221030T010000
END:STANDARD
BEGIN:DAYLIGHT
TZOFFSETFROM:+0100
TZOFFSETTO:+0200
TZNAME:CEST
DTSTART:20230326T010000
END:DAYLIGHT
BEGIN:STANDARD
TZOFFSETFROM:+0200
TZOFFSETTO:+0100
TZNAME:CET
DTSTART:20231029T010000
END:STANDARD
END:VTIMEZONE
BEGIN:VEVENT
DTSTART;TZID=Europe/Prague:20220815T080000
DTEND;TZID=Europe/Prague:20220815T233000
DTSTAMP:20260425T171440
CREATED:20220607T102542Z
LAST-MODIFIED:20220607T102723Z
UID:10001642-1660550400-1660606200@medievista.cz
SUMMARY:CfP: Editing Reconsidered: Editors\, Users and Curators od Medieval Sources in the 21st c.
DESCRIPTION:Critical editions continue to be the primary reference works for scholars of the Middle Ages from various backgrounds. Recent debates in medieval manuscript studies and the growth of the digital community are opening new perspectives for edited and unedited medieval written sources. However\, the dialogue between traditional and digital philology has not yet reached its full potential. Editors of medieval sources have been considered as cultural brokers of medieval studies but they are naturally not alone in the process of knowledge transmission. Their work is greatly influenced by curators of manuscript collections\, while the recipients of the editions\, especially the digital ones\, also shape the knowledge transfer. \nThe 15th century in Europe\, for example\, is considered to be a period of reform impulses that various authors and communities spread through various channels. Authorship attribution and theories of the text\, whose precision or even value was challenged in Minnis’s magisterial contribution (Minnis 1984)\, has gained a new meaning also through advances of modern textual scholarship (e.g. Partridge – Kwakkel 2012). Late medieval textual exchanges\, including the reform ones\, are still a research topic with great potential and dynamic development (Hobbins 2009). \nWe invite medievalists to discuss the challenges faced not only by editors\, but also by recipients of critical editions in the 21st century. Some of these challenges are emerging with new digital technologies (Driscoll – Pierazzo 2016)\, others\, such as the problem of authorship\, have always been linked to scholarly editing. \nThe conference intends to explore more general themes reflecting editorial practices\, techniques and approaches. We invite papers reconsidering a variety of editorial issues\, including\, but not limited to: \n\nreaders and recipients of critical editions\ntheory and practice: the need for general standards applicable to critical editions (philological vs. historical approaches)\nunder-represented authors\, challenges to the concept of single-author models\, multiple authorship\ntextual dynamics in “entangled” texts\nliterary output of the Czech Reformation and its opponents\ntextual responses to reform impulses (especially among religious orders)\ndigital methods for analysing literary texts\ndigital\, print-digital and hybrid editions: expectations\, challenges\, outcomes\ncurating digital editions\nopen access policy and its impact on scholarly editing\n\nProposals for 20-minute papers in English should not exceed 300 words. The conference will be accompanied by a poster session (proposals of max. 200 words). We especially encourage presentations of ongoing editorial projects by early career scholars. All submissions should be sent to brnoconference2022@phil.muni.cz by August 15\, 2022. \nConference organizers: Petra Mutlová\, Libor Švanda\, Lucie Mazalová\, Zuzana Čermáková Lukšová \nReferences:\nMinnis\, Alastair J. Medieval Theory of Authorship. Scholastic Literary Attitudes in the Later Middle Ages. London: Scolar Press\, 1984.\nPartridge\, Stephen B. – Kwakkel\, Erik (ed.). Author\, Reader\, Book. Medieval Authorship in Theory and Practice. Toronto: University of Toronto Press\, 2012.\nHobbins\, Daniel. Authorship and Publicity Before Print. Jean Gerson and the Transformation of Late Medieval Learning. Philadelphia: University of Pennsylvania Press\, 2009.\nDriscoll\, Matthew J. – Pierazzo\, Elena (ed.). Digital Scholarly Editing: Theories and Practices. Cambridge: Open Book Publishers\, 2016.
URL:https://medievista.cz/akce/cfp-editing-reconsidered-editors-users-and-curators-od-medieval-sources-in-the-21st-c/
LOCATION:Filozofická fakulta Masarykovy univerzity\, Arna Nováka 1\, Brno\, 60200
CATEGORIES:Call for papers,Vše
GEO:49.2005491;16.5983999
X-APPLE-STRUCTURED-LOCATION;VALUE=URI;X-ADDRESS=Filozofická fakulta Masarykovy univerzity Arna Nováka 1 Brno 60200;X-APPLE-RADIUS=500;X-TITLE=Arna Nováka 1:geo:16.5983999,49.2005491
END:VEVENT
END:VCALENDAR