BEGIN:VCALENDAR
VERSION:2.0
PRODID:-//Denní medievista - ECPv6.15.20//NONSGML v1.0//EN
CALSCALE:GREGORIAN
METHOD:PUBLISH
X-ORIGINAL-URL:https://medievista.cz
X-WR-CALDESC:Akce na Denní medievista
REFRESH-INTERVAL;VALUE=DURATION:PT1H
X-Robots-Tag:noindex
X-PUBLISHED-TTL:PT1H
BEGIN:VTIMEZONE
TZID:Europe/Prague
BEGIN:DAYLIGHT
TZOFFSETFROM:+0100
TZOFFSETTO:+0200
TZNAME:CEST
DTSTART:20220327T010000
END:DAYLIGHT
BEGIN:STANDARD
TZOFFSETFROM:+0200
TZOFFSETTO:+0100
TZNAME:CET
DTSTART:20221030T010000
END:STANDARD
BEGIN:DAYLIGHT
TZOFFSETFROM:+0100
TZOFFSETTO:+0200
TZNAME:CEST
DTSTART:20230326T010000
END:DAYLIGHT
BEGIN:STANDARD
TZOFFSETFROM:+0200
TZOFFSETTO:+0100
TZNAME:CET
DTSTART:20231029T010000
END:STANDARD
BEGIN:DAYLIGHT
TZOFFSETFROM:+0100
TZOFFSETTO:+0200
TZNAME:CEST
DTSTART:20240331T010000
END:DAYLIGHT
BEGIN:STANDARD
TZOFFSETFROM:+0200
TZOFFSETTO:+0100
TZNAME:CET
DTSTART:20241027T010000
END:STANDARD
END:VTIMEZONE
BEGIN:VEVENT
DTSTART;TZID=Europe/Prague:20230615T080000
DTEND;TZID=Europe/Prague:20230615T170000
DTSTAMP:20260424T225854
CREATED:20230519T122430Z
LAST-MODIFIED:20230519T122539Z
UID:10001714-1686816000-1686848400@medievista.cz
SUMMARY:CfP: 22. zasedání k problematice sepulkrálních památek
DESCRIPTION:Periodické mezinárodní konference k problematice sepulkrálních památek pořádá Ústav dějin umění AV ČR\, v. v. i.\, od roku 2000. Hlavním cílem těchto akcí je umožnit vzájemný kontakt zainteresovaných zástupců všech s danou problematikou souvisejících d isciplín ( dějin umění\, obecných dějin\, pomocných věd historických\, archeologie\, památkové péče\, muzejnictví\, restaurátorské praxe\, petrografie a d.) ve prospěch větší interdisciplinarity a koordinace dosud rozptýleného bádání. Věnují se všem aspektům uvedené problematiky\, preferován je ovšem věcný či metodický vztah ke středoevropskému materiálu a primární věcné či kontextuální zaměření na hmotné sepulkrální památky v užším pojetí. \nKromě běžného programu bude v rámci zasedání samostatný blok\, ve spolupráci s Historickým ústavem AV ČR\, věnován problematice šlechtických pohřebišť v pozdním středověku a raném novověku. Zde uvítáme především příspěvky\, které si všímají regionálních\, nadregionálních i internacionálních vlivů na podobu rodové pohřební tradice u domácích i v Čechách zakoupených cizích  rodů\, stejně tak i příspěvky zaměřené na koncepce rodových nekropolí\, jejich vazbu k rezidencím apod.\, ale i roli rodových nekropolí jakožto ohnisek tradice a paměti. \nPříspěvky zasedání budou publikovány v řadě Epigraphica & Sepulcralia nakladatelství ÚDU AV ČR\, v. v. i.\, Artefactum. \nVyzýváme tímto zájemce o aktivní účast k zaslání návrhu příspěvku (název\, stručné resumé). Délka vystoupení se předpokládá 20 minut\, přihlásit lze rovněž zprávy v trvání max. 10 minut a postery. \nNávrhy posílejte prosím do 15. června 2023 na adresu rohacek@udu.cas.cz. Zde zodpovíme i případné dotazy.
URL:https://medievista.cz/akce/cfp-22-zasedani-k-problematice-sepulkralnich-pamatek/
CATEGORIES:Call for papers,Vše
END:VEVENT
BEGIN:VEVENT
DTSTART;TZID=Europe/Prague:20230630T080000
DTEND;TZID=Europe/Prague:20230630T170000
DTSTAMP:20260424T225854
CREATED:20230531T160107Z
LAST-MODIFIED:20230531T161414Z
UID:10001723-1688112000-1688144400@medievista.cz
SUMMARY:CfP: Arbiter\, arbitrator\, or compositor amicabilis
DESCRIPTION:The somewhat simplistic characterization of medieval arbitration prompts a general reflection\non its development in legal handbooks\, normative texts\, and diplomatic sources. Tracing\nthe practice of arbitration is a priority\, as it evolved and changed in parallel with the norm but\nis not always easy to reconstruct. To aid in this endeavour\, the following sub-questions are\nhelpful: How does the diplomatic material reflect the arbitration process\, and what documents\nwere produced during arbitration and what was their role? What procedural rules and principles\ngoverned arbitration at a particular time and in a specific setting? Who could serve as an\narbitrator\, and what types of disputes could the arbitrator decide? What elements had to be\nincluded in the arbitrator‘s award? How did the contemporary terminology used in arbitration\ndiffer among national and legal systems?\nThe upcoming international workshop offers a forum for discussion among historians\, legal\nhistorians\, philologists\, and other interested scholars.\nThe range of topics that may be considered in papers includes:\n1. Arbitration through the lens of legal theory:\na. Arbitration in Classical and Justinian’s Roman Law\nb. Arbitration in the works of medieval Roman law schools (glossators\,\ncommentators\, etc.)\nc. Arbitration in Canon Law\nd. Arbitration in the particularistic legal orders (provincial law\, municipal law\,\ncanon law\, etc.)\n2. Reflections on arbitration in pragmatic writings:\na. Agenda of the arbitral tribunal\nb. Arbitration documents from a diplomatic and legal perspective\nc. Terminology and its evolution (arbiter\, arbitrator\, compositor amicabilis\,\nubrmani\, hadčí\, etc.)\n3. Arbitration in practice:\na. The person and competence of the arbitrator\nb. Subject-matter\, personal\, and local jurisdiction\nc. The various stages of arbitration\nd. Arbitration from the perspective of jurisdictional disputes\ne. Reconstruction of specific cases (analysis of awards and other documents)\nf. Normative anchoring of arbitration and its (in)acceptance in practice.\nImportant dates and guide for participants:\nThe workshop is scheduled to take place on the 4th to 6th December 2023 and will be hosted\nat the Faculty of Arts of Masaryk University in Brno. The presentations and discussions\nwill be conducted in English. The papers will be published in a monothematic issue of Studia\nhistorica Brunensia (database ERIH +).\nThe deadline to submit abstracts (including your name\, email and affiliation) is June 30th\,\n2023. The abstracts should be no longer than 300 words. Notification of acceptance: July\n30th\, 2023. We will contact you about the acceptance of the paper and further details.\nTo submit your abstracts\, please send to: bar@phil.muni.cz. Do not hesitate to contact us\nwith any inquiries regarding the workshop program.\nOrganising committee:\nMgr. et Mgr. Lenka Šmídová Malárová\, Ph.D (smidova.malarova@mail.muni.cz)\nMgr. Lukáš Führer\, Ph.D (lukas.fuhrer@phil.muni.cz)\nMgr. Přemysl Bar\, Ph.D (bar@phil.muni.cz)\nDepartment of Auxiliary Historical Sciences and Archive Studies\nFaculty of Arts\, Masaryk University\, Brno
URL:https://medievista.cz/akce/cfp-arbiter-arbitrator-or-compositor-amicabilis/
LOCATION:Filozofická fakulta Masarykovy univerzity\, Arna Nováka 1\, Brno\, 60200
CATEGORIES:Call for papers,Vše
ATTACH;FMTTYPE=image/png:https://medievista.cz/wp-content/uploads/2023/05/cfp_brno.png
ORGANIZER;CN="%C3%9Astav pomocn%C3%BDch v%C4%9Bd historick%C3%BDch  a archivnictv%C3%AD FF MU":MAILTO:barova@phil.muni.cz
GEO:49.2005491;16.5983999
X-APPLE-STRUCTURED-LOCATION;VALUE=URI;X-ADDRESS=Filozofická fakulta Masarykovy univerzity Arna Nováka 1 Brno 60200;X-APPLE-RADIUS=500;X-TITLE=Arna Nováka 1:geo:16.5983999,49.2005491
END:VEVENT
END:VCALENDAR