BEGIN:VCALENDAR
VERSION:2.0
PRODID:-//Denní medievista - ECPv6.15.20//NONSGML v1.0//EN
CALSCALE:GREGORIAN
METHOD:PUBLISH
X-ORIGINAL-URL:https://medievista.cz
X-WR-CALDESC:Akce na Denní medievista
REFRESH-INTERVAL;VALUE=DURATION:PT1H
X-Robots-Tag:noindex
X-PUBLISHED-TTL:PT1H
BEGIN:VTIMEZONE
TZID:Europe/Prague
BEGIN:DAYLIGHT
TZOFFSETFROM:+0100
TZOFFSETTO:+0200
TZNAME:CEST
DTSTART:20230326T010000
END:DAYLIGHT
BEGIN:STANDARD
TZOFFSETFROM:+0200
TZOFFSETTO:+0100
TZNAME:CET
DTSTART:20231029T010000
END:STANDARD
BEGIN:DAYLIGHT
TZOFFSETFROM:+0100
TZOFFSETTO:+0200
TZNAME:CEST
DTSTART:20240331T010000
END:DAYLIGHT
BEGIN:STANDARD
TZOFFSETFROM:+0200
TZOFFSETTO:+0100
TZNAME:CET
DTSTART:20241027T010000
END:STANDARD
BEGIN:DAYLIGHT
TZOFFSETFROM:+0100
TZOFFSETTO:+0200
TZNAME:CEST
DTSTART:20250330T010000
END:DAYLIGHT
BEGIN:STANDARD
TZOFFSETFROM:+0200
TZOFFSETTO:+0100
TZNAME:CET
DTSTART:20251026T010000
END:STANDARD
END:VTIMEZONE
BEGIN:VEVENT
DTSTART;VALUE=DATE:20240401
DTEND;VALUE=DATE:20240402
DTSTAMP:20260420T073654
CREATED:20231122T090548Z
LAST-MODIFIED:20231122T090548Z
UID:10001748-1711929600-1712015999@medievista.cz
SUMMARY:Call for Papers - Character Construction in Byzantium\, Prague
DESCRIPTION:
URL:https://medievista.cz/akce/call-for-papers-character-construction-in-byzantium-prague/
CATEGORIES:Call for papers,Vše
ORGANIZER;CN="Slovansk%C3%BD %C3%BAstav AV %C4%8CR%2C v.v.i.":MAILTO:dynda@slu.cas.cz
END:VEVENT
BEGIN:VEVENT
DTSTART;VALUE=DATE:20240402
DTEND;VALUE=DATE:20240403
DTSTAMP:20260420T073654
CREATED:20240202T132134Z
LAST-MODIFIED:20240202T132134Z
UID:10001761-1712016000-1712102399@medievista.cz
SUMMARY:Call for Papers - Courtly Experience in the Premodern World\, c. 1200-1800
DESCRIPTION:
URL:https://medievista.cz/akce/call-for-papers-courtly-experience-in-the-premodern-world-c-1200-1800/
CATEGORIES:Call for papers
ORGANIZER;CN="Filozofick%C3%A1 fakulta Univerzita Palack%C3%A9ho v Olomouci":MAILTO:dekan.ff@upol.cz
END:VEVENT
BEGIN:VEVENT
DTSTART;VALUE=DATE:20240415
DTEND;VALUE=DATE:20240416
DTSTAMP:20260420T073654
CREATED:20240307T154620Z
LAST-MODIFIED:20240307T154620Z
UID:10001776-1713139200-1713225599@medievista.cz
SUMMARY:Call for Papers: Interregionale Mobilität in Mitteleuropa: Personen\, Ideen und Gegenstände (14.-15. Jh.)
DESCRIPTION:
URL:https://medievista.cz/akce/call-for-papers-interregionale-mobilitat-in-mitteleuropa-personen-ideen-und-gegenstande-14-15-jh/
CATEGORIES:Call for papers,Vše
ORGANIZER;CN="Centrum medievistick%C3%BDch studi%C3%AD":MAILTO:cms@flu.cas.cz
END:VEVENT
BEGIN:VEVENT
DTSTART;VALUE=DATE:20240430
DTEND;VALUE=DATE:20240501
DTSTAMP:20260420T073654
CREATED:20240411T135657Z
LAST-MODIFIED:20240411T135657Z
UID:10001785-1714435200-1714521599@medievista.cz
SUMMARY:Call for Participants - 2ND SEPTEMBER SCHOOL IN MEDIEVAL STUDIES (PRAGUE – LEIPZIG) FOR PHD STUDENTS.
DESCRIPTION:
URL:https://medievista.cz/akce/call-for-participants-2nd-september-school-in-medieval-studies-prague-leipzig-for-phd-students/
CATEGORIES:Call for papers,Doktorandské,Vše
ORGANIZER;CN="Centrum medievistick%C3%BDch studi%C3%AD":MAILTO:cms@flu.cas.cz
END:VEVENT
END:VCALENDAR