BEGIN:VCALENDAR
VERSION:2.0
PRODID:-//Denní medievista - ECPv6.15.20//NONSGML v1.0//EN
CALSCALE:GREGORIAN
METHOD:PUBLISH
X-WR-CALNAME:Denní medievista
X-ORIGINAL-URL:https://medievista.cz
X-WR-CALDESC:Akce na Denní medievista
REFRESH-INTERVAL;VALUE=DURATION:PT1H
X-Robots-Tag:noindex
X-PUBLISHED-TTL:PT1H
BEGIN:VTIMEZONE
TZID:Europe/Prague
BEGIN:DAYLIGHT
TZOFFSETFROM:+0100
TZOFFSETTO:+0200
TZNAME:CEST
DTSTART:20210328T010000
END:DAYLIGHT
BEGIN:STANDARD
TZOFFSETFROM:+0200
TZOFFSETTO:+0100
TZNAME:CET
DTSTART:20211031T010000
END:STANDARD
BEGIN:DAYLIGHT
TZOFFSETFROM:+0100
TZOFFSETTO:+0200
TZNAME:CEST
DTSTART:20220327T010000
END:DAYLIGHT
BEGIN:STANDARD
TZOFFSETFROM:+0200
TZOFFSETTO:+0100
TZNAME:CET
DTSTART:20221030T010000
END:STANDARD
BEGIN:DAYLIGHT
TZOFFSETFROM:+0100
TZOFFSETTO:+0200
TZNAME:CEST
DTSTART:20230326T010000
END:DAYLIGHT
BEGIN:STANDARD
TZOFFSETFROM:+0200
TZOFFSETTO:+0100
TZNAME:CET
DTSTART:20231029T010000
END:STANDARD
END:VTIMEZONE
BEGIN:VEVENT
DTSTART;TZID=Europe/Prague:20220203T090000
DTEND;TZID=Europe/Prague:20220203T170000
DTSTAMP:20260426T051207
CREATED:20220130T173446Z
LAST-MODIFIED:20220130T173446Z
UID:10001603-1643878800-1643907600@medievista.cz
SUMMARY:Mutations of Theologia from Abelard to Aquinas: Scripture\, Sacra Doctrina\, and the Search for Wisdom
DESCRIPTION:The IGTM kindly invites you to its second Virtual Winter Lecture\, which will be given by Prof. Dr. Constant J. Mews (Monash University) on Thursday 3 February 2022\, 9 pm (CET). Please register for this free Zoom-lecture by Monday\, January 31\, 2022\, by sending an e-mail to K.Pansters@tilburguniversity.edu. \nHerzliche Einladung zur zweiten IGTM Virtual Winter Lecture mit Prof. Dr. Constant J. Mews (Monash University) am Donnerstag\, 3. Februar 2022\, 21 Uhr. Die Winter Lecture wird über Zoom stattfinden und ist kostenfrei. Erforderlich ist aber die persönliche Anmeldung bis zum 31.1.2022 an K.Pansters@tilburguniversity.edu.
URL:https://medievista.cz/akce/mutations-of-theologia-from-abelard-to-aquinas-scripture-sacra-doctrina-and-the-search-for-wisdom/
LOCATION:Online
CATEGORIES:Konference a semináře,Vše
END:VEVENT
BEGIN:VEVENT
DTSTART;TZID=Europe/Prague:20220211T140000
DTEND;TZID=Europe/Prague:20220211T163000
DTSTAMP:20260426T051207
CREATED:20220202T110637Z
LAST-MODIFIED:20220202T110637Z
UID:10001604-1644588000-1644597000@medievista.cz
SUMMARY:86. brněnský medievistický pátek
DESCRIPTION:
URL:https://medievista.cz/akce/86-brnensky-medievisticky-patek/
LOCATION:Filozofická fakulta MU Brno\, A. Nováka 1\, Brno\, 60200
CATEGORIES:Konference a semináře,Periodické,Vše
ATTACH;FMTTYPE=image/jpeg:https://medievista.cz/wp-content/uploads/2022/02/86.brnensky-medievisticky-patek-scaled.jpg
ORGANIZER;CN="%C3%9Astav pomocn%C3%BDch v%C4%9Bd historick%C3%BDch  a archivnictv%C3%AD FF MU":MAILTO:barova@phil.muni.cz
GEO:49.2003567;16.5980536
X-APPLE-STRUCTURED-LOCATION;VALUE=URI;X-ADDRESS=Filozofická fakulta MU Brno A. Nováka 1 Brno 60200;X-APPLE-RADIUS=500;X-TITLE=A. Nováka 1:geo:16.5980536,49.2003567
END:VEVENT
BEGIN:VEVENT
DTSTART;TZID=Europe/Prague:20220215T093000
DTEND;TZID=Europe/Prague:20220216T183000
DTSTAMP:20260426T051207
CREATED:20220202T222538Z
LAST-MODIFIED:20220202T222538Z
UID:10001605-1644917400-1645036200@medievista.cz
SUMMARY:Ivo Hlobil v českém dějepisu umění: od středověku po aktuální otázky památkové péče
DESCRIPTION:Na podzim minulého roku zemřel ve věku 78 let prof. Ivo Hlobil\, jeden z nejvýznamnějších představitelů oboru dějin umění v České republice\, široce respektovaný rovněž v mezinárodním měřítku. K jeho trvalému odkazu patří četné odborné uměleckohistorické publikace a uspořádané výstavy. Stejně důležitá byla jeho činnost na poli památkové péče. Ve svých textech se věnoval teoretickým základům monumentiky či principům restaurování památek a rovněž aktivně vstupoval do významných památkových kauz. \nK připomenutí a zhodnocení přínosu Iva Hlobila (nejen) tuzemským dějinám umění a památkové péči a k uctění jeho památky připravil Ústav dějin umění AV ČR a Katedra dějin umění FF UP v Olomouci ve spolupráci s Národním památkovým ústavem dvoudenní odborné kolokvium Ivo Hlobil v českém dějepisu umění: od středověku po aktuální otázky památkové péče. \nUskuteční se 15. února v Akademickém konferenčním centru v Praze a 16. února v Uměleckém centru UP v Olomouci.
URL:https://medievista.cz/akce/ivo-hlobil-v-ceskem-dejepisu-umeni-od-stredoveku-po-aktualni-otazky-pamatkove-pece/
LOCATION:Akademické konferenční centrum\, Husova 4a\, Praha\, 11000\, Česká republika
CATEGORIES:Konference a semináře,Vše
ATTACH;FMTTYPE=image/png:https://medievista.cz/wp-content/uploads/2022/02/hlobil.png
GEO:50.0844845;14.4183246
X-APPLE-STRUCTURED-LOCATION;VALUE=URI;X-ADDRESS=Akademické konferenční centrum Husova 4a Praha 11000 Česká republika;X-APPLE-RADIUS=500;X-TITLE=Husova 4a:geo:14.4183246,50.0844845
END:VEVENT
END:VCALENDAR