BEGIN:VCALENDAR
VERSION:2.0
PRODID:-//Denní medievista - ECPv6.15.20//NONSGML v1.0//EN
CALSCALE:GREGORIAN
METHOD:PUBLISH
X-ORIGINAL-URL:https://medievista.cz
X-WR-CALDESC:Akce na Denní medievista
REFRESH-INTERVAL;VALUE=DURATION:PT1H
X-Robots-Tag:noindex
X-PUBLISHED-TTL:PT1H
BEGIN:VTIMEZONE
TZID:Europe/Prague
BEGIN:DAYLIGHT
TZOFFSETFROM:+0100
TZOFFSETTO:+0200
TZNAME:CEST
DTSTART:20210328T010000
END:DAYLIGHT
BEGIN:STANDARD
TZOFFSETFROM:+0200
TZOFFSETTO:+0100
TZNAME:CET
DTSTART:20211031T010000
END:STANDARD
BEGIN:DAYLIGHT
TZOFFSETFROM:+0100
TZOFFSETTO:+0200
TZNAME:CEST
DTSTART:20220327T010000
END:DAYLIGHT
BEGIN:STANDARD
TZOFFSETFROM:+0200
TZOFFSETTO:+0100
TZNAME:CET
DTSTART:20221030T010000
END:STANDARD
BEGIN:DAYLIGHT
TZOFFSETFROM:+0100
TZOFFSETTO:+0200
TZNAME:CEST
DTSTART:20230326T010000
END:DAYLIGHT
BEGIN:STANDARD
TZOFFSETFROM:+0200
TZOFFSETTO:+0100
TZNAME:CET
DTSTART:20231029T010000
END:STANDARD
END:VTIMEZONE
BEGIN:VEVENT
DTSTART;TZID=Europe/Prague:20220626T080000
DTEND;TZID=Europe/Prague:20220701T170000
DTSTAMP:20260425T211959
CREATED:20220318T112748Z
LAST-MODIFIED:20220530T115001Z
UID:10001614-1656230400-1656694800@medievista.cz
SUMMARY:Scriptorium Brunense
DESCRIPTION:>> Přihláška \nPondělí 27. 6. \n9:30 prezentace účastníků \n11:00 zahájení a organizační informace \n12:00 pauza na oběd \n13:30-18:00 BLOK 1\nDalibor Havel/Jana Srnková: Vývoj latinského písma v kostce (úroveň 1)\nDavid Kalhous: Kosmova kronika v kontextu středověké historiografie (úroveň 2A)\nZbyněk Sviták: Vjezd Marie Terezie do Brna v červnu roku 1748. Obraz historické události v archivních pramenech (úroveň 2B)\nAndreas Zajic: Self-fashioning through othering? Pre-modern inscriptions and the staging of otherness as a means of collective identity (úroveň 2C) \n18:00 večerní přednáška\nKarel Hruza: A gift for liberation – the struggle for codex 2 of Brno City Archives \n19:00 společenský večer \nÚterý 28. 6. \n9:30-12:00 BLOK 2\nPetr Elbel: Zlatá bula sicilská a její sestry (úroveň 1)\nDagmar Grossmannová: Denár nebo brakteát? (úroveň 2A)\nLenka Šmídová Malárová: Druhý život římského práva ve středověku a raném novověku (úroveň 2B)\nDaniel Luger: Humanists and humanistic script in the reign of Emperor Frederick III. (úroveň 2C) \n12:00 pauza na oběd \n13:30-18:00 BLOK 3\nTomáš Krejčík/Petr Houzar/Tereza Dlesková: Erb a pečeť v kultuře středověku (úroveň 1)\nDalibor Havel: Po stopách brněnského písaře Jana (úroveň 2A)\nKlára Hübnerová: Přesvědčovat a urážet. Středověké kořeny propagandy\, persuaze a invektivy (úroveň 2B)\nDaniel Luger: Between tradition and innovation – Charters and chanceries of Emperor Frederick III. (úroveň 2C) \nStředa 29. 6. \n9:30-12:00 BLOK 4\nLukáš Führer/Jiří Dufka: Od rukopisu k tištěné knize (úroveň 1)\nLucie Doležalová: Písař Kříž z Telče a jeho sborníky (úroveň 2A)\nLenka Šmídová Malárová: Z právní praxe města Brna ve středověku a raném novověku (úroveň 2B)\nHeinrich Speich: It’s a Material World (úroveň 2C) \n12:00 pauza na oběd \n14:00 exkurze Rajhrad \n18:00 společenský večer \nČtvrtek 30. 6. \n9:30-12:00 BLOK 5\nDagmar Grossmannová: Zrození tolaru (úroveň 1)\nPetr Elbel: Válka\, mír a písemnosti: Středověké vojenství z pohledu diplomatiky (úroveň 2A)\nEva Chodějovská: Příběh mapy (úroveň 2B)\nMaria Theisen: Bohemian book illumination of the 15th century (úroveň 2C) \n12:00 pauza na oběd \n13:30-18:00 BLOK 6\nStanislav Bárta: Kurentem krok za krokem (úroveň 1)\nPetr Elbel: Odpustkové listiny mezi zbožností a ekonomikou (úroveň 2A)\nTomáš Černušák: Kláštery ve víru konfesionalizace (úroveň 2B)\nMaria Theisen: Book illumination for the Brno parish church of St. Jacob in the 15th century (úroveň 2C) \nPátek 1. 7. \n9:30-12:00 BLOK 7\nStanislav Bárta: Vějíř genealogických pramenů (úroveň 1)\nOndřej Schmidt: Italští diplomaté v pozdně středověkých Čechách a jejich písemnosti (úroveň 2A)\nTomáš Krejčík: Jak se stát šlechticem (úroveň 2B)\nBernhard Zeller: The early medieval charters from St Gall. A diplomatic introduction (úroveň 2C) \n12:00 Ukončení letní školy\, pauza na oběd \n14:00 Exkurze Moravský zemský archiv \nCharakteristika jednotlivých úrovní.\nÚroveň 1 zahrnuje témata\, která představují základní pomocné vědy historické a jejich postupy. Je určena gymnaziálním studentům se zájmem o studium historie\, univerzitním studentům různých oborů\, ale také studentům nižších ročníků historických věd\, kteří se chtějí o pomocných vědách historických dozvědět něco více.\nÚroveň 2 A/B je určena k prohloubení znalostí a dovedností na zajímavých ukázkách historických pramenů. Tato úroveň je otevřena pokročilejším studentům\, absolventům i doktorandům historických věd\, ale také pracovníkům paměťových institucí nebo středoškolským učitelům dějepisu\, kteří si chtějí rozšířit své obzory.\nÚroveň 2 C zahrnuje program v angličtině určený obdobně jako úroveň 2 A/B pokročilejším badatelům. \nRegistrace je otevřena do 10. 6. 2022 kapacita je omezena \nCena:\nZákladní účastnická cena 2.250 Kč\nCena pro členy České archivní společnosti 2.100 Kč\nCena pro studenty 1.850 Kč\nCena pro studenty – členy České archivní společnosti 1.700 Kč\nCena nezahrnuje náklady na stravování a ubytování\, které si účastníci zajišťují sami.\nPro bližší informace kontaktujte Olgu Barovou: barova@phil.muni.cz\, tel.: 549 49 3356
URL:https://medievista.cz/akce/2182/
LOCATION:Filozofická fakulta Masarykovy univerzity\, Arna Nováka 1\, Brno\, 60200
CATEGORIES:Konference a semináře,Vše
ATTACH;FMTTYPE=image/png:https://medievista.cz/wp-content/uploads/2022/03/script.png
ORGANIZER;CN="%C3%9Astav pomocn%C3%BDch v%C4%9Bd historick%C3%BDch  a archivnictv%C3%AD FF MU":MAILTO:barova@phil.muni.cz
GEO:49.2005491;16.5983999
X-APPLE-STRUCTURED-LOCATION;VALUE=URI;X-ADDRESS=Filozofická fakulta Masarykovy univerzity Arna Nováka 1 Brno 60200;X-APPLE-RADIUS=500;X-TITLE=Arna Nováka 1:geo:16.5983999,49.2005491
END:VEVENT
BEGIN:VEVENT
DTSTART;TZID=Europe/Prague:20220627T080000
DTEND;TZID=Europe/Prague:20220701T170000
DTSTAMP:20260425T211959
CREATED:20220530T121932Z
LAST-MODIFIED:20220530T121932Z
UID:10001639-1656316800-1656694800@medievista.cz
SUMMARY:IV. kongres světové literárněvědné bohemistiky
DESCRIPTION:V roce 2020 uběhlo čtvrt století od chvíle\, kdy se po pádu železné opony poprvé mohli společně sejít všichni badatelé o české literatuře a přehlédnout minulost a aktuální stav vlastního oboru. Bouřlivý vývoj humanitních věd i dramatické proměny univerzitního prostředí\, odehrávající se na pozadí kulturních\, společenských i politických procesů popisovaných jako globalizace\, uvedly v následujících desetiletích do pohybu sám obor. Situace literárněvědné bohemistiky je dnes charakterizována nejen bohatstvím teoretických rámců a metodologických pozic\, ale také dezintegrací a otřesením institucionální základny bohemistických bádání v těch zemích a regionech světa\, kde bohemistika jako samostatný akademický obor zaniká. \nCílem kongresu bude proto rekapitulovat stav i výhledy oboru\, a to jak v jeho intelektuální\, tak institucionální dimenzi. Jednání bude věnováno vědeckým paradigmatům\, které charakterizují současnou literární vědu a jejich postavení v bohemistice a dále i pozici literárněvědné bohemistiky v dnešním akademickém světě a mediálním prostředí\, respektive výzvám\, kterým bohemistika jako samostatný obor čelí. \nHlavním jednacím jazykem kongresu je čeština (slovenština) a angličtina\, výjimečně je možné přihlásit panely a příspěvky v dalších jazycích. \nKongres se koná pod záštitou předsedy Senátu Parlamentu ČR RNDr. Miloše Vystrčila\, předsedkyně AV ČR prof. RNDr. Evy Zažímalové\, CSc.\, ministra kultury ČR Mgr. Martina Baxy a primátora hlavního města Prahy MUDr. Zdeňka Hřiba.
URL:https://medievista.cz/akce/iv-kongres-svetove-literarnevedne-bohemistiky/
LOCATION:Hlavní budova Akademie věd\, Národní 3\, Praha 1\, 117 20\, Česká republika
CATEGORIES:Konference a semináře,Vše
GEO:50.0816138;14.4142
X-APPLE-STRUCTURED-LOCATION;VALUE=URI;X-ADDRESS=Hlavní budova Akademie věd Národní 3 Praha 1 117 20 Česká republika;X-APPLE-RADIUS=500;X-TITLE=Národní 3:geo:14.4142,50.0816138
END:VEVENT
BEGIN:VEVENT
DTSTART;TZID=Europe/Prague:20220707T080000
DTEND;TZID=Europe/Prague:20220710T170000
DTSTAMP:20260425T211959
CREATED:20220526T165506Z
LAST-MODIFIED:20220526T165506Z
UID:10001633-1657180800-1657472400@medievista.cz
SUMMARY:Podlipnické kostely - minulost bez budoucnosti?
DESCRIPTION:
URL:https://medievista.cz/akce/podlipnicke-kostely-minulost-bez-budoucnosti/
LOCATION:Hrad Lipnice\, Lipnice nad Sázavou 1\, Lipnice nad Sázavou\, Česká republika
CATEGORIES:Konference a semináře,Vše
ATTACH;FMTTYPE=image/png:https://medievista.cz/wp-content/uploads/2022/05/podlip.png
END:VEVENT
BEGIN:VEVENT
DTSTART;TZID=Europe/Prague:20220718T080000
DTEND;TZID=Europe/Prague:20220721T170000
DTSTAMP:20260425T211959
CREATED:20220530T122432Z
LAST-MODIFIED:20220530T122518Z
UID:10001640-1658131200-1658422800@medievista.cz
SUMMARY:Société Internationale pour l'étude du théâtre médiéval Colloquium 2022
DESCRIPTION:
URL:https://medievista.cz/akce/societe-internationale-pour-letude-du-theatre-medieval-colloquium-2022/
CATEGORIES:Konference a semináře,Vše
ATTACH;FMTTYPE=image/png:https://medievista.cz/wp-content/uploads/2022/05/call.png
END:VEVENT
BEGIN:VEVENT
DTSTART;TZID=Europe/Prague:20220718T080000
DTEND;TZID=Europe/Prague:20220722T170000
DTSTAMP:20260425T211959
CREATED:20220714T144106Z
LAST-MODIFIED:20220714T154336Z
UID:10001647-1658131200-1658509200@medievista.cz
SUMMARY:The Monastery and Library of St. George’s in Prague: Liturgy\, Music\, Art and Manuscripts in their European Setting
DESCRIPTION:Conveners: Jeffrey Hamburger (Cambridge\, MA) jhamburg@fas.harvard.edu & Eva Schlotheuber (Düsseldorf) Eva.Schlotheuber@hhu.de \nSunday\, July 17 Arrival\nMonday\, July 18\n8:00–9:00 Breakfast for Participants staying at Villa Lana \n9:00–9:30 Introduction: Female Monastic Libraries: A Project Funded by the Alexander von Humboldt Foundation\, Jeffrey Hamburger & Eva Schlotheuber \n9:30–10:15 The Monastery and Library of St. George’s in Prague: Context and Historical Foundation \nThe Monastery of St. George’s in its Bohemian Context\, Jiří Fajt (Berlin/Prague) jiri.fajt@t-online.de \n10:15–10:45 Coffee \n10:45–12:15 \nBibliotheca et scriptorium monasterii sancti Georgii in castro Pragensi\, Renata Modraková (Prague) Renata.Modrakova@nkp.cz \nThe Canons of St. George’s Abbey at Prague Castle\, Karel Pacovsky´ (Prague) karel.pacovsky@ff.cuni.cz \n12:30–1:30 Lunch \n1:30–3:00 Liturgy & Music at the Convent of St. George’s in Prague I \nSiehe\, so leuchtet der Morgenstern: Die Offizien der heiligen Ludmilla im mittelalterlichen Böhme\, David Eben (Prague) david.eben@ff.cuni.cz \nLiber Ordinarius – the Mirror of Liturgical Life\, Anna Žáková (Prague) annazak@hotmail.fr \n3:00–3:30 Coffee \n3:30–5:45 Liturgy & Music at the Convent of St. George’s in Prague II \nDas Offiziumsrepertoire des St. Georgsklosters: Der Herbst-Teil des Sanktoral\, Lucie Trnková (Prague) / Samuel Škoviera (Prague) \nSequences and Hymns related to the Cult of Mary Magdalene at St. George\, with Reference to the Feast for St. Martha\, Margot Fassler (Notre Dame\, In) margot.fassler@nd.edu \nTropes to the Benedicamus domino at St. George’s\, Hana Vlhová-Wörner (Prague/Basel) vlhova@mua.cas.cz \n19:30: Dinner at Fiat 500 Na Valech 16\, 160 00 Praha 6-Letná \nTuesday\, July 19\n8:00–9:00 Breakfast for Participants staying at Villa Lana \n9:00–10:30 Case Studies from Other Monasteries in Bohemia and Beyond \nThree Illuminated Breviaries for an Abbess of St. George’s Monastery on Hradcany\, Maria Theisen (Vienna) Maria.Theisen@oeaw.ac.at \nThe Marian Chasuble from Rokycany\, the Library of the Augustinian Canons\, and the Question of the “devotio moderna”\, Juliette Calvarin (Berlin) juliette.calvarin@hu-berlin.de \n10:30–11:00 Coffee \n11:00–11:45 \nFrom East to West: Travelling Relics\, Texts and Images in Late Medieval Iberia\, Mercedes Pérez Vidal (Oviedo) mercedespvidal@gmail.com \n12:00–1:00 Lunch \n1:00–1:30 Transfer to Clementinum \n1:30–18:00 Clementinum: Session I \n1:30–15:30 Presentation of Library of St. George’s \n15:30–16:15 Coffee \n16:15–18:00 Presentation of Library of St. George’s \n18:00: Departure from library; no organized dinner \nWednesday\, July 20\n8:00–9:00 Breakfast for Participants staying at Villa Lana \n9:00–10:30 \nThe Visual Culture of the Convent \nRomanesque Wall-paintings in the Churchs of St. George and Their Functions\, Jan Dienstbier (Prague) dienstbier@udu.cas.cz \nPicturing the Passion: Devotional Strategies in the Passional of the Abbess Cunigonde\, Lenka Panušková (Prague): Passionale lenka.panuskova@gmail.com \n10:30–11:00 Coffee \n11:00–12:00 Final Discussion \n12:00–1:00 Lunch \n1:00 Departure for Clementinum  \n1:30–18:00 Clementinum: Session II \n1:30–3:30 Clementinum Presentation of Library of St. George’s III \n3:30–4:45 Coffee \n4:45–18:00 Clementinum Treasures \n19:30: Dinner at Fiat 500 Na Valech 16\, 160 00 Praha 6-Letná (at your own expense) \nThursday\, July 21\n8:30–9:30 Breakfast for participants staying at Villa Lana \n9:30–10:00 Departure for Hradschin \n10:00–12:30 Hradschin: The Monastery of St. George’s \n12:30–14:00 Lunch \n14:00 End of Workshop – Departure \nParticipants: \n\nKlara Benesovska (Prague): benesovska@udu.cas.cz\nZoe Opacic (London): zoe.opacic@gmail.com\nIvan Hlaváček (Prague): ivan.hlavacek@ff.cuni.cz\nMarike Neuburg (Düsseldorf): Marieke.Neuburg@uni-duesseldorf.de\nJennifer Vlček Schurr (Glasgow) cloptonschurrs@gmail.com\nKatrin Janz-Wenig (Wien) katrin.janzwenig@sub.uni-hamburg.de
URL:https://medievista.cz/akce/the-monastery-and-library-of-st-georges-in-prague-liturgy-music-art-and-manuscripts-in-their-european-setting/
LOCATION:Vila Lanna\, V Sadech 1\, Praha 6\, Česká republika
CATEGORIES:Konference a semináře,Vše
GEO:50.1024555;14.407214
X-APPLE-STRUCTURED-LOCATION;VALUE=URI;X-ADDRESS=Vila Lanna V Sadech 1 Praha 6 Česká republika;X-APPLE-RADIUS=500;X-TITLE=V Sadech 1:geo:14.407214,50.1024555
END:VEVENT
END:VCALENDAR