BEGIN:VCALENDAR
VERSION:2.0
PRODID:-//Denní medievista - ECPv6.15.20//NONSGML v1.0//EN
CALSCALE:GREGORIAN
METHOD:PUBLISH
X-ORIGINAL-URL:https://medievista.cz
X-WR-CALDESC:Akce na Denní medievista
REFRESH-INTERVAL;VALUE=DURATION:PT1H
X-Robots-Tag:noindex
X-PUBLISHED-TTL:PT1H
BEGIN:VTIMEZONE
TZID:Europe/Prague
BEGIN:DAYLIGHT
TZOFFSETFROM:+0100
TZOFFSETTO:+0200
TZNAME:CEST
DTSTART:20210328T010000
END:DAYLIGHT
BEGIN:STANDARD
TZOFFSETFROM:+0200
TZOFFSETTO:+0100
TZNAME:CET
DTSTART:20211031T010000
END:STANDARD
BEGIN:DAYLIGHT
TZOFFSETFROM:+0100
TZOFFSETTO:+0200
TZNAME:CEST
DTSTART:20220327T010000
END:DAYLIGHT
BEGIN:STANDARD
TZOFFSETFROM:+0200
TZOFFSETTO:+0100
TZNAME:CET
DTSTART:20221030T010000
END:STANDARD
BEGIN:DAYLIGHT
TZOFFSETFROM:+0100
TZOFFSETTO:+0200
TZNAME:CEST
DTSTART:20230326T010000
END:DAYLIGHT
BEGIN:STANDARD
TZOFFSETFROM:+0200
TZOFFSETTO:+0100
TZNAME:CET
DTSTART:20231029T010000
END:STANDARD
END:VTIMEZONE
BEGIN:VEVENT
DTSTART;TZID=Europe/Prague:20221101T093000
DTEND;TZID=Europe/Prague:20221102T170000
DTSTAMP:20260425T124923
CREATED:20221101T075406Z
LAST-MODIFIED:20221101T075433Z
UID:10001678-1667295000-1667408400@medievista.cz
SUMMARY:Jako by(ch) se octl na obrovském staveništi
DESCRIPTION:9:30–10:00 zahájení\nBLOK 1 MEDIEVISTIKA Ichair Marie Škarpová\n10:00–10:20 Václav Čermák Přínos Antonína Škarky české paleoslovenistice\n10:20–10:40 Matouš Turek Medievistická sonda – sdílení smyslové zkušenosti\n10:40–11:00 Martin Nodl Antonín Škarka a Dekret kutnohorský\n11:00–11:20 diskuse\npřestávka 11:20–11:35\nBLOK 2 MEDIEVISTICKÉ KONTEXTY chair Jakub Sichálek\n11:35–11:55 Věra Soukupová Veršované kázání ve staročeské literatuře – návraty k Antonínu Škarkovi\n11:55–12:15 Eliška Poláčková Kubartová Přínos Antonína Škarky k výzkumu staročeských mariánských a magdalenských planktů\n12:15–12:35 Matouš Jaluška Hanfešt k tomu. Autorita psaného slova v „literatuře bez autorů“\n12:55–13:25 diskuse\npřestávka na oběd 12:50–14:30 \nBLOK 3 HYMNOLOGIE\nchair Michaela Hashemi\n14:30–14:50 Lukáš Vytlačil Recepce Komenského písní v současných českých evangelických kancionálech\n14:50–15:10 Tomáš Slavický Hymnorum Thesaurus Bohemicus. Předchůdci a iniciátoři\, přesahy a limity Škarkova hymnologického projektu\n15:10–15:30 Eliška Baťová Hymnografické dílo Jana Augusty očima Antonína Škarky\n15:30–15:45 diskuse\npřestávka 15:45–16:00\nBLOK 4 KORESPONDENCE\nchair Vladimír Urbánek\n16:00–16:20 Marie Škarpová Korespondence mezi Antonínem Škarkou a Dmytrem Čyževským\n16:20–16:40 Tomáš Havelka Antonín Škarka a jeho korespondence s komeniology\n16:40–17:00 diskuse a zakončení\nSpolečná večeře formou rautu v prostorách AKC\nKoncert Lukáše Vytlačila a Vlastislava Matouška v kostele svatého Martina ve zdi 19:30 \n9:30 zahájení\nBLOK 5 RANĚNOVOVĚKÁ LITERATURA\nchair Matouš Jaluška\n9:30–9:50 Jan Malura Raný Škarka. Disertace Antonína Škarky o Sixtu Palmovi a její podněty pro současný výzkum literárního života období humanismu\n9:50–10:10 Michaela Hashemi Téma barokní mystiky v odborných textech Antonína Škarky\n10:10–10:25 diskuse\npřestávka 10:25–10:40\nBLOK 6 EDITOR A ORGANIZÁTOR\nchair Tomáš Havelka\n10:40–11:00 Milada Homolková\, Andrea Svobodová A. Škarka jako editor staročeských textů\n11:00–11:20 Martin Steiner Antonín Škarka a Dílo Jana Amose Komenského\npřestávka 11:20–11:35 \nBLOK 7 LITERÁRNÍ HISTORIK V POVÁLEČNÉ DOBĚ\nchair Jan Malura\n11:35–11:55 Zdeněk Beneš Škarka jako člen generace „1900“. Zlá léta po smrti E. Beneše\n11:55–12:15 Jakub Sichálek Jan Vilikovský – Antonín Škarka – Josef Hrabák: vztahy a kontexty\n12:15–12:30 diskuse\n12:30–13:00 závěrečná diskuse\, zakončení \nKonferenci organizuje:\nFilosofický ústav Akademie věd České republiky\nÚstav pro českou literaturu Akademie věd České republiky\nTomáš Havelka\, Filosofický ústav AV ČR / havelka@flu.cas.cz\nMatouš Jaluška\, Ústav pro českou literaturu AV ČR / jaluska@ucl.cas.cz \n 
URL:https://medievista.cz/akce/jako-bych-se-octl-na-obrovskem-stavenisti/
LOCATION:Akademické konferenční centrum\, Husova 4a\, Praha\, 11000\, Česká republika
CATEGORIES:Konference a semináře,Vše
ATTACH;FMTTYPE=image/png:https://medievista.cz/wp-content/uploads/2022/11/skarka.png
ORGANIZER;CN="Filosofick%C3%BD %C3%BAstav Akademie v%C4%9Bd %C4%8CR":MAILTO:sekretariat@flu.cas.cz
GEO:50.0844845;14.4183246
X-APPLE-STRUCTURED-LOCATION;VALUE=URI;X-ADDRESS=Akademické konferenční centrum Husova 4a Praha 11000 Česká republika;X-APPLE-RADIUS=500;X-TITLE=Husova 4a:geo:14.4183246,50.0844845
END:VEVENT
BEGIN:VEVENT
DTSTART;TZID=Europe/Prague:20221103T080000
DTEND;TZID=Europe/Prague:20221104T170000
DTSTAMP:20260425T124923
CREATED:20221019T200856Z
LAST-MODIFIED:20221019T200856Z
UID:10001671-1667462400-1667581200@medievista.cz
SUMMARY:21. zasedání k problematice sepulkrálních památek
DESCRIPTION:Program ke stažení v PDF.
URL:https://medievista.cz/akce/21-zasedani-k-problematice-sepulkralnich-pamatek/
LOCATION:Akademické konferenční centrum\, Husova 4a\, Praha\, 11000\, Česká republika
CATEGORIES:Konference a semináře,Vše
ATTACH;FMTTYPE=image/png:https://medievista.cz/wp-content/uploads/2022/10/sepu.png
GEO:50.0844845;14.4183246
X-APPLE-STRUCTURED-LOCATION;VALUE=URI;X-ADDRESS=Akademické konferenční centrum Husova 4a Praha 11000 Česká republika;X-APPLE-RADIUS=500;X-TITLE=Husova 4a:geo:14.4183246,50.0844845
END:VEVENT
BEGIN:VEVENT
DTSTART;TZID=Europe/Prague:20221108T090000
DTEND;TZID=Europe/Prague:20221109T190000
DTSTAMP:20260425T124923
CREATED:20221107T095848Z
LAST-MODIFIED:20221107T121007Z
UID:10001680-1667898000-1668020400@medievista.cz
SUMMARY:1st International Workshop Rural History and Archaeology in Prague. Historiographical perspectives
DESCRIPTION:TUESDAY\, 8TH NOVEMBER\n9.00 Registration \n9.30 Welcome \nSession 1\n9.40–10.10 Emmanuel HUERTAS (Université Toulouse Jean-Jaurès\, Framespa)\, La thèse oubliée de Thérèse Sclafert (1926). Un travail pionnier en histoire rurale française \n10.10–10.40 Christine RENDU (CNRS\, Framespa)\, Les historiens-géographes de l’école vidalienne dans les Pyrénées (1910-1950) : retour archéologique sur des travaux fondateurs \n10.40–11.10\nDiscussion\nCoffee break \n11.40–12.10 Samuel LETURCQ (Université de Tours\, Citeres)\, Openfield et bocage en Hainaut au Moyen Age. La réflexion de Gérard Sivery sur les dynamiques paysagères \n12.10–12.40 Roland VIADER (CNRS\, Framespa)\, Intercommoning in Medieval Western Europe \nLunch break \nSession 2\n14.30–15.00 Tomáš KLÍR (Charles University\, Prague)\, The beginning of the deserted medieval settlement research in Central Europe. Economic history\, geography and archaeology. \n15.00–15.30 László FERENCZI (Charles University\, Prague)\, Farmsteads (Einzelhofsiedlungen) and settlement desertion – the example of the Great Hungarian Plain in the pre-modern period from the perspectives of historical\, archaeological\, ethnographical and landscape ecological research \nDiscussion \n15.30–16.00\nCoffee break \n16.30–17.00 Anna STAGNO (Université de Gênes)\, Post-classical archaeology and medieval history: population geography\, local history and history of material culture during Seventies in Italy \n17.00–18.00\nDiscussion \nWEDNESDAY\, 9TH NOVEMBER\nSession 3\n09.30-10.00 Krzysztof FOKT (Jagiellonian University\, Kraków)\, A few unconcluded legal-historical problems of Polish rural studies \n10.00–10.30 Juan José LARREA (Université du Pays basque)\, Le devenir historiographique de l’appropriation de terre par défrichement (aprisio\, presura\, bifang\, proprisum…). Un aperçu hispano-allemand \n10.30–11.00\nDiscussion\nCoffee break \nSession 4\n11.30–12.00 József LASZLOVSKY (Central European University)\, The Mongol Invasion of Central Europe: Historical and Archaeological Narratives \n12.00–12.30 Mária VARGHA (Charles University\, Prague)\, Approaches to Christianisation of rural population in East-Central Europe. An historiographical overview. \n12.30–13.00\nDiscussion\nLunch break \n14.00–19.00\nFinal discussion
URL:https://medievista.cz/akce/1st-international-workshop-rural-history-and-archaeology-in-prague-historiographical-perspectives/
LOCATION:Ústav pro acheologii FF UK\, Celetná 20\, Praha 1\, Česká republika
CATEGORIES:Konference a semináře,Vše
ATTACH;FMTTYPE=image/png:https://medievista.cz/wp-content/uploads/2022/11/rilletes.png
GEO:50.0870464;14.4242273
X-APPLE-STRUCTURED-LOCATION;VALUE=URI;X-ADDRESS=Ústav pro acheologii FF UK Celetná 20 Praha 1 Česká republika;X-APPLE-RADIUS=500;X-TITLE=Celetná 20:geo:14.4242273,50.0870464
END:VEVENT
BEGIN:VEVENT
DTSTART;TZID=Europe/Prague:20221109T080000
DTEND;TZID=Europe/Prague:20221111T170000
DTSTAMP:20260425T124923
CREATED:20221019T172218Z
LAST-MODIFIED:20221108T094019Z
UID:10001668-1667980800-1668186000@medievista.cz
SUMMARY:Tisíc a padesát let pražského biskupství
DESCRIPTION:Konference se koná v hlavní budově Akademie věd ČR\, Národní 3\, Praha 1 – sál 206. \nKonference je dostupná on-line: https://cesnet.zoom.us/j/95176245409?pwd=Q0lmeEFmeDB2c2NBSFdtQSt5SEVkQT09 \n9. 11. 2022\n10.00–12.00 Slavnostní zahájení a zasedání ve Velké aule Karolina \n12.00–13.00 Oběd \n13.00–17.00 Odpolední odborné zasedání \n13.00–13.30 Enno Bünz\, Institut biskupství v karolínské a ottonské říši (Prof. dr. Enno Bünz\, Sächsische Landesgeschichte\, Geisteswissenschaftliches Zentrum\, Beethovenstraße 15\, Raum 4210\, 04107 Leipzig) \n13.30–14.00 Christian Lübke\, Misijní biskupství mezi Polabskými Slovany (Prof. dr. phil. habil. Christian Lübke\, Geisteswissenschaftliches Zentrum – Geschichte und Kultur Ostmitteleuropas\, Specks Hof (Eingang A) Reichsstr. 4\, 04109 Leipzig) \n14.00–14.30 Gábor Klaniczay\, První uherská biskupství (Prof. dr. habil. Gábor Klaniczay\, DrSci.\, Central European University\, Center for Religious Studies\, Budapest\, Nador u. 11 | 211) \n14.30–14.50 Diskuse \n14.50–15.10 Přestávka \n15.10–15.40 Józef Dobosz\, Počátky křesťanství v Polsku (Prof. dr. hab. Józef Dobosz\, Wydział Historii UAM Uniwersytetu Poznańskiego 7\, 61-614 Poznań) \n15.40–16.10 Matthias Hardt\, Christianizace střední Evropy a biskupství v Magdeburgu\, Regensburgu\, Merseburgu a Pasově (Prof. dr. Matthias Hardt\, Geisteswissenschaftliches Zentrum – Geschichte und Kultur Ostmitteleuropas\, Specks Hof (Eingang A) Reichsstr. 4\, 04109 Leipzig) \n16.10–16.40 Jitka Komendová\, Počátky církve v Kyjevské Rusi (Doc. Mgr. Jitka Komendová\, Ph.D.\, Filozofická fakulta\, Katedra slavistiky\, Univerzita Palackého\, Křížkovského 10\, 779 00 Olomouc) \n16.40–17.00 Diskuse \n18.00 Krátké kulturní zastavení v katedrále sv. Víta\, Václava a Vojtěcha \n19.00 Přátelské setkání v piano nobile Arcibiskupského paláce a slavnostní raut \n10. 11. 2022\n09.00–13.00 Dopolední odborné zasedání \n09.00–09.30 Vratislav Vaníček\, Počátky pražského biskupství (Doc. PhDr. Vratislav Vaníček\, Ph.D.\, Cihlářská 782\, 190 00 Praha 9 – Prosek) \n09.30–10.00 Petr Sommer\, Misie a benediktinské začátky pražského biskupství (Prof. PhDr. Petr Sommer\, CSc.\, DSc.\, Archeologický ústav AV ČR\, v.v.i.\, Letenská 4\, 118 01 Praha 1 – Malá Strana; Filosofický ústav AVČR\, v.v.i./Centrum medievistických studií\, Jilská 1\, 110 00 Praha 1) \n10.00–10.30 Libor Jan\, Moravské arcibiskupství a biskupství (Prof. Mgr. Libor Jan\, PhD.\, Filozofická fakulta\, Historický ústav\, bud. A/A.409 Arna Nováka 1\, 602 00 Brno) \n10.30–10.50 Diskuse \n10.50–11.10 Přestávka \n11.10–11.40 Jakub Izdný\, Sociální a ekonomické podmínky christianizace české společnosti a vzniku pražského biskupství (Mgr. Jakub Izdný\, Ph.D.\, Ústav českých dějin\, Filozofická fakulta UK\, Nám. Jana Palacha 2\, 116 38 Praha 1) \n11.40–12.10 Josef Žemlička\, Pražské biskupství a český panovník (Prof. PhDr. Josef Žemlička\, DrSc.\, Historický ústav AV ČR\, v. v. i.\, Prosecká 809/76\, 190 00 Praha 9) \n12.10–12.40 Eva Doležalová\, Pražské biskupství a rodící se organizace české církve (PhDr. Eva Doležalová\, CSc.\, Historický ústav AV ČR\, v. v. i.\, Prosecká 809/76\, 190 00 Praha 9) \n12.40–13.00 Diskuse \n13.00–14.00 Oběd \n14.00–17.30 Odpolední odborné zasedání \n14.00–14.30 Petr Kubín\, Světci nové diecéze\, jejich kult a relikvie (Prof. PhDr. Petr Kubín\, Ph.D.\, Th.D.\, Katedra církevních dějin a literární historie\, Katolická teologická fakulta Univerzity Karlovy\, Thákurova 3\, 160 00 Praha 6) \n14.30–15.00 Jan Frolík\, K identifikaci hrobu kněžny Mlady ve svatojiřském klášteře (PhDr. Jan Frolík\, CSc.\, Archeologický ústav AV ČR\, v.v.i.\, Letenská 4\, 11801 Praha 1) \n15.00–15.30 Jan Royt\, Katedrály prvních pražských a olomouckých biskupů (Prof. PhDr. Ing. Jan Royt\, Ph.D.\, DSc.\, Ústav dějin křesťanského umění\, Katolická teologická fakulta Univerzity Karlovy\, Thákurova 3\, 160 00 Praha 6) \n15.30–15.50 Diskuse \n15.50–16.10 Přestávka \n16.10–16.40 Jana Maříková Kubková\, Pavel Šlézar\, Hana Dehnerová\, Praha – Olomouc\, sídelní potenciál a vznik biskupství (Mgr. Jana Maříková Kubková\, Ph.D.\, Archeologický ústav AV ČR\, v.v.i.\, Letenská 4\, 118 01 Praha 1 – Malá Strana\, PhDr. Pavel Šlézar\, Ph.D.\, Mgr. Hana Dehnerová\, Národní památkový ústav\, Územní odborné pracoviště\, Horní náměstí 25\, 779 00 Olomouc) \n16.40–17.10 Milena Bravermanová\, Helena Březinová\, Jana Bureš Víchová\, Liturgické oděvy a předměty z hrobů prvních pražských biskupů (PhDr. Milena Bravermanová\, PhDr. Helena Březinová\, Ph.D.\, Archeologický ústav AV ČR\, v.v.i.\, Letenská 4\, 118 01 Praha 1 – Malá Strana\, Bc. Jana Bureš Víchová\, DiS.\, Vysoká škola chemicko-technologická\, Technická 5\, 166 28 Praha 6) \n17.10–17.30 Diskuse \n11. 11. 2022\n09.30–11.50 Dopolední odborné zasedání \n09.30–10.00 Kostiantyn Krainii\, Kyjevský Spasitelův chrám z 12. století v Berestovém a jeho historický a politický narativ v 17.–20. století (Dr. Kostiantin Krainii\, National Preserve Kyiv-Pechersk Lavra\, Ukraine\, 01015 Kyiv\, Lavyrska str. 9\, build. 8) \n10.00–10.30 Dalibor Havel\, Písemná kultura pražského a olomouckého biskupství (Doc. PhDr. Dalibor Havel\, Ph.D.\, Filozofická fakulta\, Ústav pomocných věd historických a archivnictví\, Masarykova univerzita\, bud. B1/B1.114 Arna Nováka 1\, 602 00 Brno) \n10.30–11.00 Marzena Matla\, Písemná kultura prvních polských biskupství (Prof. UAM dr hab. Marzena Matla\, Wydział Historii UAM Uniwersytetu Poznańskiego 7\, 61-614 Poznań) \n11.00–11.30 Lukáš Führer\, Kancelář a správa pražského a olomouckého biskupství ve středověku (Mgr. Lukáš Führer\, PhD.\, Ústav pomocných věd historických a archivnictví\, Filosofická fakulta MU\, kancelář: bud. B1/B1.114\, Arna Nováka 1\, 602 00 Brno) \n11.30–11.50 Diskuse \n11.50–13.00 Oběd \n13.00–14.50 Odpolední odborné zasedání \n13.00–13.30 Petr Elbel\, Pražské a olomoucké biskupství v husitství a reformaci (Mgr. Petr Elbel\, Ph.D.\, Centrum Regesta Imperii\, pobočka Brno\, Arna Nováka 1/1\, 602 00 Brno) \n13.30–14.00 Jiří Mikulec\, Pražské arcibiskupství a stát – mezi spojenectvím a konflikty v časech rekatolizace (Prof. PhDr. Jiří Mikulec\, CSc.\, Historický ústav AV ČR\, v.v.i.\, Prosecká 809/76\, 190 00 Praha 9) \n14.00–14.30 Rudolf Svoboda: Pražské arcibiskupství v době reforem Josefa II. (Doc. ThDr. Rudolf Svoboda\, Th.D.\, Teologická fakulta Jihočeské univerzity\, Kněžská 8\, 370 01 České Budějovice) \n14.30–14.50 Diskuse \nZávěr konference
URL:https://medievista.cz/akce/tisic-a-padesat-let-prazskeho-biskupstvi/
LOCATION:Hlavní budova Akademie věd\, Národní 3\, Praha 1\, 117 20\, Česká republika
CATEGORIES:Konference a semináře,Vše
ORGANIZER;CN="Filosofick%C3%BD %C3%BAstav Akademie v%C4%9Bd %C4%8CR":MAILTO:sekretariat@flu.cas.cz
GEO:50.0816138;14.4142
X-APPLE-STRUCTURED-LOCATION;VALUE=URI;X-ADDRESS=Hlavní budova Akademie věd Národní 3 Praha 1 117 20 Česká republika;X-APPLE-RADIUS=500;X-TITLE=Národní 3:geo:14.4142,50.0816138
END:VEVENT
BEGIN:VEVENT
DTSTART;TZID=Europe/Prague:20221110T090000
DTEND;TZID=Europe/Prague:20221111T180000
DTSTAMP:20260425T124923
CREATED:20221019T200152Z
LAST-MODIFIED:20221019T200425Z
UID:10001669-1668070800-1668189600@medievista.cz
SUMMARY:Queens\, Noblewomen\, and Burgher Women\, 1300–1550: Initiative-takers or Passive Patrons?
DESCRIPTION:Download the programme as PDF. \nThe conference is organized by the Institute of Art History of the Czech Academy of Sciences and the Masaryk Institute and Archive of the Czech Academy of Sciences with the support of the Strategy AV 21 Programme. \nThe conference is open to the public. For the Zoom link\, please\, register for free at the e-mail addresses below by 9th November 2022. The organizers provide accommodation only for active participants of the conference. \nCONTACTS: \nHelena Dáňová\nInstitute of Art History\nof the CAS\nHusova 4\n110 00 Prague 1\ndanova@udu.cas.cz \nKlára Mezihoráková\nInstitute of Art History\nof the CAS\nHusova 4\n110 00 Prague 1\nmezihorakova@udu.cas.cz \nJana Fantysová-Matějková\nMasaryk Institute\nand Archive of the CAS\nGabčíkova 2362/10\n182 00 Prague 8\nfantysova@mua.cas.cz
URL:https://medievista.cz/akce/ueens-noblewomen-and-burgher-women-1300-1550-initiative-takers-or-passive-patrons/
LOCATION:Akademické konferenční centrum\, Husova 4a\, Praha\, 11000\, Česká republika
CATEGORIES:Konference a semináře,Vše
ATTACH;FMTTYPE=image/jpeg:https://medievista.cz/wp-content/uploads/2022/10/1664265203-plakUEt.jpg
GEO:50.0844845;14.4183246
X-APPLE-STRUCTURED-LOCATION;VALUE=URI;X-ADDRESS=Akademické konferenční centrum Husova 4a Praha 11000 Česká republika;X-APPLE-RADIUS=500;X-TITLE=Husova 4a:geo:14.4183246,50.0844845
END:VEVENT
BEGIN:VEVENT
DTSTART;TZID=Europe/Prague:20221111T140000
DTEND;TZID=Europe/Prague:20221111T170000
DTSTAMP:20260425T124923
CREATED:20221103T233948Z
LAST-MODIFIED:20221103T233948Z
UID:10001676-1668175200-1668186000@medievista.cz
SUMMARY:XC. brněnský medievistický pátek
DESCRIPTION:Vážené dámy a pánové\,\nmilé kolegyně a kolegové! \nDovolujeme si Vás pozvat na 90. brněnský medievistický pátek\, který se bude konat 11. listopadu 2022. Tématem našeho setkání bude problematika monetizace rakouského prostoru ve 12. století ve světle listin. Slova se ujme prof. Hubert Emmering (Universität Wien). Bližší informace naleznete v zaslané pozvánce. \nNa setkání s Vámi se těší \nPetr Elbel\, Lukáš Reitinger\, David Kalhous a Martin Zezulka
URL:https://medievista.cz/akce/xc-brnensky-medievisticky-patek/
LOCATION:Historický ústav Filozofické fakulty Masarykovy univerzity\, Arne Nováka 1\, Brno\, 60200\, Česká republika
CATEGORIES:Konference a semináře,Periodické,Přednášky,Vše
ATTACH;FMTTYPE=image/jpeg:https://medievista.cz/wp-content/uploads/2022/10/90.-brnensky-medievisticky-patek-scaled.jpg
ORGANIZER;CN="Historick%C3%BD %C3%BAstav Filozofick%C3%A9 fakulty Masarykovy univerzity":MAILTO:historie@phil.muni.cz
GEO:49.2004202;16.5984848
X-APPLE-STRUCTURED-LOCATION;VALUE=URI;X-ADDRESS=Historický ústav Filozofické fakulty Masarykovy univerzity Arne Nováka 1 Brno 60200 Česká republika;X-APPLE-RADIUS=500;X-TITLE=Arne Nováka 1:geo:16.5984848,49.2004202
END:VEVENT
END:VCALENDAR