BEGIN:VCALENDAR
VERSION:2.0
PRODID:-//Denní medievista - ECPv6.15.20//NONSGML v1.0//EN
CALSCALE:GREGORIAN
METHOD:PUBLISH
X-WR-CALNAME:Denní medievista
X-ORIGINAL-URL:https://medievista.cz
X-WR-CALDESC:Akce na Denní medievista
REFRESH-INTERVAL;VALUE=DURATION:PT1H
X-Robots-Tag:noindex
X-PUBLISHED-TTL:PT1H
BEGIN:VTIMEZONE
TZID:Europe/Prague
BEGIN:DAYLIGHT
TZOFFSETFROM:+0100
TZOFFSETTO:+0200
TZNAME:CEST
DTSTART:20220327T010000
END:DAYLIGHT
BEGIN:STANDARD
TZOFFSETFROM:+0200
TZOFFSETTO:+0100
TZNAME:CET
DTSTART:20221030T010000
END:STANDARD
BEGIN:DAYLIGHT
TZOFFSETFROM:+0100
TZOFFSETTO:+0200
TZNAME:CEST
DTSTART:20230326T010000
END:DAYLIGHT
BEGIN:STANDARD
TZOFFSETFROM:+0200
TZOFFSETTO:+0100
TZNAME:CET
DTSTART:20231029T010000
END:STANDARD
BEGIN:DAYLIGHT
TZOFFSETFROM:+0100
TZOFFSETTO:+0200
TZNAME:CEST
DTSTART:20240331T010000
END:DAYLIGHT
BEGIN:STANDARD
TZOFFSETFROM:+0200
TZOFFSETTO:+0100
TZNAME:CET
DTSTART:20241027T010000
END:STANDARD
END:VTIMEZONE
BEGIN:VEVENT
DTSTART;TZID=Europe/Prague:20230904T080000
DTEND;TZID=Europe/Prague:20230908T170000
DTSTAMP:20260424T193807
CREATED:20230412T160756Z
LAST-MODIFIED:20230412T160756Z
UID:10001705-1693814400-1694192400@medievista.cz
SUMMARY:Castrum Bene 2023: Burg und (Un)Recht
DESCRIPTION:Die Tagung ist interdisziplinär und thematisch weit konzipiert. Sie konzentriert sich auf das Problem befestigter Sitze und deren Beziehung zum mittelalterlichen und frühneuzeitlichen Recht. Dabei sollen insbesondere die folgenden Themen diskutiert werden:\n– Burg und Herrschaftsdomäne und ihre Beziehung zum Besitzrecht\,\n– Bauformen von Burgen im Kontext besitzrechtlicher Beziehungen\,\n– die Burg als Orte der Schaffung und Ausübung von Recht\,\n– die Burg und ihre Funktion bei der Gewährleistung der Sicherheit\,\n– die Burg als Verwaltungszentrum\,\n– die Burg als Konfliktobjekt\,\n– Erbauung\, Abriss und Bauform der Burg im zeitgenössischen Recht\,\n– rechtliche Fragen bezüglich der Burg\, als Residenz-\, Befestigungs- und Sakralobjekt\,\n– die Burg im Kontext der Siedlungsstruktur\,\n– aktuelle Erkenntnisse der europäischen Burgenkunde\,\nDie Tagung soll den Vortragenden die Möglichkeit geben\, aktuelle Forschungsergebnisse vorzustellen\, und gleichzeitig eine Plattform für einen breiten Austausch von Experten aus Burgenkunde\, Rechtsgeschichte und verwandten Disziplinen bieten.\nVorträge sollten eine Länge von ca. 15 Minuten haben. Tagungssprachen sind Deutsch und Englisch.\nZur Veröffentlichung geplante Beiträge reichen Sie bitte bis 31. Dezember 2023 per E-Mail (cabe@kar.zcu.cz)ein.\nDie Anmeldung erfolgt elektronisch von Februar bis Ende April 2023.\nReichen Sie bitte Abstracts ihrer Vorträge bis 30. April 2023 per E-Mail (cabe@kar.zcu.cz) ein.\nTagungsbeitrag: 90 €\nStudierende: 50 €\nDie Zahlungsangaben sowie nähere Informationen zur Tagung werden im weiteren Verlauf zur Verfügung gestellt.\nUnterkünfte werden nicht organisiert und nicht erstattet. Wir empfehlen die Hotels im Pilsener Stadtzentrum – eine Übersicht finden Sie zum Beispiel auf https://www.visitplzen.eu/ubytovani/. Sie können außerdem das Unterkunftsangebot der Studentenwohnheime der Westböhmischen Universität nutzen (1 Nacht /2 Personen pro Zimmer/ 350\,-Kč/ca. 15 €; 1 Nacht /1 Person pro Zimmer/ 730\,-Kč/ca. 30 €). Unterkünfte im Studentenwohnheim können per E-Mail an die Organisatoren (cabe@kar.zcu.cz) reserviert werden.\nTagungskommittee:\ndoc. PhDr. Pavel Vařeka\, Ph.D.; Vorsitzender; Katedra archeologie Fakulty filozofické Západočeské univerzity v Plzni\nPhDr. Josef Hložek\, Ph.D.; Katedra archeologie Fakulty filozofické Západočeské univerzity v Plzni doc. JUDr. Vilém Knoll\, Ph.D.; Katedra právních dějin Fakulty právnické Západočeské univerzity v Plzni\nPhDr. Peter Bednár\, CSc.; Archeologický ústav\, Slovenská akadémia vied\nDr. Artur Boguszewicz; Uniwersytet Wrocławski\, Wydział Nauk Historycznych i Pedagogicznych\, Katedra Etnologii i Antropologii Kulturowej\nDr. Istvan Feld; Eötvös Loránd University\, Faculty of Humanities\, Institute of Archaeological Sciences\nIng. arch. Petr Chotěbor\, CSc.; Odbor památkové péče Kanceláře prezidenta republiky Praha 1 – Hrad\nMag. Dr. Martin Krenn; Bundesdenkmalamt\, Abteilung für Archäologie\ndoc. Dr. Silvia Pisk; Filozofski fakultet Sveučilišta u Zagrebu\nAssoc. Prof. Katarina Katja Predovnik; Univerza v Ljubljani\, Filozofska fakulteta\, Oddelek za archeologijo\nDr. Adrian Andrei Rusu; Institutul de Arheologie și Istoria Artei al Academiei Române\nKontakt: cabe@kar.zcu.cz
URL:https://medievista.cz/akce/castrum-bene-2023-burg-und-unrecht/
CATEGORIES:Call for papers,Konference a semináře,Vše
END:VEVENT
BEGIN:VEVENT
DTSTART;TZID=Europe/Prague:20230904T080000
DTEND;TZID=Europe/Prague:20230908T170000
DTSTAMP:20260424T193807
CREATED:20230528T120838Z
LAST-MODIFIED:20230528T121146Z
UID:10001719-1693814400-1694192400@medievista.cz
SUMMARY:Castrum Bene 2023: Burg und (Un)Recht
DESCRIPTION:An der Durchführung der Tagung beteiligen sich außerdem der Fachbereich für Anglistik\, der Fachbereich für Germanistik und Slavistik sowie der Fachbereich für Musikerziehung der Westböhmischen Universität. Die Tagung ist interdisziplinär und thematisch weit konzipiert. Sie konzentriert sich auf das Problem befestigter Sitze und deren Beziehung zum mittelalterlichen und frühneuzeitlichen Recht. Dabei sollen insbesondere die folgenden Themen diskutiert werden: \n\nBurg und Herrschaftsdomäne und ihre Beziehung zum Besitzrecht\nBauformen von Burgen im Kontext besitzrechtlicher Beziehungen\ndie Burg als Orte der Schaffung und Ausübung von Recht\ndie Burg und ihre Funktion bei der Gewährleistung der Sicherheit\ndie Burg als Verwaltungszentrum\ndie Burg als Konfliktobjekt\nErbauung\, Abriss und Bauform der Burg im zeitgenössischen Recht\nrechtliche Fragen bezüglich der Burg\, als Residenz-\, Befestigungs- und Sakralobjekt\ndie Burg im Kontext der Siedlungsstruktur\naktuelle Erkenntnisse der europäischen Burgenkunde.\n\nDie Tagung soll den Vortragenden die Möglichkeit geben\, aktuelle Forschungsergebnisse vorzustellen\, und gleichzeitig eine Plattform für einen breiten Austausch von Experten aus Burgenkunde\, Rechtsgeschichte und verwandten Disziplinen bieten. \nVorträge sollten eine Länge von ca. 15 Minuten haben. Tagungssprachen sind Deutsch und Englisch. \nZur Veröffentlichung geplante Beiträge reichen Sie bitte bis 31. Dezember 2023 per E-Mail (cabe@kar.zcu.cz) ein. \nDie Anmeldung erfolgt elektronisch von Februar bis Ende April 2023. \nReichen Sie bitte Abstracts ihrer Vorträge bis 30. April 2023 per E-Mail (cabe@kar.zcu.cz) ein.\nTagungsbeitrag: 90 €\nStudierende: 50 €\nDie Zahlungsangaben sowie nähere Informationen zur Tagung werden im weiteren Verlauf zur Verfügung gestellt. \nUnterkünfte werden nicht organisiert und nicht erstattet. Wir empfehlen die Hotels im Pilsener Stadtzentrum – eine Übersicht finden Sie zum Beispiel auf https://www.visitplzen.eu/ubytovani/. Sie können außerdem das Unterkunftsangebot der Studentenwohnheime der Westböhmischen Universität nutzen (1 Nacht /2 Personen pro Zimmer/ 350\,-Kč/ca. 15 €; 1 Nacht /1 Person pro Zimmer/ 730\,-Kč/ca. 30 €). Unterkünfte im Studentenwohnheim können per E-Mail an die Organisatoren (cabe@kar.zcu.cz) reserviert werden. \nTagungskommittee: \n\ndoc. PhDr. Pavel Vařeka\, Ph.D.; Vorsitzender; Katedra archeologie Fakulty filozofické Západočeské univerzity v Plzni\nPhDr. Josef Hložek\, Ph.D.; Katedra archeologie Fakulty filozofické Západočeské univerzity v Plzni doc. JUDr. Vilém Knoll\, Ph.D.; Katedra právních dějin Fakulty právnické Západočeské univerzity v Plzni\nPhDr. Peter Bednár\, CSc.; Archeologický ústav\, Slovenská akadémia vied\nDr. Artur Boguszewicz; Uniwersytet Wrocławski\, Wydział Nauk Historycznych i Pedagogicznych\, Katedra Etnologii i Antropologii Kulturowej\nDr. Istvan Feld; Eötvös Loránd University\, Faculty of Humanities\, Institute of Archaeological Sciences\nIng. arch. Petr Chotěbor\, CSc.; Odbor památkové péče Kanceláře prezidenta republiky Praha 1 – Hrad\nMag. Dr. Martin Krenn; Bundesdenkmalamt\, Abteilung für Archäologie\ndoc. Dr. Silvia Pisk; Filozofski fakultet Sveučilišta u Zagrebu\nAssoc. Prof. Katarina Katja Predovnik; Univerza v Ljubljani\, Filozofska fakulteta\, Oddelek za archeologijo\nDr. Adrian Andrei Rusu; Institutul de Arheologie și Istoria Artei al Academiei Române\n\nKontakt: cabe@kar.zcu.cz
URL:https://medievista.cz/akce/castrum-bene-2023-burg-und-unrecht-2/
LOCATION:Plzeň\, Plzeň\, Česká republika
CATEGORIES:Konference a semináře,Vše
END:VEVENT
BEGIN:VEVENT
DTSTART;TZID=Europe/Prague:20230914T091500
DTEND;TZID=Europe/Prague:20230914T170000
DTSTAMP:20260424T193807
CREATED:20230914T113908Z
LAST-MODIFIED:20230914T114019Z
UID:10001728-1694682900-1694710800@medievista.cz
SUMMARY:Pain and Conflicts in Medieval Affective Literature
DESCRIPTION:PROGRAM \n9.15 Introduction by Cédric Giraud and Olga Kalashnikova \n9.30 Opening keynote lecture by Carla Bino (Università Cattolica del Sacro Cuore) Humiliatus et despectus: The broken body of Christ in late Medieval Passion’s treatises \n10.30 Coffee break \nMorning session: \n10.45 Gleb Schmidt (University of Nijmegen) Spiritual\, Ecclesiastical\, and Political conflicts of the 12th century in the writings of Honorius Augustodunensis (d. ca. 1153) \n11.30 Alexander Marx (Institute for Medieval Research\, Austrian Academy of Sciences) Visions of violence in crusade-related sermons: two case studies from Martin of León’s corpus \n12.15 Lunch break \nAfternoon session: \n14.00 Olga Kalashnikova (Central European University) Visualization and embodiment of suffering in late-medieval Good Friday sermons and preaching aids in Bohemia \n14.45 Pavel Soukup (Centre for Medieval Studies\, Czech Academy of Sciences) Conflict and Compassion in the Anti-Hussite Preaching and Crusade Liturgy \n15.30 Coffee break \n15.45 Pietro Delcorno (University of Bologna) Spiritual battles in late medieval preaching \n16.30 Concluding remarks \nZoom link: https://ceu-edu.zoom.us/j/97791063976?pwd=VzB3ZVVPRTRsVVdZSFdkL1RZR20wdz09
URL:https://medievista.cz/akce/pain-and-conflicts-in-medieval-affective-literature/
LOCATION:Online
CATEGORIES:Konference a semináře,Vše
END:VEVENT
BEGIN:VEVENT
DTSTART;TZID=Europe/Prague:20230925T093000
DTEND;TZID=Europe/Prague:20230925T180000
DTSTAMP:20260424T193807
CREATED:20230930T213011Z
LAST-MODIFIED:20230930T213011Z
UID:10001731-1695634200-1695664800@medievista.cz
SUMMARY:Podzimní konference UNCE
DESCRIPTION:
URL:https://medievista.cz/akce/podzimni-konference-unce/
LOCATION:Filozofická fakulta Univerzity Karlovy\, nám. Jana Palacha 2\, Praha 1\, 116 38\, Česká republika
CATEGORIES:Konference a semináře,Periodické,Vše
ATTACH;FMTTYPE=image/png:https://medievista.cz/wp-content/uploads/2023/09/uncccce.png
END:VEVENT
END:VCALENDAR