BEGIN:VCALENDAR
VERSION:2.0
PRODID:-//Denní medievista - ECPv6.15.20//NONSGML v1.0//EN
CALSCALE:GREGORIAN
METHOD:PUBLISH
X-ORIGINAL-URL:https://medievista.cz
X-WR-CALDESC:Akce na Denní medievista
REFRESH-INTERVAL;VALUE=DURATION:PT1H
X-Robots-Tag:noindex
X-PUBLISHED-TTL:PT1H
BEGIN:VTIMEZONE
TZID:Europe/Prague
BEGIN:DAYLIGHT
TZOFFSETFROM:+0100
TZOFFSETTO:+0200
TZNAME:CEST
DTSTART:20240331T010000
END:DAYLIGHT
BEGIN:STANDARD
TZOFFSETFROM:+0200
TZOFFSETTO:+0100
TZNAME:CET
DTSTART:20241027T010000
END:STANDARD
BEGIN:DAYLIGHT
TZOFFSETFROM:+0100
TZOFFSETTO:+0200
TZNAME:CEST
DTSTART:20250330T010000
END:DAYLIGHT
BEGIN:STANDARD
TZOFFSETFROM:+0200
TZOFFSETTO:+0100
TZNAME:CET
DTSTART:20251026T010000
END:STANDARD
BEGIN:DAYLIGHT
TZOFFSETFROM:+0100
TZOFFSETTO:+0200
TZNAME:CEST
DTSTART:20260329T010000
END:DAYLIGHT
BEGIN:STANDARD
TZOFFSETFROM:+0200
TZOFFSETTO:+0100
TZNAME:CET
DTSTART:20261025T010000
END:STANDARD
END:VTIMEZONE
BEGIN:VEVENT
DTSTART;TZID=Europe/Prague:20250410T080000
DTEND;TZID=Europe/Prague:20250411T170000
DTSTAMP:20260419T135853
CREATED:20241205T075342Z
LAST-MODIFIED:20241205T075342Z
UID:10001833-1744272000-1744390800@medievista.cz
SUMMARY:Český kníže Vladislav I.\, západní Čechy a český stát za vlády Přemyslovců: K 900. výročí úmrtí zakladatele kladrubského kláštera Vladislava I. (kol. 1070–1125)
DESCRIPTION:
URL:https://medievista.cz/akce/cesky-knize-vladislav-i-zapadni-cechy-a-cesky-stat-za-vlady-premyslovcu-k-900-vyroci-umrti-zakladatele-kladrubskeho-klastera-vladislava-i-kol-1070-1125/
LOCATION:Fakulta pedagogická Západočeské univerzity v Plzni\, Veleslavínova 342/42\, Plzeň\, západočeský\, 301 00\, Czech Republic
CATEGORIES:Konference a semináře,Vše
ORGANIZER;CN="Fakulta pedagogick%C3%A1 Z%C3%A1pado%C4%8Desk%C3%A9 univerzity v Plzni":MAILTO:vforstov@fpe.zcu.cz
END:VEVENT
BEGIN:VEVENT
DTSTART;TZID=Europe/Prague:20250424T080000
DTEND;TZID=Europe/Prague:20250425T170000
DTSTAMP:20260419T135853
CREATED:20241203T150107Z
LAST-MODIFIED:20241203T150107Z
UID:10001829-1745481600-1745600400@medievista.cz
SUMMARY:XIII. bienále - Od krásy k užitku aneb zelená a zeleň na všechny pády…
DESCRIPTION:Řečeno slovy francouzského historika Michela Pastoureau\, jehož některé knihy český čtenář zná\, není zelená barva barvou počestnou – je mazaná\, nedá si nahlížet do karet\, pokrytecky mění svou symboliku podle potřeby… Získat ji z přírodních surovin bylo vždy poměrně snadné\, proto se jí dostávalo menšího uznání než barvám červené\, modré či dokonce zlaté. Zelená byla nestálá\, špatně držela na látkách i malířských podkladech. Tato nestabilita vedla k tomu\, že se stala symbolem všeho\, co se hýbe\, mění\, stala se barvou náhody\, hry\, osudu. \nRehabilitovalo ji 19. století: hypertrofující města\, „centra smradu“\, si oblíbila zeleň a prosazovala ji na všech volných plochách\, které ještě zůstaly. Zelená se stala dichotomickou antitezí civilizace. Znamenala život. A právě v prostředí měst došlo pomocí zelené k vytvoření nové symboliky: barvy\, která znamená souhlas\, svolení\, bezpečí\, barvy\, jejímž protikladem je červená znamenající zákaz\, omezení\, nebezpečí. S explozivním růstem městských aglomerací v období průmyslové revoluce a na přelomu 19. a 20. století se v urbanismu zrodilo téma bydlení a života v zeleni\, zrod krajinářské architektury a potřeba vyvážení zastavěných a různorodě funkčně využívaných ploch zelenými „plícemi“ města – městskými sady a parky s okrasně osázenými trávníky. Ty se – vedle tradičních pohostinských provozů – staly novými epicentry společenské komunikace\, zábavy a podívané; místy\, kde se privátní mísilo s veřejným (pikniky\, rauty\, sport). \nZatímco zeleň a zelená je v městech do určité míry „náplavou“\, ve volné přírodě kralovala a ve svém království lidské zásahy nepotřebovala. Užitná hodnota rozsáhlých volných ploch zapřáhla zeleň do služeb člověka: zeleň začala být poutaná\, ovládaná a v posledku devastovaná. Lidskou tvář měla i zeleň v zámeckých parcích; ovšem z pohledu užitečnosti zde docházelo k plýtvání trávou\, vodou i lidskou energií. Ale jen do chvíle\, než nastal nedostatek. Pak se nejen zámecké zahrady\, městské parky\, ale jakékoliv\, i drobné okrasné plochy zezelenaly: měnily se v užitečné zeleninové záhony. A vyhladovělá populace začala ve volné přírodě „spásat“ to\, co původně nechávala němým tvářím … \nHlavní okruhy: \n  \n\nZeleň jako jeden z motivů paradigmatického obratu v historiografii: od ontologického\, poznávacího a hodnotového antropocentrismu k biocentrismu v humanitních vědách\n\nPodokruhy \n\nEkologická krize a její (historické) souvislosti;\nČlověk jako součást přírody;\n„Zelený“ obrat v historiografii.\n\n  \n\nZeleň a zelená v komunikaci\n\nPodokruhy: \n\nSymbolika zelené a zeleně v dějinách\, jazyce a v komunikaci (posvátné stromy a háje; zelené elementy v heraldice\, symbolické komunikaci a reprezentaci; „zelená“ rčení\, přísloví a idiomy; květomluva a její symbolika);\nZelená jako symbol volnosti\, svolení a bezpečí v umění a literatuře vs. zelená jako paradigma disciplíny;\nZeleň (zelená) v sociální a politické komunikaci.\n\n  \n\nBydlet a žít zeleně\, bydlet v zeleni \n\nPodokruhy: \n\nUrbanismus zahradních měst\, místo a role zelených elementů v teorii urbanismu a bydlení 19. a 20. století\, ekologická architektura;\nVeřejné parky a sady\, jejich typologie a koncepty osázení dřevinami a květinovými hnízdy\, jejich tvůrci;\nIntrodukce okrasných dřevin. Záhumenky\, zahrady (včetně botanických) a zahrádky.\n\n  \n\nZelená strava\, kuchyně a medicína\n\nPodokruhy: \n\nZelenina a přírodní produkty ve stravování od středověku do současnosti; zelená kuchyně; geneze a vývoj žánru biokuchařek;\nUžitková zeleň – kuchyně\, nápoje. Rozšíření portfolia spotřební zeleně v době zásobovacích krizí;\n„Zelené dějiny světa“ aneb „Dáš si s námi trávu?“: dějiny pěstování a využití konopí.\n\n  \n  \nVážené kolegyně\, vážení kolegové\, pokud Vás téma zeleně upoutá\, rádi Vás v Pardubicích na tradičním bienále přivítáme. \nPředem prosíme o zaslání názvu vašeho příspěvku se stručnou anotací (do 800 znaků)\, a to do 31. ledna 2025\, na níže uvedenou adresu. \n  \nS hezkými pozdravy \nMartin Čapský\, Milena Lenderová\, Pavel Panoch \nÚstav historických věd Fakulty filozofické Univerzity Pardubice \n  \nmilena.lenderova@upce.cz
URL:https://medievista.cz/akce/xiii-bienale-od-krasy-k-uzitku-aneb-zelena-a-zelen-na-vsechny-pady/
LOCATION:Univerzita Pardubice\, náměstí Čs. legií 565\, Pardubice\, Česká republika
CATEGORIES:Konference a semináře,Vše
END:VEVENT
BEGIN:VEVENT
DTSTART;TZID=Europe/Prague:20250425T133000
DTEND;TZID=Europe/Prague:20250425T170000
DTSTAMP:20260419T135853
CREATED:20250425T095621Z
LAST-MODIFIED:20250425T095621Z
UID:10001854-1745587800-1745600400@medievista.cz
SUMMARY:15th Day of Byzantine Studies
DESCRIPTION:
URL:https://medievista.cz/akce/15th-day-of-byzantine-studies/
LOCATION:Filozofická fakulta MU Brno\, A. Nováka 1\, Brno\, 60200
CATEGORIES:Konference a semináře,Vše
GEO:49.2003567;16.5980536
X-APPLE-STRUCTURED-LOCATION;VALUE=URI;X-ADDRESS=Filozofická fakulta MU Brno A. Nováka 1 Brno 60200;X-APPLE-RADIUS=500;X-TITLE=A. Nováka 1:geo:16.5980536,49.2003567
END:VEVENT
END:VCALENDAR