BEGIN:VCALENDAR
VERSION:2.0
PRODID:-//Denní medievista - ECPv6.15.20//NONSGML v1.0//EN
CALSCALE:GREGORIAN
METHOD:PUBLISH
X-ORIGINAL-URL:https://medievista.cz
X-WR-CALDESC:Akce na Denní medievista
REFRESH-INTERVAL;VALUE=DURATION:PT1H
X-Robots-Tag:noindex
X-PUBLISHED-TTL:PT1H
BEGIN:VTIMEZONE
TZID:Europe/Prague
BEGIN:DAYLIGHT
TZOFFSETFROM:+0100
TZOFFSETTO:+0200
TZNAME:CEST
DTSTART:20220327T010000
END:DAYLIGHT
BEGIN:STANDARD
TZOFFSETFROM:+0200
TZOFFSETTO:+0100
TZNAME:CET
DTSTART:20221030T010000
END:STANDARD
BEGIN:DAYLIGHT
TZOFFSETFROM:+0100
TZOFFSETTO:+0200
TZNAME:CEST
DTSTART:20230326T010000
END:DAYLIGHT
BEGIN:STANDARD
TZOFFSETFROM:+0200
TZOFFSETTO:+0100
TZNAME:CET
DTSTART:20231029T010000
END:STANDARD
BEGIN:DAYLIGHT
TZOFFSETFROM:+0100
TZOFFSETTO:+0200
TZNAME:CEST
DTSTART:20240331T010000
END:DAYLIGHT
BEGIN:STANDARD
TZOFFSETFROM:+0200
TZOFFSETTO:+0100
TZNAME:CET
DTSTART:20241027T010000
END:STANDARD
BEGIN:DAYLIGHT
TZOFFSETFROM:+0100
TZOFFSETTO:+0200
TZNAME:CEST
DTSTART:20250330T010000
END:DAYLIGHT
BEGIN:STANDARD
TZOFFSETFROM:+0200
TZOFFSETTO:+0100
TZNAME:CET
DTSTART:20251026T010000
END:STANDARD
END:VTIMEZONE
BEGIN:VEVENT
DTSTART;TZID=Europe/Prague:20230904T080000
DTEND;TZID=Europe/Prague:20230908T170000
DTSTAMP:20260425T162827
CREATED:20230528T120838Z
LAST-MODIFIED:20230528T121146Z
UID:10001719-1693814400-1694192400@medievista.cz
SUMMARY:Castrum Bene 2023: Burg und (Un)Recht
DESCRIPTION:An der Durchführung der Tagung beteiligen sich außerdem der Fachbereich für Anglistik\, der Fachbereich für Germanistik und Slavistik sowie der Fachbereich für Musikerziehung der Westböhmischen Universität. Die Tagung ist interdisziplinär und thematisch weit konzipiert. Sie konzentriert sich auf das Problem befestigter Sitze und deren Beziehung zum mittelalterlichen und frühneuzeitlichen Recht. Dabei sollen insbesondere die folgenden Themen diskutiert werden: \n\nBurg und Herrschaftsdomäne und ihre Beziehung zum Besitzrecht\nBauformen von Burgen im Kontext besitzrechtlicher Beziehungen\ndie Burg als Orte der Schaffung und Ausübung von Recht\ndie Burg und ihre Funktion bei der Gewährleistung der Sicherheit\ndie Burg als Verwaltungszentrum\ndie Burg als Konfliktobjekt\nErbauung\, Abriss und Bauform der Burg im zeitgenössischen Recht\nrechtliche Fragen bezüglich der Burg\, als Residenz-\, Befestigungs- und Sakralobjekt\ndie Burg im Kontext der Siedlungsstruktur\naktuelle Erkenntnisse der europäischen Burgenkunde.\n\nDie Tagung soll den Vortragenden die Möglichkeit geben\, aktuelle Forschungsergebnisse vorzustellen\, und gleichzeitig eine Plattform für einen breiten Austausch von Experten aus Burgenkunde\, Rechtsgeschichte und verwandten Disziplinen bieten. \nVorträge sollten eine Länge von ca. 15 Minuten haben. Tagungssprachen sind Deutsch und Englisch. \nZur Veröffentlichung geplante Beiträge reichen Sie bitte bis 31. Dezember 2023 per E-Mail (cabe@kar.zcu.cz) ein. \nDie Anmeldung erfolgt elektronisch von Februar bis Ende April 2023. \nReichen Sie bitte Abstracts ihrer Vorträge bis 30. April 2023 per E-Mail (cabe@kar.zcu.cz) ein.\nTagungsbeitrag: 90 €\nStudierende: 50 €\nDie Zahlungsangaben sowie nähere Informationen zur Tagung werden im weiteren Verlauf zur Verfügung gestellt. \nUnterkünfte werden nicht organisiert und nicht erstattet. Wir empfehlen die Hotels im Pilsener Stadtzentrum – eine Übersicht finden Sie zum Beispiel auf https://www.visitplzen.eu/ubytovani/. Sie können außerdem das Unterkunftsangebot der Studentenwohnheime der Westböhmischen Universität nutzen (1 Nacht /2 Personen pro Zimmer/ 350\,-Kč/ca. 15 €; 1 Nacht /1 Person pro Zimmer/ 730\,-Kč/ca. 30 €). Unterkünfte im Studentenwohnheim können per E-Mail an die Organisatoren (cabe@kar.zcu.cz) reserviert werden. \nTagungskommittee: \n\ndoc. PhDr. Pavel Vařeka\, Ph.D.; Vorsitzender; Katedra archeologie Fakulty filozofické Západočeské univerzity v Plzni\nPhDr. Josef Hložek\, Ph.D.; Katedra archeologie Fakulty filozofické Západočeské univerzity v Plzni doc. JUDr. Vilém Knoll\, Ph.D.; Katedra právních dějin Fakulty právnické Západočeské univerzity v Plzni\nPhDr. Peter Bednár\, CSc.; Archeologický ústav\, Slovenská akadémia vied\nDr. Artur Boguszewicz; Uniwersytet Wrocławski\, Wydział Nauk Historycznych i Pedagogicznych\, Katedra Etnologii i Antropologii Kulturowej\nDr. Istvan Feld; Eötvös Loránd University\, Faculty of Humanities\, Institute of Archaeological Sciences\nIng. arch. Petr Chotěbor\, CSc.; Odbor památkové péče Kanceláře prezidenta republiky Praha 1 – Hrad\nMag. Dr. Martin Krenn; Bundesdenkmalamt\, Abteilung für Archäologie\ndoc. Dr. Silvia Pisk; Filozofski fakultet Sveučilišta u Zagrebu\nAssoc. Prof. Katarina Katja Predovnik; Univerza v Ljubljani\, Filozofska fakulteta\, Oddelek za archeologijo\nDr. Adrian Andrei Rusu; Institutul de Arheologie și Istoria Artei al Academiei Române\n\nKontakt: cabe@kar.zcu.cz
URL:https://medievista.cz/akce/castrum-bene-2023-burg-und-unrecht-2/
LOCATION:Plzeň\, Plzeň\, Česká republika
CATEGORIES:Konference a semináře,Vše
END:VEVENT
BEGIN:VEVENT
DTSTART;TZID=Europe/Prague:20230914T091500
DTEND;TZID=Europe/Prague:20230914T170000
DTSTAMP:20260425T162827
CREATED:20230914T113908Z
LAST-MODIFIED:20230914T114019Z
UID:10001728-1694682900-1694710800@medievista.cz
SUMMARY:Pain and Conflicts in Medieval Affective Literature
DESCRIPTION:PROGRAM \n9.15 Introduction by Cédric Giraud and Olga Kalashnikova \n9.30 Opening keynote lecture by Carla Bino (Università Cattolica del Sacro Cuore) Humiliatus et despectus: The broken body of Christ in late Medieval Passion’s treatises \n10.30 Coffee break \nMorning session: \n10.45 Gleb Schmidt (University of Nijmegen) Spiritual\, Ecclesiastical\, and Political conflicts of the 12th century in the writings of Honorius Augustodunensis (d. ca. 1153) \n11.30 Alexander Marx (Institute for Medieval Research\, Austrian Academy of Sciences) Visions of violence in crusade-related sermons: two case studies from Martin of León’s corpus \n12.15 Lunch break \nAfternoon session: \n14.00 Olga Kalashnikova (Central European University) Visualization and embodiment of suffering in late-medieval Good Friday sermons and preaching aids in Bohemia \n14.45 Pavel Soukup (Centre for Medieval Studies\, Czech Academy of Sciences) Conflict and Compassion in the Anti-Hussite Preaching and Crusade Liturgy \n15.30 Coffee break \n15.45 Pietro Delcorno (University of Bologna) Spiritual battles in late medieval preaching \n16.30 Concluding remarks \nZoom link: https://ceu-edu.zoom.us/j/97791063976?pwd=VzB3ZVVPRTRsVVdZSFdkL1RZR20wdz09
URL:https://medievista.cz/akce/pain-and-conflicts-in-medieval-affective-literature/
LOCATION:Online
CATEGORIES:Konference a semináře,Vše
END:VEVENT
BEGIN:VEVENT
DTSTART;TZID=Europe/Prague:20230925T093000
DTEND;TZID=Europe/Prague:20230925T180000
DTSTAMP:20260425T162827
CREATED:20230930T213011Z
LAST-MODIFIED:20230930T213011Z
UID:10001731-1695634200-1695664800@medievista.cz
SUMMARY:Podzimní konference UNCE
DESCRIPTION:
URL:https://medievista.cz/akce/podzimni-konference-unce/
LOCATION:Filozofická fakulta Univerzity Karlovy\, nám. Jana Palacha 2\, Praha 1\, 116 38\, Česká republika
CATEGORIES:Konference a semináře,Periodické,Vše
ATTACH;FMTTYPE=image/png:https://medievista.cz/wp-content/uploads/2023/09/uncccce.png
END:VEVENT
BEGIN:VEVENT
DTSTART;TZID=Europe/Prague:20231026T090000
DTEND;TZID=Europe/Prague:20231027T180000
DTSTAMP:20260425T162827
CREATED:20231019T113318Z
LAST-MODIFIED:20231025T083733Z
UID:10001733-1698310800-1698429600@medievista.cz
SUMMARY:Queens\, Noblewomen\, and Burgher Women in the Middle Ages
DESCRIPTION:
URL:https://medievista.cz/akce/queens-noblewomen-and-burgher-women-in-the-middle-ages/
LOCATION:Akademické konferenční centrum\, Husova 4a\, Praha\, 11000\, Česká republika
CATEGORIES:Konference a semináře,Vše
GEO:50.0844845;14.4183246
X-APPLE-STRUCTURED-LOCATION;VALUE=URI;X-ADDRESS=Akademické konferenční centrum Husova 4a Praha 11000 Česká republika;X-APPLE-RADIUS=500;X-TITLE=Husova 4a:geo:14.4183246,50.0844845
END:VEVENT
BEGIN:VEVENT
DTSTART;TZID=Europe/Prague:20231116T100000
DTEND;TZID=Europe/Prague:20231116T120000
DTSTAMP:20260425T162827
CREATED:20231114T120100Z
LAST-MODIFIED:20231114T120100Z
UID:10001746-1700128800-1700136000@medievista.cz
SUMMARY:Digitální brána k písemnému dědictví
DESCRIPTION:
URL:https://medievista.cz/akce/digitalni-brana-k-pisemnemu-dedictvi/
LOCATION:Národní knihovna ČR\, Klementinum 190\, Praha 1\, 110 00
CATEGORIES:Konference a semináře,Přednášky,Vše
ORGANIZER;CN="N%C3%A1rodn%C3%AD knihovna %C4%8CR":MAILTO:renata.modrakova@nkp.cz
GEO:50.0868107;14.4164872
X-APPLE-STRUCTURED-LOCATION;VALUE=URI;X-ADDRESS=Národní knihovna ČR Klementinum 190 Praha 1 110 00;X-APPLE-RADIUS=500;X-TITLE=Klementinum 190:geo:14.4164872,50.0868107
END:VEVENT
BEGIN:VEVENT
DTSTART;TZID=Europe/Prague:20231122T090000
DTEND;TZID=Europe/Prague:20231122T170000
DTSTAMP:20260425T162827
CREATED:20231109T122152Z
LAST-MODIFIED:20231109T122152Z
UID:10001745-1700643600-1700672400@medievista.cz
SUMMARY:Slovanské pohanství v mezioborovém pohledu
DESCRIPTION:
URL:https://medievista.cz/akce/slovanske-pohanstvi-v-mezioborovem-pohledu/
LOCATION:Akademické konferenční centrum\, Husova 4a\, Praha\, 11000\, Česká republika
CATEGORIES:Konference a semináře,Vše
ORGANIZER;CN="Slovansk%C3%BD %C3%BAstav AV %C4%8CR%2C v.v.i.":MAILTO:dynda@slu.cas.cz
GEO:50.0844845;14.4183246
X-APPLE-STRUCTURED-LOCATION;VALUE=URI;X-ADDRESS=Akademické konferenční centrum Husova 4a Praha 11000 Česká republika;X-APPLE-RADIUS=500;X-TITLE=Husova 4a:geo:14.4183246,50.0844845
END:VEVENT
BEGIN:VEVENT
DTSTART;TZID=Europe/Prague:20231122T120000
DTEND;TZID=Europe/Prague:20231124T150000
DTSTAMP:20260425T162827
CREATED:20231106T103727Z
LAST-MODIFIED:20231106T104306Z
UID:10001742-1700654400-1700838000@medievista.cz
SUMMARY:Bücher des Mittelalters und der Frührenaissance aus und in Olmütz/Medieval and Early Renaissance Books from and in Olomouc
DESCRIPTION:
URL:https://medievista.cz/akce/2839/
LOCATION:Umělecké centrum FF UP Konvikt\, Univerzitní 3\, Olomouc\, Olomoucký\, Česká republika
CATEGORIES:Konference a semináře,Vše
GEO:49.5946924;17.2553409
X-APPLE-STRUCTURED-LOCATION;VALUE=URI;X-ADDRESS=Umělecké centrum FF UP Konvikt Univerzitní 3 Olomouc Olomoucký Česká republika;X-APPLE-RADIUS=500;X-TITLE=Univerzitní 3:geo:17.2553409,49.5946924
END:VEVENT
BEGIN:VEVENT
DTSTART;TZID=Europe/Prague:20231129T083000
DTEND;TZID=Europe/Prague:20231130T160000
DTSTAMP:20260425T162827
CREATED:20231121T135418Z
LAST-MODIFIED:20231121T135902Z
UID:10001747-1701246600-1701360000@medievista.cz
SUMMARY:Domácnost a dvorská společnost / Household and Court Society
DESCRIPTION:
URL:https://medievista.cz/akce/domacnost-a-dvorska-spolecnost/
LOCATION:Akademické konferenční centrum\, Husova 4a\, Praha\, 11000\, Česká republika
CATEGORIES:Konference a semináře,Vše
ORGANIZER;CN="Historick%C3%BD %C3%BAstav AV %C4%8CR":MAILTO:sekretariat@hiu.cas.cz
GEO:50.0844845;14.4183246
X-APPLE-STRUCTURED-LOCATION;VALUE=URI;X-ADDRESS=Akademické konferenční centrum Husova 4a Praha 11000 Česká republika;X-APPLE-RADIUS=500;X-TITLE=Husova 4a:geo:14.4183246,50.0844845
END:VEVENT
BEGIN:VEVENT
DTSTART;TZID=Europe/Prague:20231207T170000
DTEND;TZID=Europe/Prague:20231208T170000
DTSTAMP:20260425T162827
CREATED:20231204T103530Z
LAST-MODIFIED:20231204T104009Z
UID:10001751-1701968400-1702054800@medievista.cz
SUMMARY:Kolokvium Jak vyprávět klimatickou změnu a environmentální žal?
DESCRIPTION:Klimatická změna se v posledních desetiletích stala předmětem nejen vášnivých veřejných debat\, ale i poetické reflexe v umění a beletrii. Svojí neuchopitelností a komplexitou se přitom klimatická změna a její důsledky vzpírají tradičním poetikám. Vzniká něco jako poetika klimatické změny? \nÚstav pro českou literaturu AV ČR\, Tým pro studium traumatu a paměti v literatuře s podporou programu Strategie AV 21 Odolná společnost pořádá ve dnech 7.–8. prosince 2023 workshop na téma Jak vyprávět klimatickou změnu a environmentální žal? Poetiky klimatické změny v soudobé literatuře a divadle.
URL:https://medievista.cz/akce/kolokvium-jak-vypravet-klimatickou-zmenu-a-environmentalni-zal/
LOCATION:Ústav pro českou literaturu AV ČR\, Na Florenci 3\, Praha\, Česká republika
CATEGORIES:Konference a semináře,Vše
GEO:50.0889339;14.4334147
X-APPLE-STRUCTURED-LOCATION;VALUE=URI;X-ADDRESS=Ústav pro českou literaturu AV ČR Na Florenci 3 Praha Česká republika;X-APPLE-RADIUS=500;X-TITLE=Na Florenci 3:geo:14.4334147,50.0889339
END:VEVENT
BEGIN:VEVENT
DTSTART;TZID=Europe/Prague:20240214T093000
DTEND;TZID=Europe/Prague:20240214T150000
DTSTAMP:20260425T162827
CREATED:20240202T125038Z
LAST-MODIFIED:20240202T125038Z
UID:10001758-1707903000-1707922800@medievista.cz
SUMMARY:Vzpomínka na Petra Sommera a jeho dílo
DESCRIPTION:
URL:https://medievista.cz/akce/vzpominka-na-petra-sommera-a-jeho-dilo/
LOCATION:Hlavní budova Akademie věd\, Národní 3\, Praha 1\, 117 20\, Česká republika
CATEGORIES:Konference a semináře,Přednášky,Vše
GEO:50.0816138;14.4142
X-APPLE-STRUCTURED-LOCATION;VALUE=URI;X-ADDRESS=Hlavní budova Akademie věd Národní 3 Praha 1 117 20 Česká republika;X-APPLE-RADIUS=500;X-TITLE=Národní 3:geo:14.4142,50.0816138
END:VEVENT
BEGIN:VEVENT
DTSTART;TZID=Europe/Prague:20240314T100000
DTEND;TZID=Europe/Prague:20240314T180000
DTSTAMP:20260425T162827
CREATED:20240229T163207Z
LAST-MODIFIED:20240229T163207Z
UID:10001772-1710410400-1710439200@medievista.cz
SUMMARY:THE CROWN OF ARAGON AND THE CROWN OF THE KINGDOM OF BOHEMIA
DESCRIPTION:
URL:https://medievista.cz/akce/the-crown-of-aragon-and-the-crown-of-the-kingdom-of-bohemia/
LOCATION:Filozofická fakulta Univerzity Karlovy\, nám. Jana Palacha 2\, Praha 1\, 116 38\, Česká republika
CATEGORIES:Konference a semináře,Vše
END:VEVENT
BEGIN:VEVENT
DTSTART;TZID=Europe/Prague:20240320T090000
DTEND;TZID=Europe/Prague:20240320T180000
DTSTAMP:20260425T162827
CREATED:20240315T084030Z
LAST-MODIFIED:20240315T084030Z
UID:10001780-1710925200-1710957600@medievista.cz
SUMMARY:Ancient Kings - Contemporary Politics\, Medievalism in Central an Eastern Europe
DESCRIPTION:
URL:https://medievista.cz/akce/ancient-kings-contemporary-politics-medievalism-in-central-an-eastern-europe/
LOCATION:CEFRES –  – Francouzský ústav pro výzkum ve společenských vědách\, Na Florenci 3\, Praha 1\, Česká republika
CATEGORIES:Konference a semináře,Vše
ORGANIZER;CN="CEFRES %E2%80%93 Francouzsk%C3%BD %C3%BAstav pro v%C3%BDzkum ve spole%C4%8Densk%C3%BDch v%C4%9Bd%C3%A1ch":MAILTO:cefres@cefres.cz
GEO:50.0888049;14.4335596
X-APPLE-STRUCTURED-LOCATION;VALUE=URI;X-ADDRESS=CEFRES –  – Francouzský ústav pro výzkum ve společenských vědách Na Florenci 3 Praha 1 Česká republika;X-APPLE-RADIUS=500;X-TITLE=Na Florenci 3:geo:14.4335596,50.0888049
END:VEVENT
BEGIN:VEVENT
DTSTART;TZID=Europe/Prague:20240326T090000
DTEND;TZID=Europe/Prague:20240326T170000
DTSTAMP:20260425T162827
CREATED:20240307T151643Z
LAST-MODIFIED:20240307T151643Z
UID:10001773-1711443600-1711472400@medievista.cz
SUMMARY:XXX. SETKÁNÍ DOKTORANDŮ A DOKTORANDEK
DESCRIPTION:Program TBA
URL:https://medievista.cz/akce/xxx-setkani-doktorandu-a-doktorandek/
LOCATION:Akademické konferenční centrum\, Husova 4a\, Praha\, 11000\, Česká republika
CATEGORIES:Doktorandské,Konference a semináře,Vše
ORGANIZER;CN="Centrum medievistick%C3%BDch studi%C3%AD":MAILTO:cms@flu.cas.cz
GEO:50.0844845;14.4183246
X-APPLE-STRUCTURED-LOCATION;VALUE=URI;X-ADDRESS=Akademické konferenční centrum Husova 4a Praha 11000 Česká republika;X-APPLE-RADIUS=500;X-TITLE=Husova 4a:geo:14.4183246,50.0844845
END:VEVENT
BEGIN:VEVENT
DTSTART;TZID=Europe/Prague:20240418T090000
DTEND;TZID=Europe/Prague:20240418T163000
DTSTAMP:20260425T162827
CREATED:20240412T084620Z
LAST-MODIFIED:20240412T084620Z
UID:10001787-1713430800-1713457800@medievista.cz
SUMMARY:HERITAGE SCIENCE AND MEDIEVAL DOCUMENTS
DESCRIPTION:Dear colleagues\, \nWe are happy to invite you to our one day long hybrid event HERITAGE SCIENCE AND MEDIEVAL DOCUMENTS on 18th April 2024. \nThe digital humanities have become an essential tool for medievalists. However\, another field that is becoming increasingly important for the study of medieval documents is Heritage Science. While digital humanities employ computer-aided methods\, heritage science uses exact sciences to study physical artifacts\, from multispectral imaging to chemical analysis. This event will focus on the collaborative efforts of the Institute for Medieval Research of Austrian Academy of Sciences and its partner institutions in applying Heritage Science to the study of medieval written sources. The program will highlight current research projects\, emerging methodologies\, and future directions in this field. \nDate: 18th April 2024\nTime: 900-1630h  CET\nLocation: Otto Wagner PSK\, Austrian Academy of Sciences\, Institute for Medieval Research\, Seminar room 7\, 5th floor\, Georg-Coch-Platz 2\, 1010 WIEN \nSee the details: https://www.oeaw.ac.at/imafo/veranstaltungen/detail/heritage-science-and-medieval-documents . \nFEEL FREE TO JOIN US ALSO VIA ZOOM: https://oeaw-ac-at.zoom.us/j/69068960604?pwd=OWZTUW5RZEdYSlFuSG93Qnc0NmZ0Zz09
URL:https://medievista.cz/akce/heritage-science-and-medieval-documents/
LOCATION:Institut für Mittelalterforschung\, Georg-Coch-Platz 2\, Wien\, Wien\, 1010\, Rakousko
CATEGORIES:Konference a semináře,Vše
GEO:48.2100152;16.380729
X-APPLE-STRUCTURED-LOCATION;VALUE=URI;X-ADDRESS=Institut für Mittelalterforschung Georg-Coch-Platz 2 Wien Wien 1010 Rakousko;X-APPLE-RADIUS=500;X-TITLE=Georg-Coch-Platz 2:geo:16.380729,48.2100152
END:VEVENT
BEGIN:VEVENT
DTSTART;TZID=Europe/Prague:20240418T090000
DTEND;TZID=Europe/Prague:20240419T180000
DTSTAMP:20260425T162827
CREATED:20240307T160657Z
LAST-MODIFIED:20240307T160801Z
UID:10001778-1713430800-1713549600@medievista.cz
SUMMARY:STŘEDOVĚK DO ŠKOL!?  Starší dějiny v liberální demokracii – od kritiky ke konstrukci
DESCRIPTION:
URL:https://medievista.cz/akce/3212/
LOCATION:Městská knihovna v Praze\, Mariánské náměstí 1\, Praha 1\, Praha\, 11000\, Česká republika
CATEGORIES:Konference a semináře,Vše
ORGANIZER;CN="Centrum medievistick%C3%BDch studi%C3%AD":MAILTO:cms@flu.cas.cz
END:VEVENT
BEGIN:VEVENT
DTSTART;TZID=Europe/Prague:20240522T084500
DTEND;TZID=Europe/Prague:20240522T170000
DTSTAMP:20260425T162827
CREATED:20240328T144616Z
LAST-MODIFIED:20240328T144616Z
UID:10001782-1716367500-1716397200@medievista.cz
SUMMARY:IV. česko-polské bilaterální zasedání\, Panovnický dvůr a sociální mobilita ve středověku a raném novověku
DESCRIPTION:
URL:https://medievista.cz/akce/iv-cesko-polske-bilateralni-zasedani-panovnicky-dvur-a-socialni-mobilita-ve-stredoveku-a-ranem-novoveku/
LOCATION:Akademické konferenční centrum\, Husova 4a\, Praha\, 11000\, Česká republika
CATEGORIES:Konference a semináře,Vše
ORGANIZER;CN="Historick%C3%BD %C3%BAstav AV %C4%8CR":MAILTO:sekretariat@hiu.cas.cz
GEO:50.0844845;14.4183246
X-APPLE-STRUCTURED-LOCATION;VALUE=URI;X-ADDRESS=Akademické konferenční centrum Husova 4a Praha 11000 Česká republika;X-APPLE-RADIUS=500;X-TITLE=Husova 4a:geo:14.4183246,50.0844845
END:VEVENT
BEGIN:VEVENT
DTSTART;TZID=Europe/Prague:20240523T090000
DTEND;TZID=Europe/Prague:20240525T140000
DTSTAMP:20260425T162827
CREATED:20240517T090011Z
LAST-MODIFIED:20240517T090307Z
UID:10001798-1716454800-1716645600@medievista.cz
SUMMARY:Managing the Prince. Hidden Actors and the Prosopography of Pre-Modern Rulership
DESCRIPTION:
URL:https://medievista.cz/akce/managing-the-prince-hidden-actors-and-the-prosopography-of-pre-modern-rulership/
LOCATION:Weltmuseum Wien FORUM – KHM\, Heldenplatz 1\, Vienna\, 1010\, Rakousko
CATEGORIES:Konference a semináře,Vše
GEO:48.2064039;16.3651538
X-APPLE-STRUCTURED-LOCATION;VALUE=URI;X-ADDRESS=Weltmuseum Wien FORUM – KHM Heldenplatz 1 Vienna 1010 Rakousko;X-APPLE-RADIUS=500;X-TITLE=Heldenplatz 1:geo:16.3651538,48.2064039
END:VEVENT
BEGIN:VEVENT
DTSTART;TZID=Europe/Prague:20240606T093000
DTEND;TZID=Europe/Prague:20240606T170000
DTSTAMP:20260425T162827
CREATED:20240516T092718Z
LAST-MODIFIED:20240530T143244Z
UID:10001794-1717666200-1717693200@medievista.cz
SUMMARY:ZRUŠENO - HRADY HUSITSKÉ EPOCHY II Opevnění a fortifikační architektura v interdisciplinární perspektivě
DESCRIPTION:
URL:https://medievista.cz/akce/hrady-husitske-epochy-ii-opevneni-a-fortifikacni-architektura-v-interdisciplinarni-perspektive/
LOCATION:Akademické konferenční centrum\, Husova 4a\, Praha\, 11000\, Česká republika
CATEGORIES:Konference a semináře,Vše
ORGANIZER;CN="Centrum medievistick%C3%BDch studi%C3%AD":MAILTO:cms@flu.cas.cz
GEO:50.0844845;14.4183246
X-APPLE-STRUCTURED-LOCATION;VALUE=URI;X-ADDRESS=Akademické konferenční centrum Husova 4a Praha 11000 Česká republika;X-APPLE-RADIUS=500;X-TITLE=Husova 4a:geo:14.4183246,50.0844845
END:VEVENT
BEGIN:VEVENT
DTSTART;TZID=Europe/Prague:20240712T143000
DTEND;TZID=Europe/Prague:20240716T170000
DTSTAMP:20260425T162827
CREATED:20240426T141347Z
LAST-MODIFIED:20240426T141347Z
UID:10001788-1720794600-1721149200@medievista.cz
SUMMARY:Preaching and Conflict 24th International Medieval Sermon Studies Symposium
DESCRIPTION:
URL:https://medievista.cz/akce/preaching-and-conflict-24th-international-medieval-sermon-studies-symposium/
LOCATION:Český Svaz Vědeckotechnických Společností\, Novotného lávka 200/5\, Praha\, Praha\, 11000\, Česká republika
CATEGORIES:Konference a semináře,Vše
ORGANIZER;CN="Centrum medievistick%C3%BDch studi%C3%AD":MAILTO:cms@flu.cas.cz
GEO:50.0854191;14.4133023
X-APPLE-STRUCTURED-LOCATION;VALUE=URI;X-ADDRESS=Český Svaz Vědeckotechnických Společností Novotného lávka 200/5 Praha Praha 11000 Česká republika;X-APPLE-RADIUS=500;X-TITLE=Novotného lávka 200/5:geo:14.4133023,50.0854191
END:VEVENT
BEGIN:VEVENT
DTSTART;TZID=Europe/Prague:20240822T080000
DTEND;TZID=Europe/Prague:20240824T170000
DTSTAMP:20260425T162827
CREATED:20240202T132434Z
LAST-MODIFIED:20240202T132434Z
UID:10001762-1724313600-1724518800@medievista.cz
SUMMARY:Courtly Experience in the Premodern World\, c. 1200-1800
DESCRIPTION:TBA
URL:https://medievista.cz/akce/courtly-experience-in-the-premodern-world-c-1200-1800/
LOCATION:Filozofická fakulta Univerzity Palackého v Olomouci\, Na Hradě 5\, Olomouc
CATEGORIES:Konference a semináře,Vše
ORGANIZER;CN="Filozofick%C3%A1 fakulta Univerzita Palack%C3%A9ho v Olomouci":MAILTO:dekan.ff@upol.cz
END:VEVENT
BEGIN:VEVENT
DTSTART;TZID=Europe/Prague:20240906T180000
DTEND;TZID=Europe/Prague:20240908T150000
DTSTAMP:20260425T162827
CREATED:20240812T140354Z
LAST-MODIFIED:20240906T081241Z
UID:10001805-1725645600-1725807600@medievista.cz
SUMMARY:XX. Letní škola medievistických studií
DESCRIPTION:
URL:https://medievista.cz/akce/xx-letni-skola-medievistickych-studii/
LOCATION:Klášter Sázava\, Zámecká 72\, Sázava\, 28506\, Česká republika
CATEGORIES:Doktorandské,Konference a semináře,Vše
ORGANIZER;CN="Centrum medievistick%C3%BDch studi%C3%AD":MAILTO:cms@flu.cas.cz
GEO:49.8772188;14.8971119
X-APPLE-STRUCTURED-LOCATION;VALUE=URI;X-ADDRESS=Klášter Sázava Zámecká 72 Sázava 28506 Česká republika;X-APPLE-RADIUS=500;X-TITLE=Zámecká 72:geo:14.8971119,49.8772188
END:VEVENT
BEGIN:VEVENT
DTSTART;TZID=Europe/Prague:20240912T080000
DTEND;TZID=Europe/Prague:20240913T170000
DTSTAMP:20260425T162827
CREATED:20231122T090726Z
LAST-MODIFIED:20231122T090726Z
UID:10001749-1726128000-1726246800@medievista.cz
SUMMARY:Character Construction in Byzantium
DESCRIPTION:
URL:https://medievista.cz/akce/character-construction-in-byzantium/
CATEGORIES:Konference a semináře,Vše
ORGANIZER;CN="Slovansk%C3%BD %C3%BAstav AV %C4%8CR%2C v.v.i.":MAILTO:dynda@slu.cas.cz
END:VEVENT
BEGIN:VEVENT
DTSTART;TZID=Europe/Prague:20240919T090000
DTEND;TZID=Europe/Prague:20240920T170000
DTSTAMP:20260425T162827
CREATED:20240918T072306Z
LAST-MODIFIED:20240918T072306Z
UID:10001807-1726736400-1726851600@medievista.cz
SUMMARY:Mnohojazyčnost a vzdělávání v před­mod­erní době /​Multilingualism and Education in Pre-mod­ern Europe
DESCRIPTION:
URL:https://medievista.cz/akce/mnohojazycnost-a-vzdelavani-v-predmoderni-dobe-multilingualism-and-education-in-pre-modern-europe/
LOCATION:Akademické konferenční centrum\, Husova 4a\, Praha\, 11000\, Česká republika
CATEGORIES:Konference a semináře,Vše
ORGANIZER;CN="Slovansk%C3%BD %C3%BAstav Akademie v%C4%9Bd %C4%8CR":MAILTO:slu@slu.cas.cz
GEO:50.0844845;14.4183246
X-APPLE-STRUCTURED-LOCATION;VALUE=URI;X-ADDRESS=Akademické konferenční centrum Husova 4a Praha 11000 Česká republika;X-APPLE-RADIUS=500;X-TITLE=Husova 4a:geo:14.4183246,50.0844845
END:VEVENT
BEGIN:VEVENT
DTSTART;TZID=Europe/Prague:20241003T100000
DTEND;TZID=Europe/Prague:20241003T170000
DTSTAMP:20260425T162827
CREATED:20240920T124901Z
LAST-MODIFIED:20240920T124901Z
UID:10001810-1727949600-1727974800@medievista.cz
SUMMARY:Středověký Vyšehrad
DESCRIPTION:
URL:https://medievista.cz/akce/stredoveky-vysehrad/
LOCATION:Nové děkanství na Vyšehradě\, K Rotundě\, Praha 2\, Hlavní město Praha\, 128 00\, Czechia
CATEGORIES:Konference a semináře,Vše
GEO:50.0636543;14.4215634
X-APPLE-STRUCTURED-LOCATION;VALUE=URI;X-ADDRESS=Nové děkanství na Vyšehradě K Rotundě Praha 2 Hlavní město Praha 128 00 Czechia;X-APPLE-RADIUS=500;X-TITLE=K Rotundě:geo:14.4215634,50.0636543
END:VEVENT
BEGIN:VEVENT
DTSTART;TZID=Europe/Prague:20241003T140000
DTEND;TZID=Europe/Prague:20241004T150000
DTSTAMP:20260425T162827
CREATED:20240920T125302Z
LAST-MODIFIED:20240920T125347Z
UID:10001811-1727964000-1728054000@medievista.cz
SUMMARY:Late Medieval prayer Books in Central Europe
DESCRIPTION:
URL:https://medievista.cz/akce/4484/
LOCATION:Akademické konferenční centrum\, Husova 4a\, Praha\, 11000\, Česká republika
CATEGORIES:Konference a semináře,Vše
GEO:50.0844845;14.4183246
X-APPLE-STRUCTURED-LOCATION;VALUE=URI;X-ADDRESS=Akademické konferenční centrum Husova 4a Praha 11000 Česká republika;X-APPLE-RADIUS=500;X-TITLE=Husova 4a:geo:14.4183246,50.0844845
END:VEVENT
BEGIN:VEVENT
DTSTART;TZID=Europe/Prague:20241007T080000
DTEND;TZID=Europe/Prague:20241009T170000
DTSTAMP:20260425T162827
CREATED:20240202T134045Z
LAST-MODIFIED:20240927T100354Z
UID:10001764-1728288000-1728493200@medievista.cz
SUMMARY:The Power of Asymmetry or the Struggle for the Truth: Invectives Practices in Premodern Europe
DESCRIPTION:
URL:https://medievista.cz/akce/the-power-of-asymmetry-or-the-struggle-for-the-truth-invectives-practices-in-premodern-europe/
LOCATION:Akademické konferenční centrum\, Husova 4a\, Praha\, 11000\, Česká republika
CATEGORIES:Konference a semináře,Vše
ORGANIZER;CN="Centrum medievistick%C3%BDch studi%C3%AD":MAILTO:cms@flu.cas.cz
GEO:50.0844845;14.4183246
X-APPLE-STRUCTURED-LOCATION;VALUE=URI;X-ADDRESS=Akademické konferenční centrum Husova 4a Praha 11000 Česká republika;X-APPLE-RADIUS=500;X-TITLE=Husova 4a:geo:14.4183246,50.0844845
END:VEVENT
BEGIN:VEVENT
DTSTART;VALUE=DATE:20241008
DTEND;VALUE=DATE:20241009
DTSTAMP:20260425T162827
CREATED:20240516T095147Z
LAST-MODIFIED:20240516T095147Z
UID:10001797-1728345600-1728431999@medievista.cz
SUMMARY:Muzejní spolky včera a dnes II
DESCRIPTION:
URL:https://medievista.cz/akce/muzejni-spolky-vcera-a-dnes-ii/
CATEGORIES:Konference a semináře,Vše
END:VEVENT
BEGIN:VEVENT
DTSTART;TZID=Europe/Prague:20241017T080000
DTEND;TZID=Europe/Prague:20241018T170000
DTSTAMP:20260425T162827
CREATED:20240621T142836Z
LAST-MODIFIED:20240621T142836Z
UID:10001803-1729152000-1729270800@medievista.cz
SUMMARY:Dějiny ve veřejném prostoru - Paměť pod tlakem: napětí\, konflikty\, katarze
DESCRIPTION:
URL:https://medievista.cz/akce/dejiny-ve-verejnem-prostoru-pamet-pod-tlakem-napeti-konflikty-katarze/
LOCATION:Filozofická fakulta Univerzity J. A. Purkyně\, Pasteurova 13\, Ústí nad Labem
CATEGORIES:Konference a semináře,Vše
END:VEVENT
BEGIN:VEVENT
DTSTART;TZID=Europe/Prague:20241017T090000
DTEND;TZID=Europe/Prague:20241018T170000
DTSTAMP:20260425T162827
CREATED:20240223T124014Z
LAST-MODIFIED:20240920T094547Z
UID:10001770-1729155600-1729270800@medievista.cz
SUMMARY:Ex superne providencia maiestatis
DESCRIPTION:
URL:https://medievista.cz/akce/ex-superne-providencia-maiestatis/
CATEGORIES:Konference a semináře,Vše
END:VEVENT
BEGIN:VEVENT
DTSTART;TZID=Europe/Prague:20241024T100000
DTEND;TZID=Europe/Prague:20241025T190000
DTSTAMP:20260425T162827
CREATED:20241010T105733Z
LAST-MODIFIED:20241010T105733Z
UID:10001820-1729764000-1729882800@medievista.cz
SUMMARY:Boethius 524–2024
DESCRIPTION:
URL:https://medievista.cz/akce/boethius-524-2024/
LOCATION:Filozofická fakulta Univerzity Karlovy\, nám. Jana Palacha 2\, Praha 1\, 116 38\, Česká republika
CATEGORIES:Konference a semináře,Vše
ORGANIZER;CN="%C3%9Astav hudebn%C3%AD v%C4%9Bdy FF UK":MAILTO:uhv@ff.cuni.cz
END:VEVENT
END:VCALENDAR