BEGIN:VCALENDAR
VERSION:2.0
PRODID:-//Denní medievista - ECPv6.15.20//NONSGML v1.0//EN
CALSCALE:GREGORIAN
METHOD:PUBLISH
X-ORIGINAL-URL:https://medievista.cz
X-WR-CALDESC:Akce na Denní medievista
REFRESH-INTERVAL;VALUE=DURATION:PT1H
X-Robots-Tag:noindex
X-PUBLISHED-TTL:PT1H
BEGIN:VTIMEZONE
TZID:Europe/Prague
BEGIN:DAYLIGHT
TZOFFSETFROM:+0100
TZOFFSETTO:+0200
TZNAME:CEST
DTSTART:20190331T010000
END:DAYLIGHT
BEGIN:STANDARD
TZOFFSETFROM:+0200
TZOFFSETTO:+0100
TZNAME:CET
DTSTART:20191027T010000
END:STANDARD
BEGIN:DAYLIGHT
TZOFFSETFROM:+0100
TZOFFSETTO:+0200
TZNAME:CEST
DTSTART:20200329T010000
END:DAYLIGHT
BEGIN:STANDARD
TZOFFSETFROM:+0200
TZOFFSETTO:+0100
TZNAME:CET
DTSTART:20201025T010000
END:STANDARD
BEGIN:DAYLIGHT
TZOFFSETFROM:+0100
TZOFFSETTO:+0200
TZNAME:CEST
DTSTART:20210328T010000
END:DAYLIGHT
BEGIN:STANDARD
TZOFFSETFROM:+0200
TZOFFSETTO:+0100
TZNAME:CET
DTSTART:20211031T010000
END:STANDARD
END:VTIMEZONE
BEGIN:VEVENT
DTSTART;TZID=Europe/Prague:20200429T163000
DTEND;TZID=Europe/Prague:20200429T183000
DTSTAMP:20260426T055137
CREATED:20200210T151527Z
LAST-MODIFIED:20200210T151557Z
UID:10001528-1588177800-1588185000@medievista.cz
SUMMARY:Michelangelova vatikánská pieta a český krásný sloh
DESCRIPTION:Přednáší Ivo Hlobil (ÚDU AV ČR) \n1. patro\, přednáškový sál č. 117
URL:https://medievista.cz/akce/michelangelova-vatikanska-pieta-a-cesky-krasny-sloh/
LOCATION:Ústav dějin umění AV ČR\, Husova 4\, Praha\, 11000\, Česká republika
CATEGORIES:Periodické,Přednášky,Vše
GEO:50.0844845;14.4183246
X-APPLE-STRUCTURED-LOCATION;VALUE=URI;X-ADDRESS=Ústav dějin umění AV ČR Husova 4 Praha 11000 Česká republika;X-APPLE-RADIUS=500;X-TITLE=Husova 4:geo:14.4183246,50.0844845
END:VEVENT
END:VCALENDAR