BEGIN:VCALENDAR
VERSION:2.0
PRODID:-//Denní medievista - ECPv6.15.20//NONSGML v1.0//EN
CALSCALE:GREGORIAN
METHOD:PUBLISH
X-ORIGINAL-URL:https://medievista.cz
X-WR-CALDESC:Akce na Denní medievista
REFRESH-INTERVAL;VALUE=DURATION:PT1H
X-Robots-Tag:noindex
X-PUBLISHED-TTL:PT1H
BEGIN:VTIMEZONE
TZID:Europe/Prague
BEGIN:DAYLIGHT
TZOFFSETFROM:+0100
TZOFFSETTO:+0200
TZNAME:CEST
DTSTART:20200329T010000
END:DAYLIGHT
BEGIN:STANDARD
TZOFFSETFROM:+0200
TZOFFSETTO:+0100
TZNAME:CET
DTSTART:20201025T010000
END:STANDARD
BEGIN:DAYLIGHT
TZOFFSETFROM:+0100
TZOFFSETTO:+0200
TZNAME:CEST
DTSTART:20210328T010000
END:DAYLIGHT
BEGIN:STANDARD
TZOFFSETFROM:+0200
TZOFFSETTO:+0100
TZNAME:CET
DTSTART:20211031T010000
END:STANDARD
BEGIN:DAYLIGHT
TZOFFSETFROM:+0100
TZOFFSETTO:+0200
TZNAME:CEST
DTSTART:20220327T010000
END:DAYLIGHT
BEGIN:STANDARD
TZOFFSETFROM:+0200
TZOFFSETTO:+0100
TZNAME:CET
DTSTART:20221030T010000
END:STANDARD
END:VTIMEZONE
BEGIN:VEVENT
DTSTART;TZID=Europe/Prague:20210903T190000
DTEND;TZID=Europe/Prague:20210905T140000
DTSTAMP:20260424T235650
CREATED:20210829T214004Z
LAST-MODIFIED:20210829T214004Z
UID:10001566-1630695600-1630850400@medievista.cz
SUMMARY:XVII. letní škola medievistických studií
DESCRIPTION:pátek 3. září\n\n19.00 ÚVODNÍ PŘEDNÁŠKA\nJan Klápště – Kolísání zájmu o středověké přírodní prostředí a kolísání klimatické \nsobota 4. září\n\n9.30 KLIMA\nRudolf Brázdil – Historická klimatologie: využití písemných pramenů pro rekonstrukci klimatu a hydrometeorologických extrémů \nPetr Čornej – Vliv přírodních kalamit na ukončení husitské revoluce \nMichaela Látková – Říční niva a rostliny velkomoravských Mikulčic \nBarbora Kocánová – Prostor mezi Zemí a Měsícem ve středověkých představách aneb Měl středověk atmosféru? \n\n15.00 HISTORIE V ČASECH KLIMATICKÉ KRIZE\nTomáš Klír\, Tomáš Klimek\, Jiří Woitsch – kulatý stůl \nneděle 5. září\n\n9.30 POSTEROVÁ SEKCE\n\n10.30 PARALELNÍ TUTORIÁLY\nIveta Coufalová – Jak se dělá (popularizační) časopis? „Dějiny a současnost“ jako součást české historiografie i veřejného prostoru \nRobert Novotný – Středověká prosopografie v praxi: Jak zjistit co nejvíce personálních údajů v co nejkratším čase? \nJan Odstrčilík – Jak vytvořit digitální edici? Programy\, zkušenosti\, tipy \n\nodpoledne VÝLET\nČeský Šternberk
URL:https://medievista.cz/akce/xvii-letni-skola-medievistickych-studii/
LOCATION:Klášter Sázava\, Zámecká 72\, Sázava\, 28506\, Česká republika
CATEGORIES:Doktorandské,Konference a semináře,Periodické,Vše
ORGANIZER;CN="Centrum medievistick%C3%BDch studi%C3%AD":MAILTO:cms@flu.cas.cz
GEO:49.8772188;14.8971119
X-APPLE-STRUCTURED-LOCATION;VALUE=URI;X-ADDRESS=Klášter Sázava Zámecká 72 Sázava 28506 Česká republika;X-APPLE-RADIUS=500;X-TITLE=Zámecká 72:geo:14.8971119,49.8772188
END:VEVENT
END:VCALENDAR