BEGIN:VCALENDAR
VERSION:2.0
PRODID:-//Denní medievista - ECPv6.15.20//NONSGML v1.0//EN
CALSCALE:GREGORIAN
METHOD:PUBLISH
X-WR-CALNAME:Denní medievista
X-ORIGINAL-URL:https://medievista.cz
X-WR-CALDESC:Akce na Denní medievista
REFRESH-INTERVAL;VALUE=DURATION:PT1H
X-Robots-Tag:noindex
X-PUBLISHED-TTL:PT1H
BEGIN:VTIMEZONE
TZID:Europe/Prague
BEGIN:DAYLIGHT
TZOFFSETFROM:+0100
TZOFFSETTO:+0200
TZNAME:CEST
DTSTART:20200329T010000
END:DAYLIGHT
BEGIN:STANDARD
TZOFFSETFROM:+0200
TZOFFSETTO:+0100
TZNAME:CET
DTSTART:20201025T010000
END:STANDARD
BEGIN:DAYLIGHT
TZOFFSETFROM:+0100
TZOFFSETTO:+0200
TZNAME:CEST
DTSTART:20210328T010000
END:DAYLIGHT
BEGIN:STANDARD
TZOFFSETFROM:+0200
TZOFFSETTO:+0100
TZNAME:CET
DTSTART:20211031T010000
END:STANDARD
BEGIN:DAYLIGHT
TZOFFSETFROM:+0100
TZOFFSETTO:+0200
TZNAME:CEST
DTSTART:20220327T010000
END:DAYLIGHT
BEGIN:STANDARD
TZOFFSETFROM:+0200
TZOFFSETTO:+0100
TZNAME:CET
DTSTART:20221030T010000
END:STANDARD
END:VTIMEZONE
BEGIN:VEVENT
DTSTART;TZID=Europe/Prague:20211015T140000
DTEND;TZID=Europe/Prague:20211015T170000
DTSTAMP:20260424T213048
CREATED:20211003T105539Z
LAST-MODIFIED:20211003T105605Z
UID:10001575-1634306400-1634317200@medievista.cz
SUMMARY:LXXXI. medievistický pátek
DESCRIPTION:
URL:https://medievista.cz/akce/lxxxi-medievisticky-patek/
LOCATION:Filozofická fakulta Masarykovy univerzity\, Arna Nováka 1\, Brno\, 60200
CATEGORIES:Periodické,Vše
ATTACH;FMTTYPE=image/jpeg:https://medievista.cz/wp-content/uploads/2021/10/81patek.jpg
ORGANIZER;CN="%C3%9Astav pomocn%C3%BDch v%C4%9Bd historick%C3%BDch  a archivnictv%C3%AD FF MU":MAILTO:barova@phil.muni.cz
GEO:49.2005491;16.5983999
X-APPLE-STRUCTURED-LOCATION;VALUE=URI;X-ADDRESS=Filozofická fakulta Masarykovy univerzity Arna Nováka 1 Brno 60200;X-APPLE-RADIUS=500;X-TITLE=Arna Nováka 1:geo:16.5983999,49.2005491
END:VEVENT
BEGIN:VEVENT
DTSTART;TZID=Europe/Prague:20211029T093000
DTEND;TZID=Europe/Prague:20211029T183000
DTSTAMP:20260424T213048
CREATED:20211026T104556Z
LAST-MODIFIED:20211026T104556Z
UID:10001587-1635499800-1635532200@medievista.cz
SUMMARY:VII. ročník kastellologické konference k poctě prof. Tomáše Durdíka
DESCRIPTION:PÁTEK 29. 10. 2021\n9:30 Vzpomínková pobožnost v kapli státního hradu Křivoklát \n10:15 – 10:45 Možnost návštěvy areálu Manského domu na Křivoklátě \n10:50 – 11:10 Pauza na kávu\, občerstvení v předsálí \n11:15 Úvodní slovo \n11:20 – 13:20 I. blok přednášek \nPavel Hlavenka: Letecká fotogrammetrie v archeologii a její využití při dokumentaci torzální architektury \nJiří Šindelář: Archeolaparoskopie – archeologický výzkum míst nepřístupných člověku \nMiroslava Cejpová – Michal Rykl – Štěpánka Poučová: Kuchyně v č. p. 132 na Křivoklátě \nMiroslava Cejpová – Pavel Hlavenka: Kuchyně v Huderce na Křivoklátě \nMilan Sýkora: Hrad v Roudnici nad Labem \nLucie Kursová: Tvrze v Mirošovicích a Hrobčicích \nJosef Hložek: Rekonstrukce stavební podoby manského domu na Křivoklátě \n13:20 – 13:40 Pauza na kávu\, občerstvení v předsálí \n13:40 – 15:00 II. blok přednášek \nMilan Procházka: Bihać – městský hrad\, město a systém okolních opěrných bodů \nMilan Procházka: Modernizace hradních areálů rodu Frankopanů od konce 15. století \nKlára Hanáková – Josef Hložek – Kateřina Divišová: Hrad v Kraslicích \nPetr Chotěbor – Veronika De Monte: Kamenické značky jako předmět a pomůcka průzkumu \nLuboš Hobl: Současnost a budoucnost časopisu Castellologica bohemica \n15:00 – 15:20 Pauza na kávu\, občerstvení v předsálí \n15:20 – 16:40 III. blok přednášek \nFrantišek Záruba: Úvaha k počátku šlechtických hradů v Čechách \nZlata Gersdorfová: Janovice nad Úhlavou ve světle nedestruktivního průzkumu \nLinda Foster: Nová poznatky k lokalizaci tvrze v areálu zámku v Červeném Poříčí \nPavel Jansa: Zaniklý hrad Bolkov. Jak se ničí v pohraničí \n16:40 – 17:00 Pauza na kávu\, občerstvení v předsálí \n17:00 – 18:00 IV. blok přednášek \nZdeněk Procházka: Zaniklá vesnice Lučina – Grafenried \nPavel Bolina: Lštění\, Zlenice a hrad u Čtyřkol ve vazbě na historické komunikace \nMartin Pták – Rudolf Krajíc – Daniel Kovář – Jiří Šindelář: Archeologický výzkum Karlova Hrádku u Purkarce (okr. České Budějovice) v sezonách 2019 a 2021 \n18:00 Slovo závěrem
URL:https://medievista.cz/akce/vii-rocnik-kastellologicke-konference-k-pocte-prof-tomase-durdika/
LOCATION:Křivoklát\, Křivoklát 47\, Česká republika
CATEGORIES:Konference a semináře,Periodické,Vše
GEO:50.0376417;13.8724605
X-APPLE-STRUCTURED-LOCATION;VALUE=URI;X-ADDRESS=Křivoklát Křivoklát 47 Česká republika;X-APPLE-RADIUS=500;X-TITLE=Křivoklát 47:geo:13.8724605,50.0376417
END:VEVENT
END:VCALENDAR