BEGIN:VCALENDAR
VERSION:2.0
PRODID:-//Denní medievista - ECPv6.15.20//NONSGML v1.0//EN
CALSCALE:GREGORIAN
METHOD:PUBLISH
X-ORIGINAL-URL:https://medievista.cz
X-WR-CALDESC:Akce na Denní medievista
REFRESH-INTERVAL;VALUE=DURATION:PT1H
X-Robots-Tag:noindex
X-PUBLISHED-TTL:PT1H
BEGIN:VTIMEZONE
TZID:Europe/Prague
BEGIN:DAYLIGHT
TZOFFSETFROM:+0100
TZOFFSETTO:+0200
TZNAME:CEST
DTSTART:20200329T010000
END:DAYLIGHT
BEGIN:STANDARD
TZOFFSETFROM:+0200
TZOFFSETTO:+0100
TZNAME:CET
DTSTART:20201025T010000
END:STANDARD
BEGIN:DAYLIGHT
TZOFFSETFROM:+0100
TZOFFSETTO:+0200
TZNAME:CEST
DTSTART:20210328T010000
END:DAYLIGHT
BEGIN:STANDARD
TZOFFSETFROM:+0200
TZOFFSETTO:+0100
TZNAME:CET
DTSTART:20211031T010000
END:STANDARD
BEGIN:DAYLIGHT
TZOFFSETFROM:+0100
TZOFFSETTO:+0200
TZNAME:CEST
DTSTART:20220327T010000
END:DAYLIGHT
BEGIN:STANDARD
TZOFFSETFROM:+0200
TZOFFSETTO:+0100
TZNAME:CET
DTSTART:20221030T010000
END:STANDARD
END:VTIMEZONE
BEGIN:VEVENT
DTSTART;TZID=Europe/Prague:20211103T140000
DTEND;TZID=Europe/Prague:20211103T150000
DTSTAMP:20260424T194301
CREATED:20211025T141831Z
LAST-MODIFIED:20211025T142027Z
UID:10001582-1635948000-1635951600@medievista.cz
SUMMARY:Středověká opevnění českých měst
DESCRIPTION:
URL:https://medievista.cz/akce/stredoveka-opevneni-ceskych-mest/
LOCATION:Centrum medievistických studií\, Jilská 1\, Praha 1\, 11000\, Česká republika
CATEGORIES:Periodické,Přednášky,Vše
ATTACH;FMTTYPE=image/png:https://medievista.cz/wp-content/uploads/2021/10/fellows.png
ORGANIZER;CN="Centrum medievistick%C3%BDch studi%C3%AD":MAILTO:cms@flu.cas.cz
GEO:50.0846124;14.4187828
X-APPLE-STRUCTURED-LOCATION;VALUE=URI;X-ADDRESS=Centrum medievistických studií Jilská 1 Praha 1 11000 Česká republika;X-APPLE-RADIUS=500;X-TITLE=Jilská 1:geo:14.4187828,50.0846124
END:VEVENT
BEGIN:VEVENT
DTSTART;TZID=Europe/Prague:20211105T140000
DTEND;TZID=Europe/Prague:20211105T160000
DTSTAMP:20260424T194301
CREATED:20211026T101538Z
LAST-MODIFIED:20211026T101538Z
UID:10001585-1636120800-1636128000@medievista.cz
SUMMARY:LXXXII. medievistický pátek
DESCRIPTION:
URL:https://medievista.cz/akce/lxxxii-medievisticky-patek/
LOCATION:Filozofická fakulta Masarykovy univerzity\, Arna Nováka 1\, Brno\, 60200
CATEGORIES:Periodické,Přednášky,Vše
ATTACH;FMTTYPE=image/png:https://medievista.cz/wp-content/uploads/2021/10/82.-brnensky-medievisticky-patek.png
ORGANIZER;CN="%C3%9Astav pomocn%C3%BDch v%C4%9Bd historick%C3%BDch  a archivnictv%C3%AD FF MU":MAILTO:barova@phil.muni.cz
GEO:49.2005491;16.5983999
X-APPLE-STRUCTURED-LOCATION;VALUE=URI;X-ADDRESS=Filozofická fakulta Masarykovy univerzity Arna Nováka 1 Brno 60200;X-APPLE-RADIUS=500;X-TITLE=Arna Nováka 1:geo:16.5983999,49.2005491
END:VEVENT
BEGIN:VEVENT
DTSTART;TZID=Europe/Prague:20211119T140000
DTEND;TZID=Europe/Prague:20211119T170000
DTSTAMP:20260424T194301
CREATED:20211119T102715Z
LAST-MODIFIED:20211119T102722Z
UID:10001591-1637330400-1637341200@medievista.cz
SUMMARY:LXXXIII. medievistický pátek
DESCRIPTION:Vážené dámy a pánové\, \nmilé kolegyně a kolegové! \nDovolujeme si Vás pozvat na 83. brněnský medievistický pátek\, který se bude konat 19. listopadu 2021. Julio Escalona (Centro de Ciencias Humanas y Sociales) promluví na téma utváření a proměň moci na raně středověkém Iberském poloostrově. Bližší informace naleznete v zaslané pozvánce. \nNa setkání s Vámi se těší Petr Elbel\, Lukáš Reitinger\, David Kalhous a Martin Zezulka
URL:https://medievista.cz/akce/lxxxiii-medievisticky-patek/
LOCATION:Filozofická fakulta Masarykovy univerzity\, Arna Nováka 1\, Brno\, 60200
CATEGORIES:Periodické,Vše
ATTACH;FMTTYPE=image/png:https://medievista.cz/wp-content/uploads/2021/11/Bez-nazvu.png
ORGANIZER;CN="Historick%C3%BD %C3%BAstav Filozofick%C3%A9 fakulty Masarykovy univerzity":MAILTO:historie@phil.muni.cz
GEO:49.2005491;16.5983999
X-APPLE-STRUCTURED-LOCATION;VALUE=URI;X-ADDRESS=Filozofická fakulta Masarykovy univerzity Arna Nováka 1 Brno 60200;X-APPLE-RADIUS=500;X-TITLE=Arna Nováka 1:geo:16.5983999,49.2005491
END:VEVENT
END:VCALENDAR