BEGIN:VCALENDAR
VERSION:2.0
PRODID:-//Denní medievista - ECPv6.15.20//NONSGML v1.0//EN
CALSCALE:GREGORIAN
METHOD:PUBLISH
X-ORIGINAL-URL:https://medievista.cz
X-WR-CALDESC:Akce na Denní medievista
REFRESH-INTERVAL;VALUE=DURATION:PT1H
X-Robots-Tag:noindex
X-PUBLISHED-TTL:PT1H
BEGIN:VTIMEZONE
TZID:Europe/Prague
BEGIN:DAYLIGHT
TZOFFSETFROM:+0100
TZOFFSETTO:+0200
TZNAME:CEST
DTSTART:20210328T010000
END:DAYLIGHT
BEGIN:STANDARD
TZOFFSETFROM:+0200
TZOFFSETTO:+0100
TZNAME:CET
DTSTART:20211031T010000
END:STANDARD
BEGIN:DAYLIGHT
TZOFFSETFROM:+0100
TZOFFSETTO:+0200
TZNAME:CEST
DTSTART:20220327T010000
END:DAYLIGHT
BEGIN:STANDARD
TZOFFSETFROM:+0200
TZOFFSETTO:+0100
TZNAME:CET
DTSTART:20221030T010000
END:STANDARD
BEGIN:DAYLIGHT
TZOFFSETFROM:+0100
TZOFFSETTO:+0200
TZNAME:CEST
DTSTART:20230326T010000
END:DAYLIGHT
BEGIN:STANDARD
TZOFFSETFROM:+0200
TZOFFSETTO:+0100
TZNAME:CET
DTSTART:20231029T010000
END:STANDARD
END:VTIMEZONE
BEGIN:VEVENT
DTSTART;TZID=Europe/Prague:20220211T140000
DTEND;TZID=Europe/Prague:20220211T163000
DTSTAMP:20260424T160147
CREATED:20220202T110637Z
LAST-MODIFIED:20220202T110637Z
UID:10001604-1644588000-1644597000@medievista.cz
SUMMARY:86. brněnský medievistický pátek
DESCRIPTION:
URL:https://medievista.cz/akce/86-brnensky-medievisticky-patek/
LOCATION:Filozofická fakulta MU Brno\, A. Nováka 1\, Brno\, 60200
CATEGORIES:Konference a semináře,Periodické,Vše
ATTACH;FMTTYPE=image/jpeg:https://medievista.cz/wp-content/uploads/2022/02/86.brnensky-medievisticky-patek-scaled.jpg
ORGANIZER;CN="%C3%9Astav pomocn%C3%BDch v%C4%9Bd historick%C3%BDch  a archivnictv%C3%AD FF MU":MAILTO:barova@phil.muni.cz
GEO:49.2003567;16.5980536
X-APPLE-STRUCTURED-LOCATION;VALUE=URI;X-ADDRESS=Filozofická fakulta MU Brno A. Nováka 1 Brno 60200;X-APPLE-RADIUS=500;X-TITLE=A. Nováka 1:geo:16.5980536,49.2003567
END:VEVENT
BEGIN:VEVENT
DTSTART;TZID=Europe/Prague:20220225T140000
DTEND;TZID=Europe/Prague:20220225T170000
DTSTAMP:20260424T160147
CREATED:20220217T130110Z
LAST-MODIFIED:20220217T130110Z
UID:10001606-1645797600-1645808400@medievista.cz
SUMMARY:87. brněnský medievistický pátek
DESCRIPTION:
URL:https://medievista.cz/akce/87-brnensky-medievisticky-patek/
LOCATION:Historický ústav Filozofické fakulty Masarykovy univerzity\, Arne Nováka 1\, Brno\, 60200\, Česká republika
CATEGORIES:Periodické,Přednášky,Vše
ATTACH;FMTTYPE=image/png:https://medievista.cz/wp-content/uploads/2022/02/87brn.png
ORGANIZER;CN="%C3%9Astav pomocn%C3%BDch v%C4%9Bd historick%C3%BDch  a archivnictv%C3%AD FF MU":MAILTO:barova@phil.muni.cz
GEO:49.2004202;16.5984848
X-APPLE-STRUCTURED-LOCATION;VALUE=URI;X-ADDRESS=Historický ústav Filozofické fakulty Masarykovy univerzity Arne Nováka 1 Brno 60200 Česká republika;X-APPLE-RADIUS=500;X-TITLE=Arne Nováka 1:geo:16.5984848,49.2004202
END:VEVENT
END:VCALENDAR