BEGIN:VCALENDAR
VERSION:2.0
PRODID:-//Denní medievista - ECPv6.15.20//NONSGML v1.0//EN
CALSCALE:GREGORIAN
METHOD:PUBLISH
X-WR-CALNAME:Denní medievista
X-ORIGINAL-URL:https://medievista.cz
X-WR-CALDESC:Akce na Denní medievista
REFRESH-INTERVAL;VALUE=DURATION:PT1H
X-Robots-Tag:noindex
X-PUBLISHED-TTL:PT1H
BEGIN:VTIMEZONE
TZID:Europe/Prague
BEGIN:DAYLIGHT
TZOFFSETFROM:+0100
TZOFFSETTO:+0200
TZNAME:CEST
DTSTART:20210328T010000
END:DAYLIGHT
BEGIN:STANDARD
TZOFFSETFROM:+0200
TZOFFSETTO:+0100
TZNAME:CET
DTSTART:20211031T010000
END:STANDARD
BEGIN:DAYLIGHT
TZOFFSETFROM:+0100
TZOFFSETTO:+0200
TZNAME:CEST
DTSTART:20220327T010000
END:DAYLIGHT
BEGIN:STANDARD
TZOFFSETFROM:+0200
TZOFFSETTO:+0100
TZNAME:CET
DTSTART:20221030T010000
END:STANDARD
BEGIN:DAYLIGHT
TZOFFSETFROM:+0100
TZOFFSETTO:+0200
TZNAME:CEST
DTSTART:20230326T010000
END:DAYLIGHT
BEGIN:STANDARD
TZOFFSETFROM:+0200
TZOFFSETTO:+0100
TZNAME:CET
DTSTART:20231029T010000
END:STANDARD
END:VTIMEZONE
BEGIN:VEVENT
DTSTART;TZID=Europe/Prague:20220307T150000
DTEND;TZID=Europe/Prague:20220307T170000
DTSTAMP:20260424T142915
CREATED:20220303T222406Z
LAST-MODIFIED:20220303T222406Z
UID:10001613-1646665200-1646672400@medievista.cz
SUMMARY:Minulost: jak se usazuje\, vynořuje a mizí
DESCRIPTION:
URL:https://medievista.cz/akce/minulost-jak-se-usazuje-vynoruje-a-mizi/
LOCATION:Ústav pro acheologii FF UK\, Celetná 20\, Praha 1\, Česká republika
CATEGORIES:Periodické,Přednášky,Vše
ATTACH;FMTTYPE=image/png:https://medievista.cz/wp-content/uploads/2022/03/kulaty.png
GEO:50.0870464;14.4242273
X-APPLE-STRUCTURED-LOCATION;VALUE=URI;X-ADDRESS=Ústav pro acheologii FF UK Celetná 20 Praha 1 Česká republika;X-APPLE-RADIUS=500;X-TITLE=Celetná 20:geo:14.4242273,50.0870464
END:VEVENT
BEGIN:VEVENT
DTSTART;TZID=Europe/Prague:20220318T140000
DTEND;TZID=Europe/Prague:20220318T170000
DTSTAMP:20260424T142915
CREATED:20220502T155813Z
LAST-MODIFIED:20220502T155813Z
UID:10001624-1647612000-1647622800@medievista.cz
SUMMARY:LXXXVIII. brněnský medievistický pátek
DESCRIPTION:
URL:https://medievista.cz/akce/lxxxviii-brnensky-medievisticky-patek/
LOCATION:Filozofická fakulta Masarykovy univerzity\, Arna Nováka 1\, Brno\, 60200
CATEGORIES:Periodické,Přednášky,Vše
ATTACH;FMTTYPE=image/jpeg:https://medievista.cz/wp-content/uploads/2022/03/88.-brnensky-medievisticky-patek-scaled.jpg
ORGANIZER;CN="Historick%C3%BD %C3%BAstav Filozofick%C3%A9 fakulty Masarykovy univerzity":MAILTO:historie@phil.muni.cz
GEO:49.2005491;16.5983999
X-APPLE-STRUCTURED-LOCATION;VALUE=URI;X-ADDRESS=Filozofická fakulta Masarykovy univerzity Arna Nováka 1 Brno 60200;X-APPLE-RADIUS=500;X-TITLE=Arna Nováka 1:geo:16.5983999,49.2005491
END:VEVENT
END:VCALENDAR