BEGIN:VCALENDAR
VERSION:2.0
PRODID:-//Denní medievista - ECPv6.15.20//NONSGML v1.0//EN
CALSCALE:GREGORIAN
METHOD:PUBLISH
X-WR-CALNAME:Denní medievista
X-ORIGINAL-URL:https://medievista.cz
X-WR-CALDESC:Akce na Denní medievista
REFRESH-INTERVAL;VALUE=DURATION:PT1H
X-Robots-Tag:noindex
X-PUBLISHED-TTL:PT1H
BEGIN:VTIMEZONE
TZID:Europe/Prague
BEGIN:DAYLIGHT
TZOFFSETFROM:+0100
TZOFFSETTO:+0200
TZNAME:CEST
DTSTART:20210328T010000
END:DAYLIGHT
BEGIN:STANDARD
TZOFFSETFROM:+0200
TZOFFSETTO:+0100
TZNAME:CET
DTSTART:20211031T010000
END:STANDARD
BEGIN:DAYLIGHT
TZOFFSETFROM:+0100
TZOFFSETTO:+0200
TZNAME:CEST
DTSTART:20220327T010000
END:DAYLIGHT
BEGIN:STANDARD
TZOFFSETFROM:+0200
TZOFFSETTO:+0100
TZNAME:CET
DTSTART:20221030T010000
END:STANDARD
BEGIN:DAYLIGHT
TZOFFSETFROM:+0100
TZOFFSETTO:+0200
TZNAME:CEST
DTSTART:20230326T010000
END:DAYLIGHT
BEGIN:STANDARD
TZOFFSETFROM:+0200
TZOFFSETTO:+0100
TZNAME:CET
DTSTART:20231029T010000
END:STANDARD
END:VTIMEZONE
BEGIN:VEVENT
DTSTART;TZID=Europe/Prague:20220427T090000
DTEND;TZID=Europe/Prague:20220427T170000
DTSTAMP:20260424T113817
CREATED:20220322T232156Z
LAST-MODIFIED:20220322T232259Z
UID:10001616-1651050000-1651078800@medievista.cz
SUMMARY:XXVIII. setkání doktorandů a mladých badatelů
DESCRIPTION:Setkání si tradičně klade za cíl poskytnout prostor pro navázání kontaktů mezi doktorandy a možnost seznámit se s prací kolegů z jiných pracovišť i z jiných oborů medievistického studia. Připomínáme\, že asi patnáctiminutové referáty mohou vycházet z diplomových prací nebo seznamovat s dílčími výsledky prací doktorských. Uvítáme příspěvky nových doktorandů i těch\, kteří již vystoupili na některém z minulých setkání. Vzhledem k mezioborové povaze setkání by referáty měly mít formu přístupnou nejen úzce specializovanému auditoriu. \nProsíme Vás\, abyste svou účast potvrdili a své příspěvky přihlásili v tomto formuláři. \nZároveň prosíme školitele o přeposlání této informace svým doktorandům\, neboť ne na všechny máme kontakty!
URL:https://medievista.cz/akce/xxviii-setkani-doktorandu-a-mladych-badatelu-2/
LOCATION:Akademické konferenční centrum\, Husova 4a\, Praha\, 11000\, Česká republika
CATEGORIES:Doktorandské,Konference a semináře,Periodické,Vše
ORGANIZER;CN="Centrum medievistick%C3%BDch studi%C3%AD":MAILTO:cms@flu.cas.cz
GEO:50.0844845;14.4183246
X-APPLE-STRUCTURED-LOCATION;VALUE=URI;X-ADDRESS=Akademické konferenční centrum Husova 4a Praha 11000 Česká republika;X-APPLE-RADIUS=500;X-TITLE=Husova 4a:geo:14.4183246,50.0844845
END:VEVENT
END:VCALENDAR