BEGIN:VCALENDAR
VERSION:2.0
PRODID:-//Denní medievista - ECPv6.15.20//NONSGML v1.0//EN
CALSCALE:GREGORIAN
METHOD:PUBLISH
X-ORIGINAL-URL:https://medievista.cz
X-WR-CALDESC:Akce na Denní medievista
REFRESH-INTERVAL;VALUE=DURATION:PT1H
X-Robots-Tag:noindex
X-PUBLISHED-TTL:PT1H
BEGIN:VTIMEZONE
TZID:Europe/Prague
BEGIN:DAYLIGHT
TZOFFSETFROM:+0100
TZOFFSETTO:+0200
TZNAME:CEST
DTSTART:20220327T010000
END:DAYLIGHT
BEGIN:STANDARD
TZOFFSETFROM:+0200
TZOFFSETTO:+0100
TZNAME:CET
DTSTART:20221030T010000
END:STANDARD
BEGIN:DAYLIGHT
TZOFFSETFROM:+0100
TZOFFSETTO:+0200
TZNAME:CEST
DTSTART:20230326T010000
END:DAYLIGHT
BEGIN:STANDARD
TZOFFSETFROM:+0200
TZOFFSETTO:+0100
TZNAME:CET
DTSTART:20231029T010000
END:STANDARD
BEGIN:DAYLIGHT
TZOFFSETFROM:+0100
TZOFFSETTO:+0200
TZNAME:CEST
DTSTART:20240331T010000
END:DAYLIGHT
BEGIN:STANDARD
TZOFFSETFROM:+0200
TZOFFSETTO:+0100
TZNAME:CET
DTSTART:20241027T010000
END:STANDARD
END:VTIMEZONE
BEGIN:VEVENT
DTSTART;TZID=Europe/Prague:20230317T140000
DTEND;TZID=Europe/Prague:20230317T170000
DTSTAMP:20260421T180233
CREATED:20230327T120256Z
LAST-MODIFIED:20230327T120256Z
UID:10001698-1679061600-1679072400@medievista.cz
SUMMARY:91. brněnský medievistický pátek
DESCRIPTION:Dovolujeme si Vás pozvat na 91. brněnský medievistický pátek\, který se bude konat 17. března 2023 při příležitosti nového vydání Zbraslavské kroniky v ediční řadě Monumenta Germaniae historica (Cronica Aulae regie. Die Königsaaler Chronik. MGH SS 40\, edd. Anna Pumprová und Libor Jan unter Mittarbeit von Robert Antonín\, Demeter Malaťák\, Libor Švanda und Zdeněk Žalud\, Wiesbaden 2022). O kronice\, jejích autorech a přípravě tohoto nového zpřístupnění promluví samotní editoři.
URL:https://medievista.cz/akce/91-brnensky-medievisticky-patek/
LOCATION:Filozofická fakulta Masarykovy univerzity\, Arna Nováka 1\, Brno\, 60200
CATEGORIES:Periodické,Přednášky,Vše
ATTACH;FMTTYPE=image/jpeg:https://medievista.cz/wp-content/uploads/2023/03/91.brnensky-medievisticky-patek-scaled.jpg
ORGANIZER;CN="%C3%9Astav pomocn%C3%BDch v%C4%9Bd historick%C3%BDch  a archivnictv%C3%AD FF MU":MAILTO:barova@phil.muni.cz
GEO:49.2005491;16.5983999
X-APPLE-STRUCTURED-LOCATION;VALUE=URI;X-ADDRESS=Filozofická fakulta Masarykovy univerzity Arna Nováka 1 Brno 60200;X-APPLE-RADIUS=500;X-TITLE=Arna Nováka 1:geo:16.5983999,49.2005491
END:VEVENT
END:VCALENDAR