BEGIN:VCALENDAR
VERSION:2.0
PRODID:-//Denní medievista - ECPv6.15.20//NONSGML v1.0//EN
CALSCALE:GREGORIAN
METHOD:PUBLISH
X-ORIGINAL-URL:https://medievista.cz
X-WR-CALDESC:Akce na Denní medievista
REFRESH-INTERVAL;VALUE=DURATION:PT1H
X-Robots-Tag:noindex
X-PUBLISHED-TTL:PT1H
BEGIN:VTIMEZONE
TZID:Europe/Prague
BEGIN:DAYLIGHT
TZOFFSETFROM:+0100
TZOFFSETTO:+0200
TZNAME:CEST
DTSTART:20220327T010000
END:DAYLIGHT
BEGIN:STANDARD
TZOFFSETFROM:+0200
TZOFFSETTO:+0100
TZNAME:CET
DTSTART:20221030T010000
END:STANDARD
BEGIN:DAYLIGHT
TZOFFSETFROM:+0100
TZOFFSETTO:+0200
TZNAME:CEST
DTSTART:20230326T010000
END:DAYLIGHT
BEGIN:STANDARD
TZOFFSETFROM:+0200
TZOFFSETTO:+0100
TZNAME:CET
DTSTART:20231029T010000
END:STANDARD
BEGIN:DAYLIGHT
TZOFFSETFROM:+0100
TZOFFSETTO:+0200
TZNAME:CEST
DTSTART:20240331T010000
END:DAYLIGHT
BEGIN:STANDARD
TZOFFSETFROM:+0200
TZOFFSETTO:+0100
TZNAME:CET
DTSTART:20241027T010000
END:STANDARD
END:VTIMEZONE
BEGIN:VEVENT
DTSTART;TZID=Europe/Prague:20231006T140000
DTEND;TZID=Europe/Prague:20231006T160000
DTSTAMP:20260421T063429
CREATED:20230929T222446Z
LAST-MODIFIED:20230929T222446Z
UID:10001729-1696600800-1696608000@medievista.cz
SUMMARY:95. brněnský medievistický pátek
DESCRIPTION:
URL:https://medievista.cz/akce/95-brnensky-medievisticky-patek/
LOCATION:Filozofická fakulta Masarykovy univerzity\, Arna Nováka 1\, Brno\, 60200
CATEGORIES:Periodické,Přednášky,Vše
ATTACH;FMTTYPE=image/jpeg:https://medievista.cz/wp-content/uploads/2023/09/95.patek_.jpg
ORGANIZER;CN="%C3%9Astav pomocn%C3%BDch v%C4%9Bd historick%C3%BDch  a archivnictv%C3%AD FF MU":MAILTO:barova@phil.muni.cz
GEO:49.2005491;16.5983999
X-APPLE-STRUCTURED-LOCATION;VALUE=URI;X-ADDRESS=Filozofická fakulta Masarykovy univerzity Arna Nováka 1 Brno 60200;X-APPLE-RADIUS=500;X-TITLE=Arna Nováka 1:geo:16.5983999,49.2005491
END:VEVENT
BEGIN:VEVENT
DTSTART;TZID=Europe/Prague:20231007T160000
DTEND;TZID=Europe/Prague:20231007T220000
DTSTAMP:20260421T063429
CREATED:20230929T225537Z
LAST-MODIFIED:20230929T225548Z
UID:10001730-1696694400-1696716000@medievista.cz
SUMMARY:Za-hradní slavnost na Pirkštejně
DESCRIPTION:
URL:https://medievista.cz/akce/za-hradnich-slavnosti-na-pirkstejne/
LOCATION:Pirkštejn\, Pod Bránou 19\, Rataje nad Sázavou\, Česká republika
CATEGORIES:Periodické,Přednášky,Vše
ATTACH;FMTTYPE=image/jpeg:https://medievista.cz/wp-content/uploads/2023/09/Za-hradni-slavnost-7.10.jpg
ORGANIZER;CN="Centrum medievistick%C3%BDch studi%C3%AD":MAILTO:cms@flu.cas.cz
END:VEVENT
BEGIN:VEVENT
DTSTART;TZID=Europe/Prague:20231018T080000
DTEND;TZID=Europe/Prague:20231020T170000
DTSTAMP:20260421T063429
CREATED:20230528T114832Z
LAST-MODIFIED:20230528T114832Z
UID:10001717-1697616000-1697821200@medievista.cz
SUMMARY:Historický text a jeho interpretace 2023
DESCRIPTION:Kolokvium navazuje na diachronní workshopy\, které pořádá oddělení vývoje jazyka Ústavu pro jazyk český AV ČR\, v. v. i. od roku 2014. Akce je určena pro bohemisty\, slavisty\, klasické filology\, historiky a specialisty z dalších příbuzných oborů. Hlavním smyslem setkání je představení nových poznatků či prezentace výsledků běžících nebo nedávno skončených projektů s diachronní tematikou a dále navazování kontaktů mezi zúčastněnými odborníky. Kolokvium také poskytuje studentům VŠ možnost prezentace bakalářských\, magisterských a disertačních prací. Přihlašovací formulář najdete zde. \nVítány jsou příspěvky v rozsahu 15 až 30 minut. Sborník není plánován\, konferenční poplatek není požadován. Po ukončení kolokvia budou vybrané prezentace dostupné na těchto webových stránkách. \nRegistraci je nutné provést nejpozději do 15. 9. 2023. \nUbytování bude rezervováno a hrazeno pořadatelem. (V případě překročení kapacitních možností hotelu si pořadatel vyhrazuje právo účastníkovi ubytování nezajistit.) \nStravování si hradí účastníci; coffee-breaky během konání kolokvia budou zajištěny pořadatelem. \nHotel nabízí snídaně (cca 150 Kč)\, obědy i večeře (cca 150 Kč) – přislíbena je vegetariánská\, bezlepková i bezlaktózová varianta. Hromadnou objednávku jídla provede pořadatel. S nabídkou jídel budou účastníci seznámeni minimálně týden před započetím kolokvia\, výběr pokrmů proběhne prostřednictvím webového formuláře. \nPro večerní společenskou část programu zařízení poskytuje možnost posezení v hotelové restauraci nebo společenské místnosti. Podle programové náplně a v případě zájmu bude možné zorganizovat pěší nebo kombinovaný výlet po okolních pamětihodnostech. \nKontaktní osoba: Tereza Hejdová (hejdova@ujc.cas.cz\, 724 307 696) \nKonání kolokvia je podpořeno programem Strategie AV21 Anatomie evropské společnosti – historie\, tradice\, kultura\, identita.
URL:https://medievista.cz/akce/historicky-text-a-jeho-interpretace-2023/
LOCATION:Kozojedy\, Česká republika
CATEGORIES:Periodické,Vše
END:VEVENT
END:VCALENDAR