BEGIN:VCALENDAR
VERSION:2.0
PRODID:-//Denní medievista - ECPv6.15.20//NONSGML v1.0//EN
CALSCALE:GREGORIAN
METHOD:PUBLISH
X-WR-CALNAME:Denní medievista
X-ORIGINAL-URL:https://medievista.cz
X-WR-CALDESC:Akce na Denní medievista
REFRESH-INTERVAL;VALUE=DURATION:PT1H
X-Robots-Tag:noindex
X-PUBLISHED-TTL:PT1H
BEGIN:VTIMEZONE
TZID:Europe/Prague
BEGIN:DAYLIGHT
TZOFFSETFROM:+0100
TZOFFSETTO:+0200
TZNAME:CEST
DTSTART:20220327T010000
END:DAYLIGHT
BEGIN:STANDARD
TZOFFSETFROM:+0200
TZOFFSETTO:+0100
TZNAME:CET
DTSTART:20221030T010000
END:STANDARD
BEGIN:DAYLIGHT
TZOFFSETFROM:+0100
TZOFFSETTO:+0200
TZNAME:CEST
DTSTART:20230326T010000
END:DAYLIGHT
BEGIN:STANDARD
TZOFFSETFROM:+0200
TZOFFSETTO:+0100
TZNAME:CET
DTSTART:20231029T010000
END:STANDARD
BEGIN:DAYLIGHT
TZOFFSETFROM:+0100
TZOFFSETTO:+0200
TZNAME:CEST
DTSTART:20240331T010000
END:DAYLIGHT
BEGIN:STANDARD
TZOFFSETFROM:+0200
TZOFFSETTO:+0100
TZNAME:CET
DTSTART:20241027T010000
END:STANDARD
END:VTIMEZONE
BEGIN:VEVENT
DTSTART;TZID=Europe/Prague:20231103T140000
DTEND;TZID=Europe/Prague:20231103T160000
DTSTAMP:20260421T044538
CREATED:20231026T120738Z
LAST-MODIFIED:20231026T120738Z
UID:10001739-1699020000-1699027200@medievista.cz
SUMMARY:96. brněnský medievistický pátek
DESCRIPTION:
URL:https://medievista.cz/akce/96-brnensky-medievisticky-patek/
LOCATION:Filozofická fakulta MU Brno\, A. Nováka 1\, Brno\, 60200
CATEGORIES:Periodické,Přednášky,Vše
GEO:49.2003567;16.5980536
X-APPLE-STRUCTURED-LOCATION;VALUE=URI;X-ADDRESS=Filozofická fakulta MU Brno A. Nováka 1 Brno 60200;X-APPLE-RADIUS=500;X-TITLE=A. Nováka 1:geo:16.5980536,49.2003567
END:VEVENT
BEGIN:VEVENT
DTSTART;TZID=Europe/Prague:20231107T170000
DTEND;TZID=Europe/Prague:20231107T183000
DTSTAMP:20260421T044538
CREATED:20231025T083439Z
LAST-MODIFIED:20231025T083633Z
UID:10001737-1699376400-1699381800@medievista.cz
SUMMARY:Staročeský dýchánek: Účinnost slova ve středověké bohemikální literatuře – opěrné body a první plody
DESCRIPTION:
URL:https://medievista.cz/akce/starocesky-dychanek-ucinnost-slova-ve-stredoveke-bohemikalni-literature-operne-body-a-prvni-plody/
LOCATION:Ústav pro českou literaturu AV ČR\, Na Florenci 3\, Praha\, Česká republika
CATEGORIES:Periodické,Přednášky,Vše
GEO:50.0889339;14.4334147
X-APPLE-STRUCTURED-LOCATION;VALUE=URI;X-ADDRESS=Ústav pro českou literaturu AV ČR Na Florenci 3 Praha Česká republika;X-APPLE-RADIUS=500;X-TITLE=Na Florenci 3:geo:14.4334147,50.0889339
END:VEVENT
BEGIN:VEVENT
DTSTART;TZID=Europe/Prague:20231116T173000
DTEND;TZID=Europe/Prague:20231116T190000
DTSTAMP:20260421T044538
CREATED:20231106T101124Z
LAST-MODIFIED:20231114T130345Z
UID:10001740-1700155800-1700161200@medievista.cz
SUMMARY:122. Jour Fixe
DESCRIPTION:
URL:https://medievista.cz/akce/122-jour-fixe/
LOCATION:Centrum medievistických studií\, Jilská 1\, Praha 1\, 11000\, Česká republika
CATEGORIES:Periodické,Přednášky,Vše
ORGANIZER;CN="Centrum medievistick%C3%BDch studi%C3%AD":MAILTO:cms@flu.cas.cz
GEO:50.0846124;14.4187828
X-APPLE-STRUCTURED-LOCATION;VALUE=URI;X-ADDRESS=Centrum medievistických studií Jilská 1 Praha 1 11000 Česká republika;X-APPLE-RADIUS=500;X-TITLE=Jilská 1:geo:14.4187828,50.0846124
END:VEVENT
END:VCALENDAR