BEGIN:VCALENDAR
VERSION:2.0
PRODID:-//Denní medievista - ECPv6.15.20//NONSGML v1.0//EN
CALSCALE:GREGORIAN
METHOD:PUBLISH
X-ORIGINAL-URL:https://medievista.cz
X-WR-CALDESC:Akce na Denní medievista
REFRESH-INTERVAL;VALUE=DURATION:PT1H
X-Robots-Tag:noindex
X-PUBLISHED-TTL:PT1H
BEGIN:VTIMEZONE
TZID:Europe/Prague
BEGIN:DAYLIGHT
TZOFFSETFROM:+0100
TZOFFSETTO:+0200
TZNAME:CEST
DTSTART:20230326T010000
END:DAYLIGHT
BEGIN:STANDARD
TZOFFSETFROM:+0200
TZOFFSETTO:+0100
TZNAME:CET
DTSTART:20231029T010000
END:STANDARD
BEGIN:DAYLIGHT
TZOFFSETFROM:+0100
TZOFFSETTO:+0200
TZNAME:CEST
DTSTART:20240331T010000
END:DAYLIGHT
BEGIN:STANDARD
TZOFFSETFROM:+0200
TZOFFSETTO:+0100
TZNAME:CET
DTSTART:20241027T010000
END:STANDARD
BEGIN:DAYLIGHT
TZOFFSETFROM:+0100
TZOFFSETTO:+0200
TZNAME:CEST
DTSTART:20250330T010000
END:DAYLIGHT
BEGIN:STANDARD
TZOFFSETFROM:+0200
TZOFFSETTO:+0100
TZNAME:CET
DTSTART:20251026T010000
END:STANDARD
END:VTIMEZONE
BEGIN:VEVENT
DTSTART;TZID=Europe/Prague:20240604T170000
DTEND;TZID=Europe/Prague:20240604T183000
DTSTAMP:20260420T163920
CREATED:20240528T093058Z
LAST-MODIFIED:20240528T093058Z
UID:10001800-1717520400-1717525800@medievista.cz
SUMMARY:Staročeský dýchánek - Přijď království tvé: Vykoupení
DESCRIPTION:
URL:https://medievista.cz/akce/starocesky-dychanek-prijd-kralovstvi-tve-vykoupeni/
LOCATION:Ústav pro českou literaturu AV ČR\, Na Florenci 3\, Praha\, Česká republika
CATEGORIES:Periodické,Přednášky,Vše
GEO:50.0889339;14.4334147
X-APPLE-STRUCTURED-LOCATION;VALUE=URI;X-ADDRESS=Ústav pro českou literaturu AV ČR Na Florenci 3 Praha Česká republika;X-APPLE-RADIUS=500;X-TITLE=Na Florenci 3:geo:14.4334147,50.0889339
END:VEVENT
BEGIN:VEVENT
DTSTART;TZID=Europe/Prague:20240620T173000
DTEND;TZID=Europe/Prague:20240620T190000
DTSTAMP:20260420T163920
CREATED:20240509T084855Z
LAST-MODIFIED:20240610T202321Z
UID:10001792-1718904600-1718910000@medievista.cz
SUMMARY:129. Jourfixe
DESCRIPTION:
URL:https://medievista.cz/akce/129-jourfixe/
LOCATION:Centrum medievistických studií\, Jilská 1\, Praha 1\, 11000\, Česká republika
CATEGORIES:Periodické,Přednášky,Vše
ORGANIZER;CN="Centrum medievistick%C3%BDch studi%C3%AD":MAILTO:cms@flu.cas.cz
GEO:50.0846124;14.4187828
X-APPLE-STRUCTURED-LOCATION;VALUE=URI;X-ADDRESS=Centrum medievistických studií Jilská 1 Praha 1 11000 Česká republika;X-APPLE-RADIUS=500;X-TITLE=Jilská 1:geo:14.4187828,50.0846124
END:VEVENT
END:VCALENDAR