BEGIN:VCALENDAR
VERSION:2.0
PRODID:-//Denní medievista - ECPv6.15.20//NONSGML v1.0//EN
CALSCALE:GREGORIAN
METHOD:PUBLISH
X-WR-CALNAME:Denní medievista
X-ORIGINAL-URL:https://medievista.cz
X-WR-CALDESC:Akce na Denní medievista
REFRESH-INTERVAL;VALUE=DURATION:PT1H
X-Robots-Tag:noindex
X-PUBLISHED-TTL:PT1H
BEGIN:VTIMEZONE
TZID:Europe/Prague
BEGIN:DAYLIGHT
TZOFFSETFROM:+0100
TZOFFSETTO:+0200
TZNAME:CEST
DTSTART:20230326T010000
END:DAYLIGHT
BEGIN:STANDARD
TZOFFSETFROM:+0200
TZOFFSETTO:+0100
TZNAME:CET
DTSTART:20231029T010000
END:STANDARD
BEGIN:DAYLIGHT
TZOFFSETFROM:+0100
TZOFFSETTO:+0200
TZNAME:CEST
DTSTART:20240331T010000
END:DAYLIGHT
BEGIN:STANDARD
TZOFFSETFROM:+0200
TZOFFSETTO:+0100
TZNAME:CET
DTSTART:20241027T010000
END:STANDARD
BEGIN:DAYLIGHT
TZOFFSETFROM:+0100
TZOFFSETTO:+0200
TZNAME:CEST
DTSTART:20250330T010000
END:DAYLIGHT
BEGIN:STANDARD
TZOFFSETFROM:+0200
TZOFFSETTO:+0100
TZNAME:CET
DTSTART:20251026T010000
END:STANDARD
END:VTIMEZONE
BEGIN:VEVENT
DTSTART;TZID=Europe/Prague:20241001T170000
DTEND;TZID=Europe/Prague:20241001T180000
DTSTAMP:20260420T102107
CREATED:20240919T123728Z
LAST-MODIFIED:20240919T123728Z
UID:10001809-1727802000-1727805600@medievista.cz
SUMMARY:Staročeský dýchánek - Jan Hus o překladu Bible do vernakulárních jazyků (Martin Dekarli)
DESCRIPTION:
URL:https://medievista.cz/akce/starocesky-dychanek-jan-hus-o-prekladu-bible-do-vernakularnich-jazyku-martin-dekarli/
LOCATION:Ústav pro českou literaturu AV ČR\, Na Florenci 3\, Praha\, Česká republika
CATEGORIES:Periodické,Přednášky,Vše
GEO:50.0889339;14.4334147
X-APPLE-STRUCTURED-LOCATION;VALUE=URI;X-ADDRESS=Ústav pro českou literaturu AV ČR Na Florenci 3 Praha Česká republika;X-APPLE-RADIUS=500;X-TITLE=Na Florenci 3:geo:14.4334147,50.0889339
END:VEVENT
BEGIN:VEVENT
DTSTART;TZID=Europe/Prague:20241017T173000
DTEND;TZID=Europe/Prague:20241017T190000
DTSTAMP:20260420T102107
CREATED:20241004T083518Z
LAST-MODIFIED:20241004T083518Z
UID:10001813-1729186200-1729191600@medievista.cz
SUMMARY:130. Jour fixe - O scénické poznámce ve středověkém dramatu
DESCRIPTION:O scénické poznámce ve středověkém dramatu – Kateřina Vršecká
URL:https://medievista.cz/akce/130-jour-fixe-o-scenicke-poznamce-ve-stredovekem-dramatu/
LOCATION:Centrum medievistických studií\, Jilská 1\, Praha 1\, 11000\, Česká republika
CATEGORIES:Periodické,Přednášky,Vše
ORGANIZER;CN="Centrum medievistick%C3%BDch studi%C3%AD":MAILTO:cms@flu.cas.cz
GEO:50.0846124;14.4187828
X-APPLE-STRUCTURED-LOCATION;VALUE=URI;X-ADDRESS=Centrum medievistických studií Jilská 1 Praha 1 11000 Česká republika;X-APPLE-RADIUS=500;X-TITLE=Jilská 1:geo:14.4187828,50.0846124
END:VEVENT
BEGIN:VEVENT
DTSTART;TZID=Europe/Prague:20241022T163000
DTEND;TZID=Europe/Prague:20241022T180000
DTSTAMP:20260420T102107
CREATED:20241017T115259Z
LAST-MODIFIED:20241017T115259Z
UID:10001821-1729614600-1729620000@medievista.cz
SUMMARY:Nové pohledy na Vyšebrodský oltář
DESCRIPTION:
URL:https://medievista.cz/akce/nove-pohledy-na-vysebrodsky-oltar/
LOCATION:Ústav dějin umění AV ČR\, Husova 4\, Praha\, 11000\, Česká republika
CATEGORIES:Periodické,Přednášky,Vše
GEO:50.0844845;14.4183246
X-APPLE-STRUCTURED-LOCATION;VALUE=URI;X-ADDRESS=Ústav dějin umění AV ČR Husova 4 Praha 11000 Česká republika;X-APPLE-RADIUS=500;X-TITLE=Husova 4:geo:14.4183246,50.0844845
END:VEVENT
END:VCALENDAR