BEGIN:VCALENDAR
VERSION:2.0
PRODID:-//Denní medievista - ECPv6.15.20//NONSGML v1.0//EN
CALSCALE:GREGORIAN
METHOD:PUBLISH
X-ORIGINAL-URL:https://medievista.cz
X-WR-CALDESC:Akce na Denní medievista
REFRESH-INTERVAL;VALUE=DURATION:PT1H
X-Robots-Tag:noindex
X-PUBLISHED-TTL:PT1H
BEGIN:VTIMEZONE
TZID:Europe/Prague
BEGIN:DAYLIGHT
TZOFFSETFROM:+0100
TZOFFSETTO:+0200
TZNAME:CEST
DTSTART:20220327T010000
END:DAYLIGHT
BEGIN:STANDARD
TZOFFSETFROM:+0200
TZOFFSETTO:+0100
TZNAME:CET
DTSTART:20221030T010000
END:STANDARD
BEGIN:DAYLIGHT
TZOFFSETFROM:+0100
TZOFFSETTO:+0200
TZNAME:CEST
DTSTART:20230326T010000
END:DAYLIGHT
BEGIN:STANDARD
TZOFFSETFROM:+0200
TZOFFSETTO:+0100
TZNAME:CET
DTSTART:20231029T010000
END:STANDARD
BEGIN:DAYLIGHT
TZOFFSETFROM:+0100
TZOFFSETTO:+0200
TZNAME:CEST
DTSTART:20240331T010000
END:DAYLIGHT
BEGIN:STANDARD
TZOFFSETFROM:+0200
TZOFFSETTO:+0100
TZNAME:CET
DTSTART:20241027T010000
END:STANDARD
END:VTIMEZONE
BEGIN:VEVENT
DTSTART;TZID=Europe/Prague:20230606T190000
DTEND;TZID=Europe/Prague:20230606T190000
DTSTAMP:20260426T002728
CREATED:20230530T134509Z
LAST-MODIFIED:20230530T134509Z
UID:10001722-1686078000-1686078000@medievista.cz
SUMMARY:Uvedení knihy "Skutky a cesty"
DESCRIPTION:Jaroslav Svátek\, Jaroslava Marešová a Juan Sanchéz uvedou český překlad knihy Skutky a cesty (Andanças e viajes\, 1454)\, v níž její autor\, španělský rytíř\, dobrodruh a cestovatel Pero Tafur popsal své cesty a podivuhodná dobrodružství v Evropě i Asii.\nPožitek z Tafurova pozorovatelského talentu\, z jeho bystrého úsudku a trefných poznámek o kvalitách německých hospod či úpadku středověké Byzance by nám neměl zakrýt hlubší otázky\, které může Tafurova kniha v dnešním čtenáři probudit: Jak vnímal středověký rytíř blízký a vzdálený svět? Jak chápal své místo a svou roli v něm?\nJaroslav Svátek promluví o středověkých šlechtických cestopisech a Tafurově místě mezi nimi\, překladatelka Jaroslava Marešová nás seznámí s typy a žánry španělských rytířských textů a Juan Sanchez se bude věnovat vztahu mezi fantazií a realitou ve španělské rytířské literatuře.\nKniha vyšla jako 8. svazek edice Medium\, kterou vydává Filozofická fakulta Univerzity Karlovy: https://books.ff.cuni.cz/2023/04/28/skutky-a-cesty/
URL:https://medievista.cz/akce/uvedeni-knihy-skutky-a-cesty/
LOCATION:Café Montmartre\, Řetězová 7\, Praha\, Česká republika
CATEGORIES:Popularizace,Přednášky,Vše
ATTACH;FMTTYPE=image/jpeg:https://medievista.cz/wp-content/uploads/2023/05/cover_ME_08_SKUTKY_A_CESTY_Tafur_.jpg
END:VEVENT
BEGIN:VEVENT
DTSTART;TZID=Europe/Prague:20230610T143000
DTEND;TZID=Europe/Prague:20230610T220000
DTSTAMP:20260426T002728
CREATED:20230613T214623Z
LAST-MODIFIED:20230613T214623Z
UID:10001724-1686407400-1686434400@medievista.cz
SUMMARY:(Za)hradní slavnost na Pirkštejně
DESCRIPTION:
URL:https://medievista.cz/akce/zahradni-slavnost-na-pirkstejne/
LOCATION:Pirkštejn\, Pod Bránou 19\, Rataje nad Sázavou\, Česká republika
CATEGORIES:Popularizace,Vše
ATTACH;FMTTYPE=image/jpeg:https://medievista.cz/wp-content/uploads/2023/06/PIRKSTEJN_10_6.jpg
ORGANIZER;CN="Centrum medievistick%C3%BDch studi%C3%AD":MAILTO:cms@flu.cas.cz
END:VEVENT
END:VCALENDAR