BEGIN:VCALENDAR
VERSION:2.0
PRODID:-//Denní medievista - ECPv6.15.20//NONSGML v1.0//EN
CALSCALE:GREGORIAN
METHOD:PUBLISH
X-WR-CALNAME:Denní medievista
X-ORIGINAL-URL:https://medievista.cz
X-WR-CALDESC:Akce na Denní medievista
REFRESH-INTERVAL;VALUE=DURATION:PT1H
X-Robots-Tag:noindex
X-PUBLISHED-TTL:PT1H
BEGIN:VTIMEZONE
TZID:Europe/Prague
BEGIN:DAYLIGHT
TZOFFSETFROM:+0100
TZOFFSETTO:+0200
TZNAME:CEST
DTSTART:20240331T010000
END:DAYLIGHT
BEGIN:STANDARD
TZOFFSETFROM:+0200
TZOFFSETTO:+0100
TZNAME:CET
DTSTART:20241027T010000
END:STANDARD
BEGIN:DAYLIGHT
TZOFFSETFROM:+0100
TZOFFSETTO:+0200
TZNAME:CEST
DTSTART:20250330T010000
END:DAYLIGHT
BEGIN:STANDARD
TZOFFSETFROM:+0200
TZOFFSETTO:+0100
TZNAME:CET
DTSTART:20251026T010000
END:STANDARD
BEGIN:DAYLIGHT
TZOFFSETFROM:+0100
TZOFFSETTO:+0200
TZNAME:CEST
DTSTART:20260329T010000
END:DAYLIGHT
BEGIN:STANDARD
TZOFFSETFROM:+0200
TZOFFSETTO:+0100
TZNAME:CET
DTSTART:20261025T010000
END:STANDARD
END:VTIMEZONE
BEGIN:VEVENT
DTSTART;TZID=Europe/Prague:20251010T140000
DTEND;TZID=Europe/Prague:20251010T153000
DTSTAMP:20260426T033715
CREATED:20251008T110839Z
LAST-MODIFIED:20251008T110839Z
UID:10001870-1760104800-1760110200@medievista.cz
SUMMARY:CXI. medievistický pátek
DESCRIPTION:
URL:https://medievista.cz/akce/cxi-medievisticky-patek/
LOCATION:Filozofická fakulta Masarykovy univerzity\, Arna Nováka 1\, Brno\, 60200
CATEGORIES:Periodické,Přednášky
ORGANIZER;CN="%C3%9Astav pomocn%C3%BDch v%C4%9Bd historick%C3%BDch  a archivnictv%C3%AD FF MU":MAILTO:barova@phil.muni.cz
GEO:49.2005491;16.5983999
X-APPLE-STRUCTURED-LOCATION;VALUE=URI;X-ADDRESS=Filozofická fakulta Masarykovy univerzity Arna Nováka 1 Brno 60200;X-APPLE-RADIUS=500;X-TITLE=Arna Nováka 1:geo:16.5983999,49.2005491
END:VEVENT
BEGIN:VEVENT
DTSTART;TZID=Europe/Prague:20251013T170000
DTEND;TZID=Europe/Prague:20251013T183000
DTSTAMP:20260426T033715
CREATED:20251009T152624Z
LAST-MODIFIED:20251009T152624Z
UID:10001874-1760374800-1760380200@medievista.cz
SUMMARY:Bálint Lakatos: Burgo\, Schneitpeck\, Herberstein. Die Korrespondenz der habsburgischen Gesandten am ungarisch-böhmischen Königshof (1521–1526)
DESCRIPTION:
URL:https://medievista.cz/akce/balint-lakatos-burgo-schneitpeck-herberstein-die-korrespondenz-der-habsburgischen-gesandten-am-ungarisch-bohmischen-konigshof-1521-1526/
LOCATION:Universität Wien\, Universitätsring 1\, Wien\, Austria
CATEGORIES:Přednášky
GEO:48.2129785;16.3601365
X-APPLE-STRUCTURED-LOCATION;VALUE=URI;X-ADDRESS=Universität Wien Universitätsring 1 Wien Austria;X-APPLE-RADIUS=500;X-TITLE=Universitätsring 1:geo:16.3601365,48.2129785
END:VEVENT
BEGIN:VEVENT
DTSTART;TZID=Europe/Prague:20251014T140000
DTEND;TZID=Europe/Prague:20251014T153000
DTSTAMP:20260426T033715
CREATED:20251013T092952Z
LAST-MODIFIED:20251013T092952Z
UID:10001878-1760450400-1760455800@medievista.cz
SUMMARY:Giacomo Signore (IRHT\, Paris): Speaking from the End: Scribes’ Self-Writing in Fifteenth-Century Colophons
DESCRIPTION:
URL:https://medievista.cz/akce/giacomo-signore-irht-paris-speaking-from-the-end-scribes-self-writing-in-fifteenth-century-colophons/
LOCATION:Centrum medievistických studií\, Jilská 1\, Praha 1\, 11000\, Česká republika
CATEGORIES:Přednášky
GEO:50.0846124;14.4187828
X-APPLE-STRUCTURED-LOCATION;VALUE=URI;X-ADDRESS=Centrum medievistických studií Jilská 1 Praha 1 11000 Česká republika;X-APPLE-RADIUS=500;X-TITLE=Jilská 1:geo:14.4187828,50.0846124
END:VEVENT
BEGIN:VEVENT
DTSTART;TZID=Europe/Prague:20251014T170000
DTEND;TZID=Europe/Prague:20251014T183000
DTSTAMP:20260426T033715
CREATED:20251013T161320Z
LAST-MODIFIED:20251013T161320Z
UID:10001879-1760461200-1760466600@medievista.cz
SUMMARY:Michael Lužný: Rukopisné bohatství Kosmovy kroniky
DESCRIPTION:Stěžejní dílo bohemikálního středověkého dějepisectví z pera pražského děkana Kosmy bylo doposud známo především prostřednictvím 15 rukopisů. Od kanonického vydání z roku 1923 od moravského historiografa Bertolda Bretholze by se mohlo zdát\, že k rukopisné tradici Kosmovy kroniky bylo řečeno již vše podstatné. Při bližším pohledu nicméně vychází najevo\, že evropské rukopisné sbírky – fond Národní knihovny nevyjímaje – skýtají i na tomto poli ještě mnoho k objevování. Přednáška úvodem nastíní naše dosavadní\, leckdy mezerovité poznání rukopisů Kroniky\, spolu s tím bude představen (zásluhou dr. Milady Svobodové) nově objevený barokní opis a následně bude pozornost upřena na dosud takřka nepoznanou rukopisnou excerpci Kosmova textu v průběhu pozdního středověku a raného novověku. \nZ klementinských pokladů \nOddělení rukopisů a starých tisků pořádá cyklus přednášek\, na nichž chce veřejnosti přiblížit zajímavá témata z oboru historických fondů a seznámit návštěvníky s některými mimořádnými dokumenty ze svých sbírek. V rámci každé přednášky bude možné zhlédnout jeden originál vzácného historického rukopisu či tisku\, kterým bude listovat přednášející či jeho odborný asistent. \nPřednášky se konají každé druhé úterý v měsíci od 17 hodin v Zasedacím sále v 1. patře. Vstup zdarma. \nZ přednášek jsou pořizovány audiovizuální záznamy (v záběru je pouze přednášející)\, které jsou zveřejňovány na youtube NK ČR.
URL:https://medievista.cz/akce/michael-luzny-rukopisne-bohatstvi-kosmovy-kroniky/
LOCATION:Národní knihovna ČR\, Klementinum 190\, Praha 1\, 110 00
CATEGORIES:Popularizace,Přednášky
ORGANIZER;CN="N%C3%A1rodn%C3%AD knihovna %C4%8CR":MAILTO:renata.modrakova@nkp.cz
GEO:50.0868107;14.4164872
X-APPLE-STRUCTURED-LOCATION;VALUE=URI;X-ADDRESS=Národní knihovna ČR Klementinum 190 Praha 1 110 00;X-APPLE-RADIUS=500;X-TITLE=Klementinum 190:geo:14.4164872,50.0868107
END:VEVENT
BEGIN:VEVENT
DTSTART;TZID=Europe/Prague:20251015T173000
DTEND;TZID=Europe/Prague:20251015T190000
DTSTAMP:20260426T033715
CREATED:20251009T151143Z
LAST-MODIFIED:20251009T151302Z
UID:10001871-1760549400-1760554800@medievista.cz
SUMMARY:Dávid Falvay and Ditta Szemere (ELTE Budapest): Female Scribes in Umbria and in Hungary around 1500: A Comparative Research
DESCRIPTION:
URL:https://medievista.cz/akce/david-falvay-and-ditta-szemere-elte-budapest-female-scribes-in-umbria-and-in-hungary-around-1500-a-comparative-research/
LOCATION:Centrum medievistických studií\, Jilská 1\, Praha 1\, 11000\, Česká republika
CATEGORIES:Přednášky
GEO:50.0846124;14.4187828
X-APPLE-STRUCTURED-LOCATION;VALUE=URI;X-ADDRESS=Centrum medievistických studií Jilská 1 Praha 1 11000 Česká republika;X-APPLE-RADIUS=500;X-TITLE=Jilská 1:geo:14.4187828,50.0846124
END:VEVENT
BEGIN:VEVENT
DTSTART;TZID=Europe/Prague:20251016T160000
DTEND;TZID=Europe/Prague:20251016T172000
DTSTAMP:20260426T033715
CREATED:20251014T091617Z
LAST-MODIFIED:20251014T091617Z
UID:10001885-1760630400-1760635200@medievista.cz
SUMMARY:Madita Knöpfle (University of Zürich): Rethinking narrative theory by considering the historical situatedness of storytelling
DESCRIPTION:
URL:https://medievista.cz/akce/madita-knopfle-university-of-zurich-rethinking-narrative-theory-by-considering-the-historical-situatedness-of-storytelling/
LOCATION:Fakulta Humanitních studií Univerzity Karlovy\, Pátkova 5\, Praha\, Praha\, Česká republika
CATEGORIES:Periodické,Přednášky
GEO:50.0541181;14.3690285
X-APPLE-STRUCTURED-LOCATION;VALUE=URI;X-ADDRESS=Fakulta Humanitních studií Univerzity Karlovy Pátkova 5 Praha Praha Česká republika;X-APPLE-RADIUS=500;X-TITLE=Pátkova 5:geo:14.3690285,50.0541181
END:VEVENT
BEGIN:VEVENT
DTSTART;TZID=Europe/Prague:20251016T173000
DTEND;TZID=Europe/Prague:20251016T190000
DTSTAMP:20260426T033715
CREATED:20251008T105807Z
LAST-MODIFIED:20251008T130207Z
UID:10001868-1760635800-1760641200@medievista.cz
SUMMARY:139. Jour Fixe
DESCRIPTION:Z kapacitních důvodův prosíme o potvrzení účasti na mail „cermanova@flu.cas.cz“
URL:https://medievista.cz/akce/139-jour-fixe/
LOCATION:Národní knihovna ČR\, Klementinum 190\, Praha 1\, 110 00
CATEGORIES:Periodické,Přednášky
ORGANIZER;CN="Centrum medievistick%C3%BDch studi%C3%AD":MAILTO:cms@flu.cas.cz
GEO:50.0868107;14.4164872
X-APPLE-STRUCTURED-LOCATION;VALUE=URI;X-ADDRESS=Národní knihovna ČR Klementinum 190 Praha 1 110 00;X-APPLE-RADIUS=500;X-TITLE=Klementinum 190:geo:14.4164872,50.0868107
END:VEVENT
BEGIN:VEVENT
DTSTART;TZID=Europe/Prague:20251021T170000
DTEND;TZID=Europe/Prague:20251021T183000
DTSTAMP:20260426T033715
CREATED:20251014T094613Z
LAST-MODIFIED:20251014T094613Z
UID:10001887-1761066000-1761071400@medievista.cz
SUMMARY:Martin Wihoda: Kosmas a jeho čtenáři
DESCRIPTION:Veřejná přednáška prof. Martina Wihody u příležitosti 900. výročí úmrtí kronikáře Kosmy.\n\nAnotace:Kosmas je po generace vnímán jako vynikající osobnosti českého národního života a jeho dílo\, Kronika Čechů\, má pevné místo ve školních osnovách i ve výkladu starších českých dějin. Zároveň však platí\, že Kosmas pojednal dějinnou látku zejména jako literát a že se dosud nepodařilo uspokojivě pojmenovat jeho autorský záměr. Ke komu se Kosmas obracel a proč se pokusí přiblížit ohlášená přednáška.
URL:https://medievista.cz/akce/martin-wihoda-kosmas-a-jeho-ctenari/
LOCATION:Národní knihovna ČR\, Klementinum 190\, Praha 1\, 110 00
CATEGORIES:Popularizace,Přednášky
ORGANIZER;CN="Centrum medievistick%C3%BDch studi%C3%AD":MAILTO:cms@flu.cas.cz
GEO:50.0868107;14.4164872
X-APPLE-STRUCTURED-LOCATION;VALUE=URI;X-ADDRESS=Národní knihovna ČR Klementinum 190 Praha 1 110 00;X-APPLE-RADIUS=500;X-TITLE=Klementinum 190:geo:14.4164872,50.0868107
END:VEVENT
BEGIN:VEVENT
DTSTART;TZID=Europe/Prague:20251022T173000
DTEND;TZID=Europe/Prague:20251022T190000
DTSTAMP:20260426T033715
CREATED:20251020T072111Z
LAST-MODIFIED:20251020T072111Z
UID:10001890-1761154200-1761159600@medievista.cz
SUMMARY:J. Izdný: Počátky přemyslovců z ekonomického pohledu
DESCRIPTION:
URL:https://medievista.cz/akce/j-izdny-pocatky-premyslovcu-z-ekonomickeho-pohledu/
LOCATION:Bývalý fara Robousy\, Robousy 70\, Robousy\, Královéhradecký\, 50601\, Czech Republic
CATEGORIES:Popularizace,Přednášky
GEO:50.4330283;15.4037817
X-APPLE-STRUCTURED-LOCATION;VALUE=URI;X-ADDRESS=Bývalý fara Robousy Robousy 70 Robousy Královéhradecký 50601 Czech Republic;X-APPLE-RADIUS=500;X-TITLE=Robousy 70:geo:15.4037817,50.4330283
END:VEVENT
BEGIN:VEVENT
DTSTART;TZID=Europe/Prague:20251023T180000
DTEND;TZID=Europe/Prague:20251023T193000
DTSTAMP:20260426T033715
CREATED:20251014T091336Z
LAST-MODIFIED:20251014T091336Z
UID:10001884-1761242400-1761247800@medievista.cz
SUMMARY:Alena Hadravová: Řecké mýty v literární a výtvarné tradici
DESCRIPTION:
URL:https://medievista.cz/akce/alena-hadravova-recke-myty-v-literarni-a-vytvarne-tradici/
LOCATION:Filozofická fakulta Univerzity Karlovy – Celetná\, Celetná 20\, Praha\, Česká republika
CATEGORIES:Přednášky
GEO:50.0871649;14.4241896
X-APPLE-STRUCTURED-LOCATION;VALUE=URI;X-ADDRESS=Filozofická fakulta Univerzity Karlovy – Celetná Celetná 20 Praha Česká republika;X-APPLE-RADIUS=500;X-TITLE=Celetná 20:geo:14.4241896,50.0871649
END:VEVENT
BEGIN:VEVENT
DTSTART;TZID=Europe/Prague:20251029T173000
DTEND;TZID=Europe/Prague:20251029T190000
DTSTAMP:20260426T033715
CREATED:20251009T151421Z
LAST-MODIFIED:20251023T102909Z
UID:10001872-1761759000-1761764400@medievista.cz
SUMMARY:Rudolf Simek (Uni. Bonn): Demons at Work? The machinations of demons in Sandinavian history of the Early Middle Ages
DESCRIPTION:
URL:https://medievista.cz/akce/rudolf-simek-uni-bonn-demons-at-work-the-machinations-of-demons-in-sandinavian-history-of-the-early-middle-ages/
LOCATION:Centrum medievistických studií\, Jilská 1\, Praha 1\, 11000\, Česká republika
CATEGORIES:Přednášky
GEO:50.0846124;14.4187828
X-APPLE-STRUCTURED-LOCATION;VALUE=URI;X-ADDRESS=Centrum medievistických studií Jilská 1 Praha 1 11000 Česká republika;X-APPLE-RADIUS=500;X-TITLE=Jilská 1:geo:14.4187828,50.0846124
END:VEVENT
BEGIN:VEVENT
DTSTART;TZID=Europe/Prague:20251030T160000
DTEND;TZID=Europe/Prague:20251030T172000
DTSTAMP:20260426T033715
CREATED:20251014T092029Z
LAST-MODIFIED:20251014T092029Z
UID:10001886-1761840000-1761844800@medievista.cz
SUMMARY:Rudolf Simek (University of Bonn): Trolls through history
DESCRIPTION:
URL:https://medievista.cz/akce/rudolf-simek-university-of-bonn-trolls-through-history/
LOCATION:Fakulta Humanitních studií Univerzity Karlovy\, Pátkova 5\, Praha\, Praha\, Česká republika
CATEGORIES:Periodické,Přednášky
GEO:50.0541181;14.3690285
X-APPLE-STRUCTURED-LOCATION;VALUE=URI;X-ADDRESS=Fakulta Humanitních studií Univerzity Karlovy Pátkova 5 Praha Praha Česká republika;X-APPLE-RADIUS=500;X-TITLE=Pátkova 5:geo:14.3690285,50.0541181
END:VEVENT
END:VCALENDAR