BEGIN:VCALENDAR
VERSION:2.0
PRODID:-//Denní medievista - ECPv6.15.20//NONSGML v1.0//EN
CALSCALE:GREGORIAN
METHOD:PUBLISH
X-ORIGINAL-URL:https://medievista.cz
X-WR-CALDESC:Akce na Denní medievista
REFRESH-INTERVAL;VALUE=DURATION:PT1H
X-Robots-Tag:noindex
X-PUBLISHED-TTL:PT1H
BEGIN:VTIMEZONE
TZID:Europe/Prague
BEGIN:DAYLIGHT
TZOFFSETFROM:+0100
TZOFFSETTO:+0200
TZNAME:CEST
DTSTART:20240331T010000
END:DAYLIGHT
BEGIN:STANDARD
TZOFFSETFROM:+0200
TZOFFSETTO:+0100
TZNAME:CET
DTSTART:20241027T010000
END:STANDARD
BEGIN:DAYLIGHT
TZOFFSETFROM:+0100
TZOFFSETTO:+0200
TZNAME:CEST
DTSTART:20250330T010000
END:DAYLIGHT
BEGIN:STANDARD
TZOFFSETFROM:+0200
TZOFFSETTO:+0100
TZNAME:CET
DTSTART:20251026T010000
END:STANDARD
BEGIN:DAYLIGHT
TZOFFSETFROM:+0100
TZOFFSETTO:+0200
TZNAME:CEST
DTSTART:20260329T010000
END:DAYLIGHT
BEGIN:STANDARD
TZOFFSETFROM:+0200
TZOFFSETTO:+0100
TZNAME:CET
DTSTART:20261025T010000
END:STANDARD
END:VTIMEZONE
BEGIN:VEVENT
DTSTART;TZID=Europe/Prague:20251104T170000
DTEND;TZID=Europe/Prague:20251104T183000
DTSTAMP:20260426T020435
CREATED:20251023T072932Z
LAST-MODIFIED:20251023T072932Z
UID:10001894-1762275600-1762281000@medievista.cz
SUMMARY:Staročeský dýchánek: Vydání Dalimilovy kroniky v České knižnici
DESCRIPTION:
URL:https://medievista.cz/akce/starocesky-dychanek-vydani-dalimilovy-kroniky-v-ceske-kniznici/
LOCATION:Ústav pro českou literaturu AV ČR\, Na Florenci 3\, Praha\, Česká republika
CATEGORIES:Přednášky
GEO:50.0889339;14.4334147
X-APPLE-STRUCTURED-LOCATION;VALUE=URI;X-ADDRESS=Ústav pro českou literaturu AV ČR Na Florenci 3 Praha Česká republika;X-APPLE-RADIUS=500;X-TITLE=Na Florenci 3:geo:14.4334147,50.0889339
END:VEVENT
BEGIN:VEVENT
DTSTART;TZID=Europe/Prague:20251105T170000
DTEND;TZID=Europe/Prague:20251105T180000
DTSTAMP:20260426T020435
CREATED:20251029T092314Z
LAST-MODIFIED:20251029T092314Z
UID:10001898-1762362000-1762365600@medievista.cz
SUMMARY:Jörg Peltzer (Universität Heidelberg): Lage\, Lage\, Lage oder warum die Oberpfalz wichtig war. Herrschaftliche Ambitionen und Konzeptionen des 13. und 14. Jahrhunderts
DESCRIPTION:
URL:https://medievista.cz/akce/jorg-peltzer-universitat-heidelberg-lage-lage-lage-oder-warum-die-oberpfalz-wichtig-war-herrschaftliche-ambitionen-und-konzeptionen-des-13-und-14-jahrhunderts/
LOCATION:Online
CATEGORIES:Přednášky
END:VEVENT
BEGIN:VEVENT
DTSTART;TZID=Europe/Prague:20251106T160000
DTEND;TZID=Europe/Prague:20251106T170000
DTSTAMP:20260426T020435
CREATED:20251020T093300Z
LAST-MODIFIED:20251024T071642Z
UID:10001891-1762444800-1762448400@medievista.cz
SUMMARY:J. Arnold: Heresiography as Pastoral Care and Reform: Benoit d'Alignan's Tractatus Fidei and Its Long Afterlife
DESCRIPTION:
URL:https://medievista.cz/akce/j-arnold-hereisography-as-pastoral-care-and-reform-benoit-dalignans-tractatus-fidei-and-its-long-afterlife/
LOCATION:Centrum medievistických studií\, Jilská 1\, Praha 1\, 11000\, Česká republika
CATEGORIES:Přednášky
ORGANIZER;CN="Centrum medievistick%C3%BDch studi%C3%AD":MAILTO:cms@flu.cas.cz
GEO:50.0846124;14.4187828
X-APPLE-STRUCTURED-LOCATION;VALUE=URI;X-ADDRESS=Centrum medievistických studií Jilská 1 Praha 1 11000 Česká republika;X-APPLE-RADIUS=500;X-TITLE=Jilská 1:geo:14.4187828,50.0846124
END:VEVENT
BEGIN:VEVENT
DTSTART;TZID=Europe/Prague:20251110T083000
DTEND;TZID=Europe/Prague:20251110T100000
DTSTAMP:20260426T020435
CREATED:20251104T123031Z
LAST-MODIFIED:20251104T123041Z
UID:10001904-1762763400-1762768800@medievista.cz
SUMMARY:Petr Jan Vinš: Liturgie českého utrakvismu
DESCRIPTION:
URL:https://medievista.cz/akce/petr-jan-vins-litrugie-ceskeho-utrakvismu/
LOCATION:Katolická teologická fakulta Univerzity Karlovy\, Thákurova 3\, Praha 6\, 16000\, Česká republika
CATEGORIES:Přednášky
ORGANIZER;CN="Katolick%C3%A1 teologick%C3%A1 fakulta Univerzity Karlovy":MAILTO:content.form@ktf.cuni.cz
END:VEVENT
BEGIN:VEVENT
DTSTART;TZID=Europe/Prague:20251110T160000
DTEND;TZID=Europe/Prague:20251110T180000
DTSTAMP:20260426T020435
CREATED:20251104T110944Z
LAST-MODIFIED:20251104T111019Z
UID:10001903-1762790400-1762797600@medievista.cz
SUMMARY:Nový překlad Kosmovy Kroniky Čechů v České knižnici
DESCRIPTION:Srdečně zveme v pondělí 10. listopadu 2025 do dolního sálu Ústavu pro českou literaturu AV ČR na slavnostní uvedení nového svazku ediční řady Česká knižnice\, který po řadě desetiletí přináší čtenářům nový překlad latinsky psané Kosmovy Kroniky Čechů.\n\nNa uvedení vystoupí Petr Kopal\, který pojedná Kosmovu Kroniku Čechů z pohledu historického\, a překladatel textu do moderní češtiny a autor komentáře Ondřej Koupil.
URL:https://medievista.cz/akce/4938/
LOCATION:Ústav pro českou literaturu AV ČR\, Na Florenci 3\, Praha\, Česká republika
CATEGORIES:Popularizace,Přednášky
GEO:50.0889339;14.4334147
X-APPLE-STRUCTURED-LOCATION;VALUE=URI;X-ADDRESS=Ústav pro českou literaturu AV ČR Na Florenci 3 Praha Česká republika;X-APPLE-RADIUS=500;X-TITLE=Na Florenci 3:geo:14.4334147,50.0889339
END:VEVENT
BEGIN:VEVENT
DTSTART;TZID=Europe/Prague:20251111T150000
DTEND;TZID=Europe/Prague:20251111T170000
DTSTAMP:20260426T020435
CREATED:20251024T104043Z
LAST-MODIFIED:20251024T104043Z
UID:10001896-1762873200-1762880400@medievista.cz
SUMMARY:Anna Pumprová: Jan z Jenštejna - bílé místo v dějinách českolatinské literatury
DESCRIPTION:
URL:https://medievista.cz/akce/anna-pumprova-jan-z-jenstejna-bile-misto-v-dejinach-ceskolatinske-literatury/
LOCATION:Akademické konferenční centrum\, Husova 4a\, Praha\, 11000\, Česká republika
CATEGORIES:Přednášky
ORGANIZER;CN="Centrum medievistick%C3%BDch studi%C3%AD":MAILTO:cms@flu.cas.cz
GEO:50.0844845;14.4183246
X-APPLE-STRUCTURED-LOCATION;VALUE=URI;X-ADDRESS=Akademické konferenční centrum Husova 4a Praha 11000 Česká republika;X-APPLE-RADIUS=500;X-TITLE=Husova 4a:geo:14.4183246,50.0844845
END:VEVENT
BEGIN:VEVENT
DTSTART;TZID=Europe/Prague:20251111T170000
DTEND;TZID=Europe/Prague:20251111T183000
DTSTAMP:20260426T020435
CREATED:20251104T110440Z
LAST-MODIFIED:20251104T110440Z
UID:10001902-1762880400-1762885800@medievista.cz
SUMMARY:L. Heilandová a kol.: Odkazy ženských klášterů v Klementinu
DESCRIPTION:
URL:https://medievista.cz/akce/l-heilandova-a-kol-odkazy-zenskych-klasteru-v-klementinu/
LOCATION:Národní knihovna ČR\, Klementinum 190\, Praha 1\, 110 00
CATEGORIES:Popularizace,Přednášky
GEO:50.0868107;14.4164872
X-APPLE-STRUCTURED-LOCATION;VALUE=URI;X-ADDRESS=Národní knihovna ČR Klementinum 190 Praha 1 110 00;X-APPLE-RADIUS=500;X-TITLE=Klementinum 190:geo:14.4164872,50.0868107
END:VEVENT
BEGIN:VEVENT
DTSTART;TZID=Europe/Prague:20251112T173000
DTEND;TZID=Europe/Prague:20251112T190000
DTSTAMP:20260426T020435
CREATED:20251107T075037Z
LAST-MODIFIED:20251107T075037Z
UID:10001907-1762968600-1762974000@medievista.cz
SUMMARY:Jürg Glauser (Uni. Zürich): The Simultaneity of Media: Manuscripts and Printed Books in Late Medieval and Early Modern Norther Europe
DESCRIPTION:
URL:https://medievista.cz/akce/jurg-glauser-uni-zurich-the-simultaneity-of-media-manuscripts-and-printed-books-in-late-medieval-and-early-modern-norther-europe/
LOCATION:Centrum medievistických studií\, Jilská 1\, Praha 1\, 11000\, Česká republika
CATEGORIES:Periodické,Přednášky
GEO:50.0846124;14.4187828
X-APPLE-STRUCTURED-LOCATION;VALUE=URI;X-ADDRESS=Centrum medievistických studií Jilská 1 Praha 1 11000 Česká republika;X-APPLE-RADIUS=500;X-TITLE=Jilská 1:geo:14.4187828,50.0846124
END:VEVENT
BEGIN:VEVENT
DTSTART;TZID=Europe/Prague:20251113T160000
DTEND;TZID=Europe/Prague:20251113T173000
DTSTAMP:20260426T020435
CREATED:20251111T082723Z
LAST-MODIFIED:20251111T082723Z
UID:10001913-1763049600-1763055000@medievista.cz
SUMMARY:Jürg Glauser (Uni. Zürich): The Aura of the Text
DESCRIPTION:
URL:https://medievista.cz/akce/jurg-glauser-uni-zurich-the-aura-of-the-text/
LOCATION:Fakulta Humanitních studií Univerzity Karlovy\, Pátkova 5\, Praha\, Praha\, Česká republika
CATEGORIES:Přednášky
GEO:50.0541181;14.3690285
X-APPLE-STRUCTURED-LOCATION;VALUE=URI;X-ADDRESS=Fakulta Humanitních studií Univerzity Karlovy Pátkova 5 Praha Praha Česká republika;X-APPLE-RADIUS=500;X-TITLE=Pátkova 5:geo:14.3690285,50.0541181
END:VEVENT
BEGIN:VEVENT
DTSTART;TZID=Europe/Prague:20251119T100000
DTEND;TZID=Europe/Prague:20251119T170000
DTSTAMP:20260426T020435
CREATED:20251029T084726Z
LAST-MODIFIED:20251029T084758Z
UID:10001897-1763546400-1763571600@medievista.cz
SUMMARY:Den Latiny
DESCRIPTION:
URL:https://medievista.cz/akce/den-latiny/
LOCATION:Filozofická fakulta Univerzity Karlovy\, nám. Jana Palacha 2\, Praha 1\, 116 38\, Česká republika
CATEGORIES:Popularizace,Přednášky
ORGANIZER;CN="%C3%9Astav %C5%99eck%C3%BDch a latinsk%C3%BDch studi%C3%AD FF UK":MAILTO:krizova.marketa@ff.cuni.cz
END:VEVENT
BEGIN:VEVENT
DTSTART;TZID=Europe/Prague:20251119T140000
DTEND;TZID=Europe/Prague:20251119T160000
DTSTAMP:20260426T020435
CREATED:20251104T124336Z
LAST-MODIFIED:20251104T124336Z
UID:10001906-1763560800-1763568000@medievista.cz
SUMMARY:Ahuva Liberles (Tel Aviv University): Constructing Jewish Heritage in Medieval Ashkenaz
DESCRIPTION:
URL:https://medievista.cz/akce/ahuva-liberles-tel-aviv-university-constructing-jewish-heritage-in-medieval-ashkenaz/
LOCATION:Filozofická fakulta Univerzity Karlovy – Celetná\, Celetná 20\, Praha\, Česká republika
CATEGORIES:Přednášky
GEO:50.0871649;14.4241896
X-APPLE-STRUCTURED-LOCATION;VALUE=URI;X-ADDRESS=Filozofická fakulta Univerzity Karlovy – Celetná Celetná 20 Praha Česká republika;X-APPLE-RADIUS=500;X-TITLE=Celetná 20:geo:14.4241896,50.0871649
END:VEVENT
BEGIN:VEVENT
DTSTART;TZID=Europe/Prague:20251119T170000
DTEND;TZID=Europe/Prague:20251119T183000
DTSTAMP:20260426T020435
CREATED:20251021T135934Z
LAST-MODIFIED:20251021T135934Z
UID:10001893-1763571600-1763577000@medievista.cz
SUMMARY:M. Stürzebecher (Erfurt): The Jewish Heritage of Erfurt - From Coincidental Finds to World Heritage
DESCRIPTION:
URL:https://medievista.cz/akce/m-sturzebecher-erfurt-the-jewish-heritage-of-erfurt-from-coincidental-finds-to-world-heritage/
LOCATION:Filozofická fakulta Univerzity Karlovy\, nám. Jana Palacha 2\, Praha 1\, 116 38\, Česká republika
CATEGORIES:Přednášky
ORGANIZER;CN="Historick%C3%BD %C3%BAstav AV %C4%8CR":MAILTO:sekretariat@hiu.cas.cz
END:VEVENT
BEGIN:VEVENT
DTSTART;TZID=Europe/Prague:20251120T160000
DTEND;TZID=Europe/Prague:20251120T173000
DTSTAMP:20260426T020435
CREATED:20251111T082837Z
LAST-MODIFIED:20251111T082837Z
UID:10001914-1763654400-1763659800@medievista.cz
SUMMARY:Elizabeth Archibald (Durham University): Epic and Romance
DESCRIPTION:E
URL:https://medievista.cz/akce/elizabeth-archibald-durham-university-epic-and-romance/
LOCATION:Fakulta Humanitních studií Univerzity Karlovy\, Pátkova 5\, Praha\, Praha\, Česká republika
CATEGORIES:Přednášky
GEO:50.0541181;14.3690285
X-APPLE-STRUCTURED-LOCATION;VALUE=URI;X-ADDRESS=Fakulta Humanitních studií Univerzity Karlovy Pátkova 5 Praha Praha Česká republika;X-APPLE-RADIUS=500;X-TITLE=Pátkova 5:geo:14.3690285,50.0541181
END:VEVENT
BEGIN:VEVENT
DTSTART;TZID=Europe/Prague:20251120T173000
DTEND;TZID=Europe/Prague:20251120T190000
DTSTAMP:20260426T020435
CREATED:20251104T123526Z
LAST-MODIFIED:20251104T123526Z
UID:10001905-1763659800-1763665200@medievista.cz
SUMMARY:140. Jour Fixe
DESCRIPTION:
URL:https://medievista.cz/akce/140-jour-fixe/
LOCATION:Centrum medievistických studií\, Jilská 1\, Praha 1\, 11000\, Česká republika
CATEGORIES:Přednášky
ORGANIZER;CN="Centrum medievistick%C3%BDch studi%C3%AD":MAILTO:cms@flu.cas.cz
GEO:50.0846124;14.4187828
X-APPLE-STRUCTURED-LOCATION;VALUE=URI;X-ADDRESS=Centrum medievistických studií Jilská 1 Praha 1 11000 Česká republika;X-APPLE-RADIUS=500;X-TITLE=Jilská 1:geo:14.4187828,50.0846124
END:VEVENT
BEGIN:VEVENT
DTSTART;TZID=Europe/Prague:20251124T170000
DTEND;TZID=Europe/Prague:20251124T190000
DTSTAMP:20260426T020435
CREATED:20251110T100245Z
LAST-MODIFIED:20251110T100245Z
UID:10001910-1764003600-1764010800@medievista.cz
SUMMARY:The 3rd International Medieval Sermon Studies Society Online Forum for Doctoral and Postdoctoral Researchers
DESCRIPTION:
URL:https://medievista.cz/akce/the-3rd-international-medieval-sermon-studies-society-online-forum-for-doctoral-and-postdoctoral-researchers/
LOCATION:Online
CATEGORIES:Doktorandské,Přednášky
END:VEVENT
BEGIN:VEVENT
DTSTART;TZID=Europe/Prague:20251126T173000
DTEND;TZID=Europe/Prague:20251126T190000
DTSTAMP:20260426T020435
CREATED:20251111T083410Z
LAST-MODIFIED:20251111T083410Z
UID:10001917-1764178200-1764183600@medievista.cz
SUMMARY:Tarrin Wills (Uni. Copenhagen): Object and Text. Connecting the Physical and the Linguistic
DESCRIPTION:
URL:https://medievista.cz/akce/tarrin-wills-uni-copenhagen-object-and-text-connecting-the-physical-and-the-linguistic/
LOCATION:Centrum medievistických studií\, Jilská 1\, Praha 1\, 11000\, Česká republika
CATEGORIES:Přednášky
ORGANIZER;CN="%C3%9Astav %C5%99eck%C3%BDch a latinsk%C3%BDch studi%C3%AD FF UK":MAILTO:krizova.marketa@ff.cuni.cz
GEO:50.0846124;14.4187828
X-APPLE-STRUCTURED-LOCATION;VALUE=URI;X-ADDRESS=Centrum medievistických studií Jilská 1 Praha 1 11000 Česká republika;X-APPLE-RADIUS=500;X-TITLE=Jilská 1:geo:14.4187828,50.0846124
END:VEVENT
BEGIN:VEVENT
DTSTART;TZID=Europe/Prague:20251127T141000
DTEND;TZID=Europe/Prague:20251127T160000
DTSTAMP:20260426T020435
CREATED:20251120T075605Z
LAST-MODIFIED:20251120T075605Z
UID:10001920-1764252600-1764259200@medievista.cz
SUMMARY:Irka Hajdas (ETH Zurich): Radiocarbon dating in Medieval Archaeology – Prospects and Limitations
DESCRIPTION:
URL:https://medievista.cz/akce/irka-hajdas-eth-zurich-radiocarbon-dating-in-medieval-archaeology-prospects-and-limitations/
LOCATION:Archeologický ústav AV ČR\, Letenská 4\, Praha\, Česká republika
CATEGORIES:Přednášky
GEO:50.0902962;14.4093877
X-APPLE-STRUCTURED-LOCATION;VALUE=URI;X-ADDRESS=Archeologický ústav AV ČR Letenská 4 Praha Česká republika;X-APPLE-RADIUS=500;X-TITLE=Letenská 4:geo:14.4093877,50.0902962
END:VEVENT
BEGIN:VEVENT
DTSTART;TZID=Europe/Prague:20251127T160000
DTEND;TZID=Europe/Prague:20251127T173000
DTSTAMP:20260426T020435
CREATED:20251111T082950Z
LAST-MODIFIED:20251111T082950Z
UID:10001915-1764259200-1764264600@medievista.cz
SUMMARY:Pierre-Brice Stahl (University of Sorbonne): Old Norse Religion
DESCRIPTION:
URL:https://medievista.cz/akce/pierre-brice-stahl-university-of-sorbonne-old-norse-religion/
LOCATION:Fakulta Humanitních studií Univerzity Karlovy\, Pátkova 5\, Praha\, Praha\, Česká republika
CATEGORIES:Přednášky
GEO:50.0541181;14.3690285
X-APPLE-STRUCTURED-LOCATION;VALUE=URI;X-ADDRESS=Fakulta Humanitních studií Univerzity Karlovy Pátkova 5 Praha Praha Česká republika;X-APPLE-RADIUS=500;X-TITLE=Pátkova 5:geo:14.3690285,50.0541181
END:VEVENT
BEGIN:VEVENT
DTSTART;TZID=Europe/Prague:20251127T173000
DTEND;TZID=Europe/Prague:20251127T190000
DTSTAMP:20260426T020435
CREATED:20251107T080219Z
LAST-MODIFIED:20251107T080219Z
UID:10001908-1764264600-1764270000@medievista.cz
SUMMARY:Jiří Dynda: Etymologie slovanských bohů. Výklad teonym od středověku po současnost
DESCRIPTION:Jelikož o slovanských bozích před přijetím křesťanství máme často jen útržkovité zprávy\, v bádání o slovanském pohanském náboženství a jeho bozích dlouho drží prim etymologické rozbory božských jmen. Od prvních naivních pokusů latinských středověkých a novověkých kronikářů přes nadšenecké snahy učenců 19. století až po vyšperkované a metodologicky obezřetné výklady současných lingvistů bývá zvykem odvozovat funkce a povahu jednotlivých božstev pouze na základě etymologie jejich jména. Jaké jsou ale s podobným přístupem obtíže a kde číhá nebezpečí podobně založených výkladů? Je srovnávací jazykověda ve službách religionistiky produktivní metodou\, anebo je lingvistické bádání nad slovanskými teonymy opravdu jen neplodným „hřbitovem etymologií“\, jak to kdysi nazval polský historik Stanisław Urbańczyk? Přednáška se na několika vybraných příkladech teonym (Perun\, Mokoš\, Veles\, Pereplut\, či zejména Redigast) pokusí tyto otázky otevřít a prozkoumat další možná východiska pro zkoumání jmen slovanských bohů a bohyň.
URL:https://medievista.cz/akce/jiri-dynda-etymologie-slovanskych-bohu-vyklad-teonym-od-stredoveku-po-soucasnost/
LOCATION:Filozofická fakulta Univerzity Karlovy\, nám. Jana Palacha 2\, Praha 1\, 116 38\, Česká republika
CATEGORIES:Periodické,Přednášky
END:VEVENT
BEGIN:VEVENT
DTSTART;TZID=Europe/Prague:20251128T140000
DTEND;TZID=Europe/Prague:20251128T160000
DTSTAMP:20260426T020435
CREATED:20251123T135216Z
LAST-MODIFIED:20251123T135216Z
UID:10001921-1764338400-1764345600@medievista.cz
SUMMARY:CXII. medievistický pátek
DESCRIPTION:
URL:https://medievista.cz/akce/cxii-medievisticky-patek/
LOCATION:Filozofická fakulta Masarykovy univerzity\, Arna Nováka 1\, Brno\, 60200
CATEGORIES:Periodické,Přednášky
ORGANIZER;CN="%C3%9Astav pomocn%C3%BDch v%C4%9Bd historick%C3%BDch  a archivnictv%C3%AD FF MU":MAILTO:barova@phil.muni.cz
GEO:49.2005491;16.5983999
X-APPLE-STRUCTURED-LOCATION;VALUE=URI;X-ADDRESS=Filozofická fakulta Masarykovy univerzity Arna Nováka 1 Brno 60200;X-APPLE-RADIUS=500;X-TITLE=Arna Nováka 1:geo:16.5983999,49.2005491
END:VEVENT
END:VCALENDAR