BEGIN:VCALENDAR
VERSION:2.0
PRODID:-//Denní medievista - ECPv6.15.20//NONSGML v1.0//EN
CALSCALE:GREGORIAN
METHOD:PUBLISH
X-ORIGINAL-URL:https://medievista.cz
X-WR-CALDESC:Akce na Denní medievista
REFRESH-INTERVAL;VALUE=DURATION:PT1H
X-Robots-Tag:noindex
X-PUBLISHED-TTL:PT1H
BEGIN:VTIMEZONE
TZID:Europe/Prague
BEGIN:DAYLIGHT
TZOFFSETFROM:+0100
TZOFFSETTO:+0200
TZNAME:CEST
DTSTART:20240331T010000
END:DAYLIGHT
BEGIN:STANDARD
TZOFFSETFROM:+0200
TZOFFSETTO:+0100
TZNAME:CET
DTSTART:20241027T010000
END:STANDARD
BEGIN:DAYLIGHT
TZOFFSETFROM:+0100
TZOFFSETTO:+0200
TZNAME:CEST
DTSTART:20250330T010000
END:DAYLIGHT
BEGIN:STANDARD
TZOFFSETFROM:+0200
TZOFFSETTO:+0100
TZNAME:CET
DTSTART:20251026T010000
END:STANDARD
BEGIN:DAYLIGHT
TZOFFSETFROM:+0100
TZOFFSETTO:+0200
TZNAME:CEST
DTSTART:20260329T010000
END:DAYLIGHT
BEGIN:STANDARD
TZOFFSETFROM:+0200
TZOFFSETTO:+0100
TZNAME:CET
DTSTART:20261025T010000
END:STANDARD
END:VTIMEZONE
BEGIN:VEVENT
DTSTART;TZID=Europe/Prague:20251202T170000
DTEND;TZID=Europe/Prague:20251202T190000
DTSTAMP:20260426T002726
CREATED:20251124T090314Z
LAST-MODIFIED:20251124T090314Z
UID:10001924-1764694800-1764702000@medievista.cz
SUMMARY:Alena A. Fidlerová: A jsou to vůbec termíny? Česká gramatická terminologie v 16. století
DESCRIPTION:
URL:https://medievista.cz/akce/alena-a-fidlerova-a-jsou-to-vubec-terminy-ceska-gramaticka-terminologie-v-16-stoleti/
LOCATION:Ústav pro českou literaturu AV ČR\, Na Florenci 3\, Praha\, Česká republika
CATEGORIES:Periodické,Přednášky
GEO:50.0889339;14.4334147
X-APPLE-STRUCTURED-LOCATION;VALUE=URI;X-ADDRESS=Ústav pro českou literaturu AV ČR Na Florenci 3 Praha Česká republika;X-APPLE-RADIUS=500;X-TITLE=Na Florenci 3:geo:14.4334147,50.0889339
END:VEVENT
BEGIN:VEVENT
DTSTART;TZID=Europe/Prague:20251204T160000
DTEND;TZID=Europe/Prague:20251204T173000
DTSTAMP:20260426T002726
CREATED:20251111T083135Z
LAST-MODIFIED:20251111T083135Z
UID:10001916-1764864000-1764869400@medievista.cz
SUMMARY:Ivar Berg (University of Trondheim): Old Norse: Norvegian and Icelandic. Some perspectives on linguistics and philology
DESCRIPTION:
URL:https://medievista.cz/akce/ivar-berg-university-of-trondheim-old-norse-norvegian-and-icelandic-some-perspectives-on-linguistics-and-philology/
LOCATION:Fakulta Humanitních studií Univerzity Karlovy\, Pátkova 5\, Praha\, Praha\, Česká republika
CATEGORIES:Přednášky
GEO:50.0541181;14.3690285
X-APPLE-STRUCTURED-LOCATION;VALUE=URI;X-ADDRESS=Fakulta Humanitních studií Univerzity Karlovy Pátkova 5 Praha Praha Česká republika;X-APPLE-RADIUS=500;X-TITLE=Pátkova 5:geo:14.3690285,50.0541181
END:VEVENT
BEGIN:VEVENT
DTSTART;TZID=Europe/Prague:20251205T140000
DTEND;TZID=Europe/Prague:20251205T160000
DTSTAMP:20260426T002726
CREATED:20251203T185939Z
LAST-MODIFIED:20251203T190223Z
UID:10001927-1764943200-1764950400@medievista.cz
SUMMARY:CXIII. medievistický pátek
DESCRIPTION:
URL:https://medievista.cz/akce/113-medievisticky-patek/
LOCATION:Filozofická fakulta Masarykovy univerzity\, Arna Nováka 1\, Brno\, 60200
CATEGORIES:Periodické,Přednášky
ORGANIZER;CN="%C3%9Astav pomocn%C3%BDch v%C4%9Bd historick%C3%BDch  a archivnictv%C3%AD FF MU":MAILTO:barova@phil.muni.cz
GEO:49.2005491;16.5983999
X-APPLE-STRUCTURED-LOCATION;VALUE=URI;X-ADDRESS=Filozofická fakulta Masarykovy univerzity Arna Nováka 1 Brno 60200;X-APPLE-RADIUS=500;X-TITLE=Arna Nováka 1:geo:16.5983999,49.2005491
END:VEVENT
BEGIN:VEVENT
DTSTART;TZID=Europe/Prague:20251210T173000
DTEND;TZID=Europe/Prague:20251210T190000
DTSTAMP:20260426T002726
CREATED:20251111T083527Z
LAST-MODIFIED:20251111T083533Z
UID:10001918-1765387800-1765393200@medievista.cz
SUMMARY:Re-mediating the Early Book: Pasts and Futures (Galway Uni. project)
DESCRIPTION:
URL:https://medievista.cz/akce/re-mediating-the-early-book-pasts-and-futures-galway-uni-project/
LOCATION:Centrum medievistických studií\, Jilská 1\, Praha 1\, 11000\, Česká republika
CATEGORIES:Přednášky
ORGANIZER;CN="%C3%9Astav %C5%99eck%C3%BDch a latinsk%C3%BDch studi%C3%AD FF UK":MAILTO:krizova.marketa@ff.cuni.cz
GEO:50.0846124;14.4187828
X-APPLE-STRUCTURED-LOCATION;VALUE=URI;X-ADDRESS=Centrum medievistických studií Jilská 1 Praha 1 11000 Česká republika;X-APPLE-RADIUS=500;X-TITLE=Jilská 1:geo:14.4187828,50.0846124
END:VEVENT
BEGIN:VEVENT
DTSTART;TZID=Europe/Prague:20251211T173000
DTEND;TZID=Europe/Prague:20251211T190000
DTSTAMP:20260426T002726
CREATED:20251124T084057Z
LAST-MODIFIED:20251204T080755Z
UID:10001922-1765474200-1765479600@medievista.cz
SUMMARY:141. Jour Fixe
DESCRIPTION:Samuel Beňa: Fenomén vojny a genéza štátu v dobe Poděbradskej
URL:https://medievista.cz/akce/141-jour-fixe/
LOCATION:Centrum medievistických studií\, Jilská 1\, Praha 1\, 11000\, Česká republika
CATEGORIES:Periodické,Přednášky
ORGANIZER;CN="Centrum medievistick%C3%BDch studi%C3%AD":MAILTO:cms@flu.cas.cz
GEO:50.0846124;14.4187828
X-APPLE-STRUCTURED-LOCATION;VALUE=URI;X-ADDRESS=Centrum medievistických studií Jilská 1 Praha 1 11000 Česká republika;X-APPLE-RADIUS=500;X-TITLE=Jilská 1:geo:14.4187828,50.0846124
END:VEVENT
BEGIN:VEVENT
DTSTART;TZID=Europe/Prague:20251212T140000
DTEND;TZID=Europe/Prague:20251212T160000
DTSTAMP:20260426T002726
CREATED:20251203T190133Z
LAST-MODIFIED:20251203T190255Z
UID:10001928-1765548000-1765555200@medievista.cz
SUMMARY:CXIV. medievistický pátek
DESCRIPTION:
URL:https://medievista.cz/akce/114-medievisticky-patek/
LOCATION:Filozofická fakulta Masarykovy univerzity\, Arna Nováka 1\, Brno\, 60200
CATEGORIES:Periodické,Přednášky
ORGANIZER;CN="%C3%9Astav pomocn%C3%BDch v%C4%9Bd historick%C3%BDch  a archivnictv%C3%AD FF MU":MAILTO:barova@phil.muni.cz
GEO:49.2005491;16.5983999
X-APPLE-STRUCTURED-LOCATION;VALUE=URI;X-ADDRESS=Filozofická fakulta Masarykovy univerzity Arna Nováka 1 Brno 60200;X-APPLE-RADIUS=500;X-TITLE=Arna Nováka 1:geo:16.5983999,49.2005491
END:VEVENT
BEGIN:VEVENT
DTSTART;TZID=Europe/Prague:20251215T160000
DTEND;TZID=Europe/Prague:20251215T170000
DTSTAMP:20260426T002726
CREATED:20251124T085915Z
LAST-MODIFIED:20251124T085915Z
UID:10001923-1765814400-1765818000@medievista.cz
SUMMARY:Tajemná podzemní chodba v klášteře Plasy
DESCRIPTION:
URL:https://medievista.cz/akce/tajemna-podzemni-chodba-v-klastere-plasy/
LOCATION:Národní památkový ústav – ÚOP Plzeň\, Prešovská 7\, Plzeň\, Plzeňský\, Czech Republic
CATEGORIES:Popularizace,Přednášky
GEO:49.7464844;13.3753037
X-APPLE-STRUCTURED-LOCATION;VALUE=URI;X-ADDRESS=Národní památkový ústav – ÚOP Plzeň Prešovská 7 Plzeň Plzeňský Czech Republic;X-APPLE-RADIUS=500;X-TITLE=Prešovská 7:geo:13.3753037,49.7464844
END:VEVENT
END:VCALENDAR