BEGIN:VCALENDAR
VERSION:2.0
PRODID:-//Denní medievista - ECPv6.15.20//NONSGML v1.0//EN
CALSCALE:GREGORIAN
METHOD:PUBLISH
X-WR-CALNAME:Denní medievista
X-ORIGINAL-URL:https://medievista.cz
X-WR-CALDESC:Akce na Denní medievista
REFRESH-INTERVAL;VALUE=DURATION:PT1H
X-Robots-Tag:noindex
X-PUBLISHED-TTL:PT1H
BEGIN:VTIMEZONE
TZID:Europe/Prague
BEGIN:DAYLIGHT
TZOFFSETFROM:+0100
TZOFFSETTO:+0200
TZNAME:CEST
DTSTART:20250330T010000
END:DAYLIGHT
BEGIN:STANDARD
TZOFFSETFROM:+0200
TZOFFSETTO:+0100
TZNAME:CET
DTSTART:20251026T010000
END:STANDARD
BEGIN:DAYLIGHT
TZOFFSETFROM:+0100
TZOFFSETTO:+0200
TZNAME:CEST
DTSTART:20260329T010000
END:DAYLIGHT
BEGIN:STANDARD
TZOFFSETFROM:+0200
TZOFFSETTO:+0100
TZNAME:CET
DTSTART:20261025T010000
END:STANDARD
BEGIN:DAYLIGHT
TZOFFSETFROM:+0100
TZOFFSETTO:+0200
TZNAME:CEST
DTSTART:20270328T010000
END:DAYLIGHT
BEGIN:STANDARD
TZOFFSETFROM:+0200
TZOFFSETTO:+0100
TZNAME:CET
DTSTART:20271031T010000
END:STANDARD
END:VTIMEZONE
BEGIN:VEVENT
DTSTART;TZID=Europe/Prague:20260414T080000
DTEND;TZID=Europe/Prague:20260531T170000
DTSTAMP:20260420T190758
CREATED:20260414T071040Z
LAST-MODIFIED:20260414T071040Z
UID:10001976-1776153600-1780246800@medievista.cz
SUMMARY:CfP: Bitka pri Moháči | Osmanská tematika a literární stvárnenie historickej udalosti v dielach staršej literatúry
DESCRIPTION:Návratka ve formátu docx ke stažení zde: \nNávratka_Konferencia_Moháč_2026 \n 
URL:https://medievista.cz/akce/cfp-bitka-pri-mohaci-osmanska-tematika-a-literarni-stvarnenie-historickej-udalosti-v-dielach-starsej-literatury/
LOCATION:Ústav slovenskej literatúry SAV\, v. v. i.\, Dúbravská cesta 9\, Bratislava\, 84104\, Slovakia (Slovak Republic)
CATEGORIES:Call for papers
GEO:48.1722225;17.0664295
X-APPLE-STRUCTURED-LOCATION;VALUE=URI;X-ADDRESS=Ústav slovenskej literatúry SAV v. v. i. Dúbravská cesta 9 Bratislava 84104 Slovakia (Slovak Republic);X-APPLE-RADIUS=500;X-TITLE=Dúbravská cesta 9:geo:17.0664295,48.1722225
END:VEVENT
BEGIN:VEVENT
DTSTART;TZID=Europe/Prague:20260422T160000
DTEND;TZID=Europe/Prague:20260424T105900
DTSTAMP:20260420T190758
CREATED:20260305T041754Z
LAST-MODIFIED:20260414T071334Z
UID:10001958-1776873600-1777028340@medievista.cz
SUMMARY:Solving the Schism: Empire and Papacy in the vortex of change\, 1378–1417
DESCRIPTION:The international conference “Solving the Schism: Empire and Papacy in the vortex of change\, 1378–1417”\, organised by the Institute of History of the Czech Academy of Sciences in collaboration with the University of Liège and the University of Minho\, will take place on 23 and 24 April 2026 at the Academic Conference Centre (Husova 4a\, Prague 1).\nIt is supported by the Czech Academy of Sciences’ Strategy AV21 research programme\, “Anatomy of European Society\, History\, Tradition\, Culture\, Identity”\, the Fund for Scientific Research (F.R.S.–FNRS\, Belgium) and the Associate Laboratory for Research and Innovation in Heritage\, Arts\, Sustainability and Territory (IN2PAST\, Portugal). \nThis international and interdisciplinary conference will examine the various proposals and initiatives for resolving the Great Western Schism (1378–1417)\, arguably the most significant spiritual and temporal crisis of the later Middle Ages (c.1300–1500). The proposed solutions included diplomatic negotiations\, dynastic alliances\, conciliar and reformist ideas\, and military operational plans. We shall investigate how these were conceived\, justified\, expressed\, and communicated through the textual\, visual\, spatial\, and sonic media of the time. \nProgram:
URL:https://medievista.cz/akce/solving-the-schism-empire-and-papacy-in-the-vortex-of-change-1378-1417/
LOCATION:Akademické konferenční centrum\, Husova 4a\, Praha\, 11000\, Česká republika
CATEGORIES:Konference a semináře
ORGANIZER;CN="Historick%C3%BD %C3%BAstav AV %C4%8CR":MAILTO:sekretariat@hiu.cas.cz
GEO:50.0844845;14.4183246
X-APPLE-STRUCTURED-LOCATION;VALUE=URI;X-ADDRESS=Akademické konferenční centrum Husova 4a Praha 11000 Česká republika;X-APPLE-RADIUS=500;X-TITLE=Husova 4a:geo:14.4183246,50.0844845
END:VEVENT
BEGIN:VEVENT
DTSTART;VALUE=DATE:20260424
DTEND;VALUE=DATE:20260426
DTSTAMP:20260420T190758
CREATED:20260305T042110Z
LAST-MODIFIED:20260305T042110Z
UID:10001959-1776988800-1777161599@medievista.cz
SUMMARY:Historická obydlí v krajině. Technologie\, výstavba\, diagnostika a údržba
DESCRIPTION:II. mezioborové kolokvium a edukativní workshop Historická obydlí v krajině. Technologie\, výstavba\, diagnostika a údržba\, pořádaný Ústavem teoretické a aplikované mechaniky AV ČR\, Historickým ústavem AV ČR a Archeoskanzenem Curia Vitkov\, se bude konat 24. až 25. dubna 2026 v Archeoskanzenu Curia Vitkov (Horní Vítkov 20\, Chrastava 463 31). \nII. mezioborové kolokvium a edukativní workshop\, které navazují na první úspěšný ročník Středověká obydlí v krajině (04/2025)\, se nově zaměří na stavební technologie a funkční využití budov (světských i církevních) v minulosti\, a to s ohledem na využívání přírodních zdrojů a krajiny. V rámci kolokvia a edukativního workshopu budou diskutovány otázky: \n\nproblematika určení životnosti klíčových přírodních materiálů\nnaléhavost individuálního výběru dřeva z důvodu zajištění materiálové kompatibility\nmateriálová skladba výplní dřevěných konstrukcí\nmožností nástrojového vybavení při tradičním zpracování dřeva a hliněných výplní\npříklady dlouhodobé údržby\nspotřeba materiálu dle majetnosti/sociálních vrstev\ndostupnost stavebních materiálů – sociální versus lokální pro určení limitů výsledné konstrukce\n\nVýznamným přínosem bude opět interdisciplinární pojetí – představení znalostí odborníků z různých vědních oblastí a zkušeností řemeslníků s tradičním opracováním dřeva\, přípravou a aplikací hliněných směsí z již realizovaných staveb. Cílem kolokvia a workshopu bude rovněž dosažení maximálních poznatků pro další experimentální výzkum tradičních způsobů zpracování dřeva a hliněných výplní pro další konstrukce\, či údržbu dochovaných památkových staveb. \nOrganizace:\nIng. Michal Kloiber\, Ph.D.\, ÚTAM AV ČR\nDoc. PhDr. Dana Dvořáčková-Malá\, Ph.D.\, HÚ AV ČR\nIng. Jaromír Kučera\, Fakulta strojní ČVUT\, Curia Vitkov\nPhDr. Jan Zelenka\, Ph.D.\, HÚ AV ČR \nKontakt:\nkloiber@itam.cas.cz; dvorackova@hiu.cas.cz; zelenka@hiu.cas.cz \nInformace pro účastníky a přihlašování:\nhttps://forms.gle/LKe1kQKGPWm5ppfZ6 \nKontakt pro přihlašování:\nJaromir.Kucera@cvut.cz \nVíce:\nhttps://epicentra-civilizace.cz/\nhttps://epicentra-civilizace.cz/ii-mezioborove-kolokvium-a-edukativni-workshop/
URL:https://medievista.cz/akce/historicka-obydli-v-krajine-technologie-vystavba-diagnostika-a-udrzba/
LOCATION:Archeoskanzen Curia Vitkov\, Horní Vítkov 20\, Chrastava\, 463 31\, Czech Republic
CATEGORIES:Konference a semináře
ORGANIZER;CN="Historick%C3%BD %C3%BAstav AV %C4%8CR":MAILTO:sekretariat@hiu.cas.cz
GEO:50.853158;14.9717106
X-APPLE-STRUCTURED-LOCATION;VALUE=URI;X-ADDRESS=Archeoskanzen Curia Vitkov Horní Vítkov 20 Chrastava 463 31 Czech Republic;X-APPLE-RADIUS=500;X-TITLE=Horní Vítkov 20:geo:14.9717106,50.853158
END:VEVENT
BEGIN:VEVENT
DTSTART;TZID=Europe/Prague:20260424T140000
DTEND;TZID=Europe/Prague:20260424T140000
DTSTAMP:20260420T190758
CREATED:20260414T072016Z
LAST-MODIFIED:20260414T072049Z
UID:10001977-1777039200-1777039200@medievista.cz
SUMMARY:Quaestiones Pragenses | Elena Baltuta: Syllogism without syllogizing: John Pecham on vision
DESCRIPTION:Nový meziústavní badatelský seminář pro studium středověké a druhoscholastické filosofie s názvem „Quaestiones Pragenses. Seminář středověké a scholastické filosofie“ společně pořádají Oddělení pro studium antického a středověkého myšlení Filosofického ústavu Akademie věd ČR\, Ústav filosofie a religionistiky Filosofické fakulty Univerzity Karlovy a Katolická teologická fakulta Univerzity Karlovy. \nSeminář pořádá pravidelné přednášky českých i zahraničních badatelů. \nČinnost semináře koordinují: \nPavel Blažek (FLÚ AV ČR) blazek@flu.cas.cz\nAnna Tropia (ÚFAR): Anna.Tropia@ff.cuni.cz\nDavid Svoboda (KTF): david.svoboda@ktf.cuni.cz \nPROGRAM LETNÍHO SEMESTRU (ke stažení) \n❖ Elena Baltuta (Ústav filosofie a religionistiky FF UK\, Praha) Syllogism without syllogizing: John Pecham on vision\nPátek/Friday 24.4.2026\, 14:00h\, UFAR FF UK\, nám. Jana Palacha 1\, Praha (! Přesunuto ze 17. 4. 2026) \n❖ Pavel Soukup (CMS\, Filosofický ústav AV ČR\, Praha) Pojetí svědomí v díle a v procesu Jana Husa\nPátek/Friday 22.5.2026\, 14h\, FLÚ AV ČR\, Jilská 1\, Praha\, zasedací místnost 124a \n❖ Lucie Rathouzská (OSASM\, Filosofický ústav AV ČR\, Praha) Pojetí moudrosti u Augustina a Huga ze sv. Viktora\nPátek/Friday 12.6.2026\, 14h\, FLÚ AV ČR\, Jilská 1\, Praha\, zasedací místnost 124a
URL:https://medievista.cz/akce/quaestiones-pragensess-elena-baltuta-syllogism-without-syllogizing-john-pecham-on-vision/
LOCATION:Ústav filosofie a religionistiky\, FF UK\, nám. Jana Palacha 2\, Praha\, Česká republika
CATEGORIES:Přednášky
END:VEVENT
BEGIN:VEVENT
DTSTART;TZID=Europe/Prague:20260427T090000
DTEND;TZID=Europe/Prague:20260427T170000
DTSTAMP:20260420T190758
CREATED:20260319T074810Z
LAST-MODIFIED:20260319T074810Z
UID:10001965-1777280400-1777309200@medievista.cz
SUMMARY:Středověký Strahov
DESCRIPTION:
URL:https://medievista.cz/akce/stredoveky-strahov/
LOCATION:Katolická teologická fakulta Univerzity Karlovy\, Thákurova 3\, Praha 6\, 16000\, Česká republika
CATEGORIES:Konference a semináře
ORGANIZER;CN="Katolick%C3%A1 teologick%C3%A1 fakulta Univerzity Karlovy":MAILTO:content.form@ktf.cuni.cz
END:VEVENT
BEGIN:VEVENT
DTSTART;TZID=Europe/Prague:20260428T170000
DTEND;TZID=Europe/Prague:20260428T190000
DTSTAMP:20260420T190759
CREATED:20260409T032717Z
LAST-MODIFIED:20260409T032717Z
UID:10001974-1777395600-1777402800@medievista.cz
SUMMARY:Středověké cestopisy | Beseda nad novými tituly edice Itineraria z nakladatelství Argo s odborníky nejen z Národní knihovny
DESCRIPTION:Edice Itineraria\, která vychází od roku 2015\, se zaměřuje na cesty a putování ve zprávách\, cestovních denících či korespondenci\, na literární cestopisy i texty cestami volně inspirované. Neklade si žádná chronologická omezení a zahrnuje díla a zápisky cestovatelů středověkých stejně jako nedávných. Edici představí redaktorka Magdalena Moravová. \nPřekladatelka Jaroslava Marešová představí dva svazky z této edice. Pozoruhodný cestopis téměř románové povahy s názvem Útrapy Alonsa Ramíreze sepsal v květnu 1690 na základě ústního vyprávění Alonsa Ramíreze významný novošpanělský literát Carlos de Sigüenza y Góngora. Výčet míst\, jež Alonso navštívil\, udiví i moderního cestovatele: pracoval v novošpanělských městech Mexiku a Pueble\, žil v Manile\, podíval se do Malakky\, Makaa i na Jávu\, s piráty přistál na Borneu\, v Austrálii a na Madagaskaru\, přeplul Tichý\, Indický i Atlantický oceán a po šesti letech na cestách po světě se vrátil do Mexika. \nKniha s příznačným názvem Ztroskotání přináší příběh trosečníka z pobřeží Mexického zálivu (1527-1536). Álvar Núnez Cabeza de Vaca (asi 1490–1556/9)\, se v roce 1527 coby pokladník účastnil neúspěšné výpravy Pánfila de Narváez na Floridu. Následujících téměř deset let prožil mezi indiánskými kmeny a roku 1536 pěšky dorazil na území dnešního Mexika. \nEdici Itineraria tematicky doplní dvě publikace z produkce Národní knihovny ČR\, které vyšly v ediční řadě Z klementinských pokladů. Publikace Kalifornský poloostrov na starých mapách je doplněna bohatým obrazovým doprovodem\, který tvoří ukázky renesančních a barokních map uložených ve sbírkách Národní knihovny ČR\, a dobové portréty kartografů\, původních obyvatel Mexika i fotografie glóbů z klementinského barokního knihovního sálu. \nDruhá z publikací s názvem Jezuita Ignaz Tirsch jako misionář\, architekt a umělec v mexické Dolní Kalifornii dává možnost nahlédnout do alba akvarelových kreseb\, jež je dnes známé pod názvem Codex pictoricus Mexicanus a originál se nalézá ve sbírkách Národní knihovny ČR. Jeho autorem je jezuita Ignaz Tirsch (1733–1781)\, který byl nejen misionářem\, ale i architektem\, přírodovědcem a umělcem. Kresby zachycují jak podobu krajiny\, flóry a fauny\, tak i obyvatel mexické Dolní Kalifornie kolem poloviny 18. století a jsou opatřeny stručnými záznamy nebo pouze názvy v indiánských jazycích či v němčině\, částečně proloženými španělskými slovy a pojmy.
URL:https://medievista.cz/akce/stredoveke-cestopisy-beseda-nad-novymi-tituly-edice-itineraria-z-nakladatelstvi-argo-s-odborniky-nejen-z-narodni-knihovny/
LOCATION:Národní knihovna ČR\, Klementinum 190\, Praha 1\, 110 00
CATEGORIES:Přednášky
ORGANIZER;CN="N%C3%A1rodn%C3%AD knihovna %C4%8CR":MAILTO:renata.modrakova@nkp.cz
GEO:50.0868107;14.4164872
X-APPLE-STRUCTURED-LOCATION;VALUE=URI;X-ADDRESS=Národní knihovna ČR Klementinum 190 Praha 1 110 00;X-APPLE-RADIUS=500;X-TITLE=Klementinum 190:geo:14.4164872,50.0868107
END:VEVENT
BEGIN:VEVENT
DTSTART;TZID=Europe/Prague:20260505T090000
DTEND;TZID=Europe/Prague:20260505T180000
DTSTAMP:20260420T190759
CREATED:20260414T173431Z
LAST-MODIFIED:20260414T173442Z
UID:10001980-1777971600-1778004000@medievista.cz
SUMMARY:Tradice a reforma v církevních dějinách
DESCRIPTION:
URL:https://medievista.cz/akce/tradice-a-reforma-v-cirkevnich-dejinach/
LOCATION:Historický ústav AV ČR\, Prosecká 809/76\, Praha 9\, Česká republika
CATEGORIES:Doktorandské,Konference a semináře
ORGANIZER;CN="Historick%C3%BD %C3%BAstav AV %C4%8CR":MAILTO:sekretariat@hiu.cas.cz
GEO:50.1201669;14.5055638
X-APPLE-STRUCTURED-LOCATION;VALUE=URI;X-ADDRESS=Historický ústav AV ČR Prosecká 809/76 Praha 9 Česká republika;X-APPLE-RADIUS=500;X-TITLE=Prosecká 809/76:geo:14.5055638,50.1201669
END:VEVENT
BEGIN:VEVENT
DTSTART;TZID=Europe/Prague:20260514T090000
DTEND;TZID=Europe/Prague:20260514T170000
DTSTAMP:20260420T190759
CREATED:20260414T173803Z
LAST-MODIFIED:20260414T173803Z
UID:10001981-1778749200-1778778000@medievista.cz
SUMMARY:Mezigenerační transfer nejen z genderového hlediska
DESCRIPTION:
URL:https://medievista.cz/akce/mezigeneracni-transfer-nejen-z-genderoveho-hlediska/
LOCATION:Historický ústav AV ČR\, Prosecká 809/76\, Praha 9\, Česká republika
CATEGORIES:Konference a semináře
ORGANIZER;CN="Historick%C3%BD %C3%BAstav AV %C4%8CR":MAILTO:sekretariat@hiu.cas.cz
GEO:50.1201669;14.5055638
X-APPLE-STRUCTURED-LOCATION;VALUE=URI;X-ADDRESS=Historický ústav AV ČR Prosecká 809/76 Praha 9 Česká republika;X-APPLE-RADIUS=500;X-TITLE=Prosecká 809/76:geo:14.5055638,50.1201669
END:VEVENT
BEGIN:VEVENT
DTSTART;TZID=Europe/Prague:20260522T140000
DTEND;TZID=Europe/Prague:20260522T160000
DTSTAMP:20260420T190759
CREATED:20260414T072220Z
LAST-MODIFIED:20260414T072220Z
UID:10001978-1779458400-1779465600@medievista.cz
SUMMARY:Quaestiones Pragenses | Pavel Soukup: Pojetí svědomí v díle a v procesu Jana Husa
DESCRIPTION:Nový meziústavní badatelský seminář pro studium středověké a druhoscholastické filosofie s názvem „Quaestiones Pragenses. Seminář středověké a scholastické filosofie“ společně pořádají Oddělení pro studium antického a středověkého myšlení Filosofického ústavu Akademie věd ČR\, Ústav filosofie a religionistiky Filosofické fakulty Univerzity Karlovy a Katolická teologická fakulta Univerzity Karlovy. \nSeminář pořádá pravidelné přednášky českých i zahraničních badatelů. \nČinnost semináře koordinují: \nPavel Blažek (FLÚ AV ČR) blazek@flu.cas.cz\nAnna Tropia (ÚFAR): Anna.Tropia@ff.cuni.cz\nDavid Svoboda (KTF): david.svoboda@ktf.cuni.cz \nPROGRAM LETNÍHO SEMESTRU (ke stažení) \n❖ Pavel Soukup (CMS\, Filosofický ústav AV ČR\, Praha) Pojetí svědomí v díle a v procesu Jana Husa\nPátek/Friday 22.5.2026\, 14h\, FLÚ AV ČR\, Jilská 1\, Praha\, zasedací místnost 124a \n❖ Lucie Rathouzská (OSASM\, Filosofický ústav AV ČR\, Praha) Pojetí moudrosti u Augustina a Huga ze sv. Viktora\nPátek/Friday 12.6.2026\, 14h\, FLÚ AV ČR\, Jilská 1\, Praha\, zasedací místnost 124a
URL:https://medievista.cz/akce/quaestiones-pragenses-pavel-soukup-pojeti-svedomi-v-dile-a-v-procesu-jana-husa/
LOCATION:Filosofický ústav AV ČR\, Jilská 1\, Praha 1\, Česká republika
CATEGORIES:Přednášky
GEO:50.084422;14.418673
X-APPLE-STRUCTURED-LOCATION;VALUE=URI;X-ADDRESS=Filosofický ústav AV ČR Jilská 1 Praha 1 Česká republika;X-APPLE-RADIUS=500;X-TITLE=Jilská 1:geo:14.418673,50.084422
END:VEVENT
BEGIN:VEVENT
DTSTART;TZID=Europe/Prague:20260612T140000
DTEND;TZID=Europe/Prague:20260612T160000
DTSTAMP:20260420T190759
CREATED:20260414T072350Z
LAST-MODIFIED:20260414T072350Z
UID:10001979-1781272800-1781280000@medievista.cz
SUMMARY: Quaestiones Pragenses | Lucie Rathouzská: Pojetí moudrosti u Augustina a Huga ze sv. Viktora
DESCRIPTION:Nový meziústavní badatelský seminář pro studium středověké a druhoscholastické filosofie s názvem „Quaestiones Pragenses. Seminář středověké a scholastické filosofie“ společně pořádají Oddělení pro studium antického a středověkého myšlení Filosofického ústavu Akademie věd ČR\, Ústav filosofie a religionistiky Filosofické fakulty Univerzity Karlovy a Katolická teologická fakulta Univerzity Karlovy. \nSeminář pořádá pravidelné přednášky českých i zahraničních badatelů. \nČinnost semináře koordinují: \nPavel Blažek (FLÚ AV ČR) blazek@flu.cas.cz\nAnna Tropia (ÚFAR): Anna.Tropia@ff.cuni.cz\nDavid Svoboda (KTF): david.svoboda@ktf.cuni.cz \nPROGRAM LETNÍHO SEMESTRU (ke stažení) \n❖ Lucie Rathouzská (OSASM\, Filosofický ústav AV ČR\, Praha) Pojetí moudrosti u Augustina a Huga ze sv. Viktora\nPátek/Friday 12.6.2026\, 14h\, FLÚ AV ČR\, Jilská 1\, Praha\, zasedací místnost 124a
URL:https://medievista.cz/akce/quaestiones-pragenses-lucie-rathouzska-pojeti-moudrosti-u-augustina-a-huga-ze-sv-viktora/
LOCATION:Filosofický ústav AV ČR\, Jilská 1\, Praha 1\, Česká republika
CATEGORIES:Přednášky
GEO:50.084422;14.418673
X-APPLE-STRUCTURED-LOCATION;VALUE=URI;X-ADDRESS=Filosofický ústav AV ČR Jilská 1 Praha 1 Česká republika;X-APPLE-RADIUS=500;X-TITLE=Jilská 1:geo:14.418673,50.084422
END:VEVENT
BEGIN:VEVENT
DTSTART;TZID=Europe/Prague:20260616T130000
DTEND;TZID=Europe/Prague:20260617T173000
DTSTAMP:20260420T190759
CREATED:20260309T163649Z
LAST-MODIFIED:20260309T163649Z
UID:10001961-1781614800-1781717400@medievista.cz
SUMMARY:Die Schlacht bei Aussig 1426\, die Hussitische Bewegung und der mitteldeutsche Raum
DESCRIPTION:
URL:https://medievista.cz/akce/die-schlacht-bei-aussig-1426-die-hussitische-bewegung-und-der-mitteldeutsche-raum/
LOCATION:Festung Königstein\, Hornkasematten\, Königstein\, 01824\, Germany
CATEGORIES:Konference a semináře
GEO:50.91804;14.0734261
X-APPLE-STRUCTURED-LOCATION;VALUE=URI;X-ADDRESS=Festung Königstein Hornkasematten Königstein 01824 Germany;X-APPLE-RADIUS=500;X-TITLE=Hornkasematten:geo:14.0734261,50.91804
END:VEVENT
BEGIN:VEVENT
DTSTART;TZID=Europe/Prague:20260629T080000
DTEND;TZID=Europe/Prague:20260703T170000
DTSTAMP:20260420T190759
CREATED:20260309T163219Z
LAST-MODIFIED:20260310T090102Z
UID:10001960-1782720000-1783098000@medievista.cz
SUMMARY:Scriptorium Brunense | Letní škola pomocných věd historických
DESCRIPTION: 
URL:https://medievista.cz/akce/scriptorium-brunense-letni-skola-pomocnych-ved-historickych/
LOCATION:Filozofická fakulta Masarykovy univerzity\, Arna Nováka 1\, Brno\, 60200
CATEGORIES:Call for papers,Doktorandské
ORGANIZER;CN="%C3%9Astav pomocn%C3%BDch v%C4%9Bd historick%C3%BDch  a archivnictv%C3%AD FF MU":MAILTO:barova@phil.muni.cz
GEO:49.2005491;16.5983999
X-APPLE-STRUCTURED-LOCATION;VALUE=URI;X-ADDRESS=Filozofická fakulta Masarykovy univerzity Arna Nováka 1 Brno 60200;X-APPLE-RADIUS=500;X-TITLE=Arna Nováka 1:geo:16.5983999,49.2005491
END:VEVENT
END:VCALENDAR